Workbook
Name _R1: 'Criterios de Puntuación'!$K$55
Name _R2: 'Criterios de Puntuación'!$K$56
Name _R3: 'Criterios de Puntuación'!$K$57
Name _R4: 'Criterios de Puntuación'!$K$58
Name _R5: 'Criterios de Puntuación'!$K$59
Name _R6: 'Criterios de Puntuación'!$K$60
Name _S1: 'Criterios de Puntuación'!$M$55
Name _S2: 'Criterios de Puntuación'!$M$56
Name _S3: 'Criterios de Puntuación'!$M$57
Name _S4: 'Criterios de Puntuación'!$M$58
Name _S5: 'Criterios de Puntuación'!$M$59
Name _S6: 'Criterios de Puntuación'!$M$60
Name ACT.: 'Criterios de Puntuación'!$M$46
Name Cif01_: #REF!
Name CP_1: 'Criterios de Puntuación'!$G$21
Name CP_2: 'Criterios de Puntuación'!$G$22
Name Dir_01: #REF!
Name Dur.C: 'Criterios de Puntuación'!$M$21
Name Dur.P: 'Criterios de Puntuación'!$M$22
Name Empresa_01: #REF!
Name Expte.: #REF!
Name HF: 'Criterios de Puntuación'!$M$43
Name HFJ: 'Criterios de Puntuación'!$M$41
Name HJL: 'Criterios de Puntuación'!$M$40
Name HN: 'Criterios de Puntuación'!$M$42
Name Lote: #REF!
Name Me: 'Criterios de Puntuación'!$M$47
Name Na: 'Criterios de Puntuación'!$M$46
Name Nh: 'Criterios de Puntuación'!$M$45
Name Objeto: #REF!
Name Plantilla: 'Criterios de Puntuación'!$D$36
Name PZ: 'Criterios de Puntuación'!$M$49

Sheet Plantilla
B2: CT340-25-087 | E2: 4 | G2: A.M. MANTENIMIENTO PREVENTIVO Y CORRECTIVO DE INSTALACIONES DE BAJA TENSIÓN, ILUMINACIÓN, FOTOVOLTAICA Y SAI. | AD2: prev | AE2: =CP_1 -> 20 | AF2: correc | AG2: =CP_2 -> 50 | AH2: dur.C | AI2: =Dur.C -> 2 | AJ2: pro | AK2: =Dur.P -> 2 | AL2: ACT | AM2: =ACT. -> 125 | AN2: =AM2*(1+(AK2/AI2)) -> 250 | AO2: CHECK | AQ2: =COUNTIF($B$15:$C$1000,"partida")+COUNTIF($B$15:$C$1000,"SUBTOTAL") -> 46 | AR2: =COUNTA($Z$15:$Z$1000) -> 20 | AS2: Plantilla | AU2: =Plantilla -> 1
B4: Empresa: | N4: =$E$12 -> Preventivo | Q4: =IF($AE$2=0,"","Importe TOTAL CONTRATO ("&AI2&" "&'Criterios de Puntuación'!M19&'Criterios de Puntuación'!R19&")") -> Importe TOTAL CONTRATO (2 Años) | AA4: =IF($AE$2=0,"",IF(OR(E4="",E5="",E6="")=TRUE,"Faltan Datos Empresa",IF(AQ2=AR2,SUM(AI12:AM12),"Faltan importes"))) -> Faltan Datos Empresa | AD4: =$E$13 -> Correctivo | AO4: ='Criterios de Puntuación'!$D$51 -> Suministros / Recargas (Sr)
B5: CIF: | Q5: =IF($AE$2=0,"",IF(AK2<>0,"Importe TOTAL CONTRATO + PRORROGAS","")) -> Importe TOTAL CONTRATO + PRORROGAS | AA5: =IF($AE$2=0,"",IF(AK2=0,"",IF(ISTEXT(AA4)=TRUE,AA4,IF(AND(AK2<>"",AK2<>0)=TRUE,SUM(AI12:AR12),"")))) -> Faltan Datos Empresa | AD5: HM | AE5: HJL | AF5: HFJ | AG5: HN | AH5: HF | AI5: DES | AJ5: ME | AK5: DM | AL5: Act. | AM5: PZ | AN5: SUM. | AO5: R6A | AP5: S6A | AQ5: R9A | AR5: S9A | AS5: R2C | AT5: S2C | AU5: R3C | AV5: S3C | AW5: R5C | AX5: S5C | AY5: R25 | AZ5: S25
B6: Dirección | N6: =$E$13 -> Correctivo | Q6: =IF($AG$2=0,"",IF(AM6=0,"Importe TOTAL CONTRATO para VALORACIÓN","Importe TOTAL CONTRATO para VALORACIÓN + PIEZAS")) -> Importe TOTAL CONTRATO para VALORACIÓN + PIEZAS | AA6: =IF($AG$2=0,"",IF(OR(E4="",E5="",E6="")=TRUE,"Faltan Datos Empresa",IF(AQ2=AR2,AL6+AM6+AN6,"Faltan importes"))) -> Faltan Datos Empresa | AD6: =SUMPRODUCT(AE6:AH6,AE7:AH7) -> 0 | AE6: =SUMIF($AG$15:$AG$499,AE$5,$AH$15:$AH$499)/$AU$2 -> 0 | AF6: =SUMIF($AG$15:$AG$499,AF$5,$AH$15:$AH$499)/$AU$2 -> 0 | AG6: =SUMIF($AG$15:$AG$499,AG$5,$AH$15:$AH$499)/$AU$2 -> 0 | AH6: =SUMIF($AG$15:$AG$499,AH$5,$AH$15:$AH$499)/$AU$2 -> 0 | AI6: =SUMIF($AG$15:$AG$500,AI$5,$AH$15:$AH$500) -> 0 | AJ6: =SUMIF($AG$15:$AG$499,AJ$5,$AH$15:$AH$499) -> 0 | AK6: =IFERROR($AI$6/$AI$7,0) -> 0 | AL6: =(AK6+(AD6*AD7)+(AJ6*AJ7))*AM2 -> 0 | AM6: =SUMIF($AG$15:$AG$500,AM$5,$AH$15:$AH$500) -> 57125 | AN6: =SUMPRODUCT(AO6:AZ6,AO7:AZ7) -> 0 | AO6: =SUMIF($AG$15:$AG$502,AO$5,$AH$15:$AH$502) -> 0 | AP6: =SUMIF($AG$15:$AG$502,AP$5,$AH$15:$AH$502) -> 0 | AQ6: =SUMIF($AG$15:$AG$502,AQ$5,$AH$15:$AH$502) -> 0 | AR6: =SUMIF($AG$15:$AG$502,AR$5,$AH$15:$AH$502) -> 0 | AS6: =SUMIF($AG$15:$AG$502,AS$5,$AH$15:$AH$502) -> 0 | AT6: =SUMIF($AG$15:$AG$502,AT$5,$AH$15:$AH$502) -> 0 | AU6: =SUMIF($AG$15:$AG$502,AU$5,$AH$15:$AH$502) -> 0 | AV6: =SUMIF($AG$15:$AG$502,AV$5,$AH$15:$AH$502) -> 0 | ... AZ6: =SUMIF($AG$15:$AG$502,AZ$5,$AH$15:$AH$502) -> 0
B7: =IF($AK$2=0,"● Duración del contrato: "&AI2&" "&'Criterios de Puntuación'!M19&'Criterios de Puntuación'!R19&" (No prorrogable)","● Duración del contrato: "&AI2&" "&'Criterios de Puntuación'!M19&'Criterios de Puntuación'!R19&" + "&AK2&" Posible/s prórroga/s") -> ● Duración del contrato: 2 Años + 2 Posible/s prórroga/s | Q7: =IF($AK$2=0,"",IF($AG$2=0,"",IF(AM6=0,"Importe TOTAL CONTRATO + PRORROGAS para VALORACIÓN","Importe TOTAL CONTRATO + PRORROGAS para VALORACIÓN + PIEZAS"))) -> Importe TOTAL CONTRATO + PRORROGAS para VALORACIÓN + PIEZAS | AA7: =IF(AK2=0,"",IF($AG$2=0,"",IF(OR(E4="",E5="",E6="")=TRUE,"Faltan Datos Empresa",IF(AQ2=AR2,AL7+AM7+AN7,"Faltan importes")))) -> Faltan Datos Empresa | AD7: =Nh -> 6 | AE7: =HJL -> 0.65 | AF7: =HFJ -> 0.2 | AG7: =HN -> 0.1 | AH7: =HF -> 0.05 | AI7: =COUNTIF($AG$15:AG503,$AI$5) -> 18 | AJ7: =Me -> 0.3 | AL7: =(AK6+(AD6*AD7)+(AJ6*AJ7))*AN2 -> 0 | AM7: =(AM6/$AI$2)*($AI$2+$AK$2) -> 114250 | AN7: =(AN6/$AI$2)*($AI$2+$AK$2) -> 0 | AO7: =_R1 -> 1 | AP7: =_S1 -> 10 | AQ7: =_R2 -> 2 | AR7: =_S2 -> 11 | AS7: =_R3 -> 3 | AT7: =_S3 -> 12 | AU7: =_R4 -> 4 | AV7: =_S4 -> 13 | AW7: =_R5 -> 5 | AX7: =_S5 -> 14 | AY7: =_R6 -> 6 | AZ7: =_S6 -> 15
B9: NOTA: | D9: =IF($AU$2=1,"* No se podrá superar los importes máximos indicados en cada una de las partidas.","* El importe de la hora de peón, no puede ser inferior a un 50% del importe de la hora de oficial en cada uno de los tramos horarios. // No se podrá superar los importes máximos indicados en cada una de las partidas.") -> * No se podrá superar los importes máximos indicados en cada una de las partidas. | AD9: ← PARTIDAS | AE9: ="← "&$E$13 -> ← Correctivo | AI9: ='Criterios de Puntuación'!$D$21 -> Preventivo
D10: * Cumplimentar todas las casillas de color amarillo. En el caso de que no estén cumplimentadas todos los importes aparecerá un mensaje de error "Faltan importes" | AI10: CONTRATO | AN10: PRORROGA
B12: Tipo | D12: Código | E12: =IF('Criterios de Puntuación'!$G$21=0,"",'Criterios de Puntuación'!$D$21) -> Preventivo | F12: Provincia | G12: Centro/Tipo | I12: Descripción | S12: Actuaciones | X12: Unidad | Y12: Imp. Max. | Z12: Imp. Unitario OFERTADO | AA12: Total | AI12: =IF(AI$13="","",SUM(AI$14:AI$1000)) -> 0 | AJ12: =IF(AJ$13="","",SUM(AJ$14:AJ$1000)) -> 0 | AK12: =IF(AK$13="","",SUM(AK$14:AK$1000)) | AL12: =IF(AL$13="","",SUM(AL$14:AL$1000)) | AM12: =IF(AM$13="","",SUM(AM$14:AM$1000)) | AN12: =IF(AN$13="","",SUM(AN$14:AN$1000)) | AO12: =IF(AO$13="","",SUM(AO$14:AO$1000)) | AP12: =IF(AP$13="","",SUM(AP$14:AP$1000)) -> 0 | ... AR12: =IF(AR$13="","",SUM(AR$14:AR$1000))
E13: =IF('Criterios de Puntuación'!$G$22=0,"",'Criterios de Puntuación'!$D$22) -> Correctivo | S13: ='Criterios de Puntuación'!U21 -> Año1 | T13: ='Criterios de Puntuación'!U22 -> Año2 | U13: ='Criterios de Puntuación'!U23 -> pro1 | V13: ='Criterios de Puntuación'!U24 -> pro2 | W13: ='Criterios de Puntuación'!U25 | AA13: Contrato | AB13: Cto. + Prorroga | AI13: =IF(MID(S13,1,3)=MID('Criterios de Puntuación'!$M$19,1,3),1,"") -> 1 | AJ13: =IF(MID(T13,1,3)=MID('Criterios de Puntuación'!$M$19,1,3),2,"") -> 2 | AK13: =IF(MID(U13,1,3)=MID('Criterios de Puntuación'!$M$19,1,3),3,"") | AL13: =IF(MID(V13,1,3)=MID('Criterios de Puntuación'!$M$19,1,3),4,"") | AM13: =IF(MID(W13,1,3)=MID('Criterios de Puntuación'!$M$19,1,3),5,"") | AN13: =IF(MID(S13,1,3)="pro",1,"") | AO13: =IF(MID(T13,1,3)="pro",2,"") | AP13: =IF(MID(U13,1,3)="pro",3,"") -> 3 | AQ13: =IF(MID(V13,1,3)="pro",4,"") -> 4 | AR13: =IF(MID(W13,1,3)="pro",5,"")
B15: Capítulo | D15: 01 | E15: Preventivo | I15: MANTENIMIENTO PREVENTIVO | AA15: =IFERROR(IF(OR(B15="",B15="SUBTOTAL"),"",IF(AND(B15="Capítulo",E15=E$12),SUMIF(AD$15:AD$500,D15,AA$15:AA$500),IF(E15=E$13,AE15*Z15,SUM(AI15:AM15)))),"") -> 0 | AB15: =IFERROR(IF(OR(AK$2=0,B15="",B15="SUBTOTAL"),"",IF(AND(B15="Capítulo",E15=E$12),SUMIF(AD$15:AD$500,D15,AB$15:AB$500),IF(E15=E$13,AF15*Z15,SUM(AI15:AR15)))),"") -> 0 | AD15: =IF(B15="PARTIDA",MID(D15,1,2),"") | AE15: =IF(AND($E15=$E$13,$B15="PARTIDA"),IF($G15="PZ",$AM$2,1),"") | AF15: =IF(AND($E15=$E$13,$B15="PARTIDA"),IF($G15="PZ",$AN$2,1),"") | AG15: =IF(E15=$E$13,MID($G15,1,3),"") | AH15: =IF(E15=$E$13,AA15,"") | AI15: =IF(OR(AI$13="",S15="",$E15=$E$13,$B15<>"partida"),"",S15*$Z15) | AJ15: =IF(OR(AJ$13="",T15="",$E15=$E$13,$B15<>"partida"),"",T15*$Z15) | AK15: =IF(OR(AK$13="",U15="",$E15=$E$13,$B15<>"partida"),"",U15*$Z15) | AL15: =IF(OR(AL$13="",V15="",$E15=$E$13,$B15<>"partida"),"",V15*$Z15) | AM15: =IF(OR(AM$13="",W15="",$E15=$E$13,$B15<>"partida"),"",W15*$Z15) | AN15: =IF(OR(AN$13="",S15="",$E15=$E$13,$B15<>"partida"),"",S15*$Z15) | AO15: =IF(OR(AO$13="",T15="",$E15=$E$13,$B15<>"partida"),"",T15*$Z15) | AP15: =IF(OR(AP$13="",U15="",$E15=$E$13,$B15<>"partida"),"",U15*$Z15) | AQ15: =IF(OR(AQ$13="",V15="",$E15=$E$13,$B15<>"partida"),"",V15*$Z15) | AR15: =IF(OR(AR$13="",W15="",$E15=$E$13,$B15<>"partida"),"",W15*$Z15)
B16: Subtotal | D16: 01.01 | E16: Preventivo | I16: MANTENIMIENTO PREVENTIVO TIPO 1 | Y16: 1200 | AA16: =IFERROR(IF(OR(B16="",B16="SUBTOTAL"),"",IF(AND(B16="Capítulo",E16=E$12),SUMIF(AD$15:AD$500,D16,AA$15:AA$500),IF(E16=E$13,AE16*Z16,SUM(AI16:AM16)))),"") | AB16: =IFERROR(IF(OR(AK$2=0,B16="",B16="SUBTOTAL"),"",IF(AND(B16="Capítulo",E16=E$12),SUMIF(AD$15:AD$500,D16,AB$15:AB$500),IF(E16=E$13,AF16*Z16,SUM(AI16:AR16)))),"") | AD16: =IF(B16="PARTIDA",MID(D16,1,2),"") | AE16: =IF(AND($E16=$E$13,$B16="PARTIDA"),IF($G16="PZ",$AM$2,1),"") | AF16: =IF(AND($E16=$E$13,$B16="PARTIDA"),IF($G16="PZ",$AN$2,1),"") | AG16: =IF(E16=$E$13,MID($G16,1,3),"") | AH16: =IF(E16=$E$13,AA16,"") | AI16: =IF(OR(AI$13="",S16="",$E16=$E$13,$B16<>"partida"),"",S16*$Z16) | AJ16: =IF(OR(AJ$13="",T16="",$E16=$E$13,$B16<>"partida"),"",T16*$Z16) | AK16: =IF(OR(AK$13="",U16="",$E16=$E$13,$B16<>"partida"),"",U16*$Z16) | AL16: =IF(OR(AL$13="",V16="",$E16=$E$13,$B16<>"partida"),"",V16*$Z16) | AM16: =IF(OR(AM$13="",W16="",$E16=$E$13,$B16<>"partida"),"",W16*$Z16) | AN16: =IF(OR(AN$13="",S16="",$E16=$E$13,$B16<>"partida"),"",S16*$Z16) | AO16: =IF(OR(AO$13="",T16="",$E16=$E$13,$B16<>"partida"),"",T16*$Z16) | AP16: =IF(OR(AP$13="",U16="",$E16=$E$13,$B16<>"partida"),"",U16*$Z16) | AQ16: =IF(OR(AQ$13="",V16="",$E16=$E$13,$B16<>"partida"),"",V16*$Z16) | AR16: =IF(OR(AR$13="",W16="",$E16=$E$13,$B16<>"partida"),"",W16*$Z16)
B17: Partida | D17: 01.01.01 | E17: Preventivo | F17: AL | G17: ITV | H17: Almería 1 | I17: Preventivo Anual Instalación BT, iluminación, fotovoltaica y SAI | S17: 1 | T17: 1 | U17: 1 | V17: 1 | X17: €/Rev | Z17: =$Z$16 -> 0 | AA17: =IFERROR(IF(OR(B17="",B17="SUBTOTAL"),"",IF(AND(B17="Capítulo",E17=E$12),SUMIF(AD$15:AD$500,D17,AA$15:AA$500),IF(E17=E$13,AE17*Z17,SUM(AI17:AM17)))),"") -> 0 | AB17: =IFERROR(IF(OR(AK$2=0,B17="",B17="SUBTOTAL"),"",IF(AND(B17="Capítulo",E17=E$12),SUMIF(AD$15:AD$500,D17,AB$15:AB$500),IF(E17=E$13,AF17*Z17,SUM(AI17:AR17)))),"") -> 0 | AD17: =IF(B17="PARTIDA",MID(D17,1,2),"") -> 01 | AE17: =IF(AND($E17=$E$13,$B17="PARTIDA"),IF($G17="PZ",$AM$2,1),"") | AF17: =IF(AND($E17=$E$13,$B17="PARTIDA"),IF($G17="PZ",$AN$2,1),"") | AG17: =IF(E17=$E$13,MID($G17,1,3),"") | AH17: =IF(E17=$E$13,AA17,"") | AI17: =IF(OR(AI$13="",S17="",$E17=$E$13,$B17<>"partida"),"",S17*$Z17) -> 0 | AJ17: =IF(OR(AJ$13="",T17="",$E17=$E$13,$B17<>"partida"),"",T17*$Z17) -> 0 | AK17: =IF(OR(AK$13="",U17="",$E17=$E$13,$B17<>"partida"),"",U17*$Z17) | AL17: =IF(OR(AL$13="",V17="",$E17=$E$13,$B17<>"partida"),"",V17*$Z17) | AM17: =IF(OR(AM$13="",W17="",$E17=$E$13,$B17<>"partida"),"",W17*$Z17) | AN17: =IF(OR(AN$13="",S17="",$E17=$E$13,$B17<>"partida"),"",S17*$Z17) | AO17: =IF(OR(AO$13="",T17="",$E17=$E$13,$B17<>"partida"),"",T17*$Z17) | AP17: =IF(OR(AP$13="",U17="",$E17=$E$13,$B17<>"partida"),"",U17*$Z17) -> 0 | AQ17: =IF(OR(AQ$13="",V17="",$E17=$E$13,$B17<>"partida"),"",V17*$Z17) -> 0 | AR17: =IF(OR(AR$13="",W17="",$E17=$E$13,$B17<>"partida"),"",W17*$Z17)
B18: Partida | D18: 01.01.02 | E18: Preventivo | F18: GR | G18: ITV | H18: Peligros | I18: Preventivo Anual Instalación BT, iluminación, fotovoltaica y SAI | S18: 1 | T18: 1 | U18: 1 | V18: 1 | X18: €/Rev | Z18: =$Z$16 -> 0 | AA18: =IFERROR(IF(OR(B18="",B18="SUBTOTAL"),"",IF(AND(B18="Capítulo",E18=E$12),SUMIF(AD$15:AD$500,D18,AA$15:AA$500),IF(E18=E$13,AE18*Z18,SUM(AI18:AM18)))),"") -> 0 | AB18: =IFERROR(IF(OR(AK$2=0,B18="",B18="SUBTOTAL"),"",IF(AND(B18="Capítulo",E18=E$12),SUMIF(AD$15:AD$500,D18,AB$15:AB$500),IF(E18=E$13,AF18*Z18,SUM(AI18:AR18)))),"") -> 0 | AD18: =IF(B18="PARTIDA",MID(D18,1,2),"") -> 01 | AE18: =IF(AND($E18=$E$13,$B18="PARTIDA"),IF($G18="PZ",$AM$2,1),"") | AF18: =IF(AND($E18=$E$13,$B18="PARTIDA"),IF($G18="PZ",$AN$2,1),"") | AG18: =IF(E18=$E$13,MID($G18,1,3),"") | AH18: =IF(E18=$E$13,AA18,"") | AI18: =IF(OR(AI$13="",S18="",$E18=$E$13,$B18<>"partida"),"",S18*$Z18) -> 0 | AJ18: =IF(OR(AJ$13="",T18="",$E18=$E$13,$B18<>"partida"),"",T18*$Z18) -> 0 | AK18: =IF(OR(AK$13="",U18="",$E18=$E$13,$B18<>"partida"),"",U18*$Z18) | AL18: =IF(OR(AL$13="",V18="",$E18=$E$13,$B18<>"partida"),"",V18*$Z18) | AM18: =IF(OR(AM$13="",W18="",$E18=$E$13,$B18<>"partida"),"",W18*$Z18) | AN18: =IF(OR(AN$13="",S18="",$E18=$E$13,$B18<>"partida"),"",S18*$Z18) | AO18: =IF(OR(AO$13="",T18="",$E18=$E$13,$B18<>"partida"),"",T18*$Z18) | AP18: =IF(OR(AP$13="",U18="",$E18=$E$13,$B18<>"partida"),"",U18*$Z18) -> 0 | AQ18: =IF(OR(AQ$13="",V18="",$E18=$E$13,$B18<>"partida"),"",V18*$Z18) -> 0 | AR18: =IF(OR(AR$13="",W18="",$E18=$E$13,$B18<>"partida"),"",W18*$Z18)
B19: Subtotal | D19: 01.02.01 | E19: Preventivo | I19: MANTENIMIENTO PREVENTIVO TIPO 2 | Y19: 750 | AA19: =IFERROR(IF(OR(B19="",B19="SUBTOTAL"),"",IF(AND(B19="Capítulo",E19=E$12),SUMIF(AD$15:AD$500,D19,AA$15:AA$500),IF(E19=E$13,AE19*Z19,SUM(AI19:AM19)))),"") | AB19: =IFERROR(IF(OR(AK$2=0,B19="",B19="SUBTOTAL"),"",IF(AND(B19="Capítulo",E19=E$12),SUMIF(AD$15:AD$500,D19,AB$15:AB$500),IF(E19=E$13,AF19*Z19,SUM(AI19:AR19)))),"") | AD19: =IF(B19="PARTIDA",MID(D19,1,2),"") | AE19: =IF(AND($E19=$E$13,$B19="PARTIDA"),IF($G19="PZ",$AM$2,1),"") | AF19: =IF(AND($E19=$E$13,$B19="PARTIDA"),IF($G19="PZ",$AN$2,1),"") | AG19: =IF(E19=$E$13,MID($G19,1,3),"") | AH19: =IF(E19=$E$13,AA19,"") | AI19: =IF(OR(AI$13="",S19="",$E19=$E$13,$B19<>"partida"),"",S19*$Z19) | AJ19: =IF(OR(AJ$13="",T19="",$E19=$E$13,$B19<>"partida"),"",T19*$Z19) | AK19: =IF(OR(AK$13="",U19="",$E19=$E$13,$B19<>"partida"),"",U19*$Z19) | AL19: =IF(OR(AL$13="",V19="",$E19=$E$13,$B19<>"partida"),"",V19*$Z19) | AM19: =IF(OR(AM$13="",W19="",$E19=$E$13,$B19<>"partida"),"",W19*$Z19) | AN19: =IF(OR(AN$13="",S19="",$E19=$E$13,$B19<>"partida"),"",S19*$Z19) | AO19: =IF(OR(AO$13="",T19="",$E19=$E$13,$B19<>"partida"),"",T19*$Z19) | AP19: =IF(OR(AP$13="",U19="",$E19=$E$13,$B19<>"partida"),"",U19*$Z19) | AQ19: =IF(OR(AQ$13="",V19="",$E19=$E$13,$B19<>"partida"),"",V19*$Z19) | AR19: =IF(OR(AR$13="",W19="",$E19=$E$13,$B19<>"partida"),"",W19*$Z19)
B20: Partida | D20: 01.02.02 | E20: Preventivo | F20: AL | G20: ITV | H20: Almería 2 | I20: Preventivo Anual Instalación BT, iluminación, fotovoltaica y SAI | S20: 1 | T20: 1 | U20: 1 | V20: 1 | X20: €/Rev | Z20: =$Z$19 -> 0 | AA20: =IFERROR(IF(OR(B20="",B20="SUBTOTAL"),"",IF(AND(B20="Capítulo",E20=E$12),SUMIF(AD$15:AD$500,D20,AA$15:AA$500),IF(E20=E$13,AE20*Z20,SUM(AI20:AM20)))),"") -> 0 | AB20: =IFERROR(IF(OR(AK$2=0,B20="",B20="SUBTOTAL"),"",IF(AND(B20="Capítulo",E20=E$12),SUMIF(AD$15:AD$500,D20,AB$15:AB$500),IF(E20=E$13,AF20*Z20,SUM(AI20:AR20)))),"") -> 0 | AD20: =IF(B20="PARTIDA",MID(D20,1,2),"") -> 01 | AE20: =IF(AND($E20=$E$13,$B20="PARTIDA"),IF($G20="PZ",$AM$2,1),"") | AF20: =IF(AND($E20=$E$13,$B20="PARTIDA"),IF($G20="PZ",$AN$2,1),"") | AG20: =IF(E20=$E$13,MID($G20,1,3),"") | AH20: =IF(E20=$E$13,AA20,"") | AI20: =IF(OR(AI$13="",S20="",$E20=$E$13,$B20<>"partida"),"",S20*$Z20) -> 0 | AJ20: =IF(OR(AJ$13="",T20="",$E20=$E$13,$B20<>"partida"),"",T20*$Z20) -> 0 | AK20: =IF(OR(AK$13="",U20="",$E20=$E$13,$B20<>"partida"),"",U20*$Z20) | AL20: =IF(OR(AL$13="",V20="",$E20=$E$13,$B20<>"partida"),"",V20*$Z20) | AM20: =IF(OR(AM$13="",W20="",$E20=$E$13,$B20<>"partida"),"",W20*$Z20) | AN20: =IF(OR(AN$13="",S20="",$E20=$E$13,$B20<>"partida"),"",S20*$Z20) | AO20: =IF(OR(AO$13="",T20="",$E20=$E$13,$B20<>"partida"),"",T20*$Z20) | AP20: =IF(OR(AP$13="",U20="",$E20=$E$13,$B20<>"partida"),"",U20*$Z20) -> 0 | AQ20: =IF(OR(AQ$13="",V20="",$E20=$E$13,$B20<>"partida"),"",V20*$Z20) -> 0 | AR20: =IF(OR(AR$13="",W20="",$E20=$E$13,$B20<>"partida"),"",W20*$Z20)
B21: Partida | D21: 01.02.03 | E21: Preventivo | F21: AL | G21: ITV | H21: Vícar | I21: Preventivo Anual Instalación BT, iluminación, fotovoltaica y SAI | S21: 1 | T21: 1 | U21: 1 | V21: 1 | X21: €/Rev | Z21: =$Z$19 -> 0 | AA21: =IFERROR(IF(OR(B21="",B21="SUBTOTAL"),"",IF(AND(B21="Capítulo",E21=E$12),SUMIF(AD$15:AD$500,D21,AA$15:AA$500),IF(E21=E$13,AE21*Z21,SUM(AI21:AM21)))),"") -> 0 | AB21: =IFERROR(IF(OR(AK$2=0,B21="",B21="SUBTOTAL"),"",IF(AND(B21="Capítulo",E21=E$12),SUMIF(AD$15:AD$500,D21,AB$15:AB$500),IF(E21=E$13,AF21*Z21,SUM(AI21:AR21)))),"") -> 0 | AD21: =IF(B21="PARTIDA",MID(D21,1,2),"") -> 01 | AE21: =IF(AND($E21=$E$13,$B21="PARTIDA"),IF($G21="PZ",$AM$2,1),"") | AF21: =IF(AND($E21=$E$13,$B21="PARTIDA"),IF($G21="PZ",$AN$2,1),"") | AG21: =IF(E21=$E$13,MID($G21,1,3),"") | AH21: =IF(E21=$E$13,AA21,"") | AI21: =IF(OR(AI$13="",S21="",$E21=$E$13,$B21<>"partida"),"",S21*$Z21) -> 0 | AJ21: =IF(OR(AJ$13="",T21="",$E21=$E$13,$B21<>"partida"),"",T21*$Z21) -> 0 | AK21: =IF(OR(AK$13="",U21="",$E21=$E$13,$B21<>"partida"),"",U21*$Z21) | AL21: =IF(OR(AL$13="",V21="",$E21=$E$13,$B21<>"partida"),"",V21*$Z21) | AM21: =IF(OR(AM$13="",W21="",$E21=$E$13,$B21<>"partida"),"",W21*$Z21) | AN21: =IF(OR(AN$13="",S21="",$E21=$E$13,$B21<>"partida"),"",S21*$Z21) | AO21: =IF(OR(AO$13="",T21="",$E21=$E$13,$B21<>"partida"),"",T21*$Z21) | AP21: =IF(OR(AP$13="",U21="",$E21=$E$13,$B21<>"partida"),"",U21*$Z21) -> 0 | AQ21: =IF(OR(AQ$13="",V21="",$E21=$E$13,$B21<>"partida"),"",V21*$Z21) -> 0 | AR21: =IF(OR(AR$13="",W21="",$E21=$E$13,$B21<>"partida"),"",W21*$Z21)
B22: Partida | D22: 01.02.04 | E22: Preventivo | F22: AL | G22: ITV | H22: Balanegra | I22: Preventivo Anual Instalación BT, iluminación, fotovoltaica y SAI | S22: 1 | T22: 1 | U22: 1 | V22: 1 | X22: €/Rev | Z22: =$Z$19 -> 0 | AA22: =IFERROR(IF(OR(B22="",B22="SUBTOTAL"),"",IF(AND(B22="Capítulo",E22=E$12),SUMIF(AD$15:AD$500,D22,AA$15:AA$500),IF(E22=E$13,AE22*Z22,SUM(AI22:AM22)))),"") -> 0 | AB22: =IFERROR(IF(OR(AK$2=0,B22="",B22="SUBTOTAL"),"",IF(AND(B22="Capítulo",E22=E$12),SUMIF(AD$15:AD$500,D22,AB$15:AB$500),IF(E22=E$13,AF22*Z22,SUM(AI22:AR22)))),"") -> 0 | AD22: =IF(B22="PARTIDA",MID(D22,1,2),"") -> 01 | AE22: =IF(AND($E22=$E$13,$B22="PARTIDA"),IF($G22="PZ",$AM$2,1),"") | AF22: =IF(AND($E22=$E$13,$B22="PARTIDA"),IF($G22="PZ",$AN$2,1),"") | AG22: =IF(E22=$E$13,MID($G22,1,3),"") | AH22: =IF(E22=$E$13,AA22,"") | AI22: =IF(OR(AI$13="",S22="",$E22=$E$13,$B22<>"partida"),"",S22*$Z22) -> 0 | AJ22: =IF(OR(AJ$13="",T22="",$E22=$E$13,$B22<>"partida"),"",T22*$Z22) -> 0 | AK22: =IF(OR(AK$13="",U22="",$E22=$E$13,$B22<>"partida"),"",U22*$Z22) | AL22: =IF(OR(AL$13="",V22="",$E22=$E$13,$B22<>"partida"),"",V22*$Z22) | AM22: =IF(OR(AM$13="",W22="",$E22=$E$13,$B22<>"partida"),"",W22*$Z22) | AN22: =IF(OR(AN$13="",S22="",$E22=$E$13,$B22<>"partida"),"",S22*$Z22) | AO22: =IF(OR(AO$13="",T22="",$E22=$E$13,$B22<>"partida"),"",T22*$Z22) | AP22: =IF(OR(AP$13="",U22="",$E22=$E$13,$B22<>"partida"),"",U22*$Z22) -> 0 | AQ22: =IF(OR(AQ$13="",V22="",$E22=$E$13,$B22<>"partida"),"",V22*$Z22) -> 0 | AR22: =IF(OR(AR$13="",W22="",$E22=$E$13,$B22<>"partida"),"",W22*$Z22)
B23: Partida | D23: 01.02.05 | E23: Preventivo | F23: AL | G23: ITV | H23: Las Tres Villas | I23: Preventivo Anual Instalación BT, iluminación, fotovoltaica y SAI | S23: 1 | T23: 1 | U23: 1 | V23: 1 | X23: €/Rev | Z23: =$Z$19 -> 0 | AA23: =IFERROR(IF(OR(B23="",B23="SUBTOTAL"),"",IF(AND(B23="Capítulo",E23=E$12),SUMIF(AD$15:AD$500,D23,AA$15:AA$500),IF(E23=E$13,AE23*Z23,SUM(AI23:AM23)))),"") -> 0 | AB23: =IFERROR(IF(OR(AK$2=0,B23="",B23="SUBTOTAL"),"",IF(AND(B23="Capítulo",E23=E$12),SUMIF(AD$15:AD$500,D23,AB$15:AB$500),IF(E23=E$13,AF23*Z23,SUM(AI23:AR23)))),"") -> 0 | AD23: =IF(B23="PARTIDA",MID(D23,1,2),"") -> 01 | AE23: =IF(AND($E23=$E$13,$B23="PARTIDA"),IF($G23="PZ",$AM$2,1),"") | AF23: =IF(AND($E23=$E$13,$B23="PARTIDA"),IF($G23="PZ",$AN$2,1),"") | AG23: =IF(E23=$E$13,MID($G23,1,3),"") | AH23: =IF(E23=$E$13,AA23,"") | AI23: =IF(OR(AI$13="",S23="",$E23=$E$13,$B23<>"partida"),"",S23*$Z23) -> 0 | AJ23: =IF(OR(AJ$13="",T23="",$E23=$E$13,$B23<>"partida"),"",T23*$Z23) -> 0 | AK23: =IF(OR(AK$13="",U23="",$E23=$E$13,$B23<>"partida"),"",U23*$Z23) | AL23: =IF(OR(AL$13="",V23="",$E23=$E$13,$B23<>"partida"),"",V23*$Z23) | AM23: =IF(OR(AM$13="",W23="",$E23=$E$13,$B23<>"partida"),"",W23*$Z23) | AN23: =IF(OR(AN$13="",S23="",$E23=$E$13,$B23<>"partida"),"",S23*$Z23) | AO23: =IF(OR(AO$13="",T23="",$E23=$E$13,$B23<>"partida"),"",T23*$Z23) | AP23: =IF(OR(AP$13="",U23="",$E23=$E$13,$B23<>"partida"),"",U23*$Z23) -> 0 | AQ23: =IF(OR(AQ$13="",V23="",$E23=$E$13,$B23<>"partida"),"",V23*$Z23) -> 0 | AR23: =IF(OR(AR$13="",W23="",$E23=$E$13,$B23<>"partida"),"",W23*$Z23)
B24: Partida | D24: 01.02.06 | E24: Preventivo | F24: AL | G24: ITV | H24: Níjar | I24: Preventivo Anual Instalación BT, iluminación, fotovoltaica y SAI | S24: 1 | T24: 1 | U24: 1 | V24: 1 | X24: €/Rev | Z24: =$Z$19 -> 0 | AA24: =IFERROR(IF(OR(B24="",B24="SUBTOTAL"),"",IF(AND(B24="Capítulo",E24=E$12),SUMIF(AD$15:AD$500,D24,AA$15:AA$500),IF(E24=E$13,AE24*Z24,SUM(AI24:AM24)))),"") -> 0 | AB24: =IFERROR(IF(OR(AK$2=0,B24="",B24="SUBTOTAL"),"",IF(AND(B24="Capítulo",E24=E$12),SUMIF(AD$15:AD$500,D24,AB$15:AB$500),IF(E24=E$13,AF24*Z24,SUM(AI24:AR24)))),"") -> 0 | AD24: =IF(B24="PARTIDA",MID(D24,1,2),"") -> 01 | AE24: =IF(AND($E24=$E$13,$B24="PARTIDA"),IF($G24="PZ",$AM$2,1),"") | AF24: =IF(AND($E24=$E$13,$B24="PARTIDA"),IF($G24="PZ",$AN$2,1),"") | AG24: =IF(E24=$E$13,MID($G24,1,3),"") | AH24: =IF(E24=$E$13,AA24,"") | AI24: =IF(OR(AI$13="",S24="",$E24=$E$13,$B24<>"partida"),"",S24*$Z24) -> 0 | AJ24: =IF(OR(AJ$13="",T24="",$E24=$E$13,$B24<>"partida"),"",T24*$Z24) -> 0 | AK24: =IF(OR(AK$13="",U24="",$E24=$E$13,$B24<>"partida"),"",U24*$Z24) | AL24: =IF(OR(AL$13="",V24="",$E24=$E$13,$B24<>"partida"),"",V24*$Z24) | AM24: =IF(OR(AM$13="",W24="",$E24=$E$13,$B24<>"partida"),"",W24*$Z24) | AN24: =IF(OR(AN$13="",S24="",$E24=$E$13,$B24<>"partida"),"",S24*$Z24) | AO24: =IF(OR(AO$13="",T24="",$E24=$E$13,$B24<>"partida"),"",T24*$Z24) | AP24: =IF(OR(AP$13="",U24="",$E24=$E$13,$B24<>"partida"),"",U24*$Z24) -> 0 | AQ24: =IF(OR(AQ$13="",V24="",$E24=$E$13,$B24<>"partida"),"",V24*$Z24) -> 0 | AR24: =IF(OR(AR$13="",W24="",$E24=$E$13,$B24<>"partida"),"",W24*$Z24)
B25: Partida | D25: 01.02.07 | E25: Preventivo | F25: AL | G25: ITV | H25: Vera | I25: Preventivo Anual Instalación BT, iluminación, fotovoltaica y SAI | S25: 1 | T25: 1 | U25: 1 | V25: 1 | X25: €/Rev | Z25: =$Z$19 -> 0 | AA25: =IFERROR(IF(OR(B25="",B25="SUBTOTAL"),"",IF(AND(B25="Capítulo",E25=E$12),SUMIF(AD$15:AD$500,D25,AA$15:AA$500),IF(E25=E$13,AE25*Z25,SUM(AI25:AM25)))),"") -> 0 | AB25: =IFERROR(IF(OR(AK$2=0,B25="",B25="SUBTOTAL"),"",IF(AND(B25="Capítulo",E25=E$12),SUMIF(AD$15:AD$500,D25,AB$15:AB$500),IF(E25=E$13,AF25*Z25,SUM(AI25:AR25)))),"") -> 0 | AD25: =IF(B25="PARTIDA",MID(D25,1,2),"") -> 01 | AE25: =IF(AND($E25=$E$13,$B25="PARTIDA"),IF($G25="PZ",$AM$2,1),"") | AF25: =IF(AND($E25=$E$13,$B25="PARTIDA"),IF($G25="PZ",$AN$2,1),"") | AG25: =IF(E25=$E$13,MID($G25,1,3),"") | AH25: =IF(E25=$E$13,AA25,"") | AI25: =IF(OR(AI$13="",S25="",$E25=$E$13,$B25<>"partida"),"",S25*$Z25) -> 0 | AJ25: =IF(OR(AJ$13="",T25="",$E25=$E$13,$B25<>"partida"),"",T25*$Z25) -> 0 | AK25: =IF(OR(AK$13="",U25="",$E25=$E$13,$B25<>"partida"),"",U25*$Z25) | AL25: =IF(OR(AL$13="",V25="",$E25=$E$13,$B25<>"partida"),"",V25*$Z25) | AM25: =IF(OR(AM$13="",W25="",$E25=$E$13,$B25<>"partida"),"",W25*$Z25) | AN25: =IF(OR(AN$13="",S25="",$E25=$E$13,$B25<>"partida"),"",S25*$Z25) | AO25: =IF(OR(AO$13="",T25="",$E25=$E$13,$B25<>"partida"),"",T25*$Z25) | AP25: =IF(OR(AP$13="",U25="",$E25=$E$13,$B25<>"partida"),"",U25*$Z25) -> 0 | AQ25: =IF(OR(AQ$13="",V25="",$E25=$E$13,$B25<>"partida"),"",V25*$Z25) -> 0 | AR25: =IF(OR(AR$13="",W25="",$E25=$E$13,$B25<>"partida"),"",W25*$Z25)
B26: Partida | D26: 01.02.08 | E26: Preventivo | F26: AL | G26: ITV | H26: Albox | I26: Preventivo Anual Instalación BT, iluminación, fotovoltaica y SAI | S26: 1 | T26: 1 | U26: 1 | V26: 1 | X26: €/Rev | Z26: =$Z$19 -> 0 | AA26: =IFERROR(IF(OR(B26="",B26="SUBTOTAL"),"",IF(AND(B26="Capítulo",E26=E$12),SUMIF(AD$15:AD$500,D26,AA$15:AA$500),IF(E26=E$13,AE26*Z26,SUM(AI26:AM26)))),"") -> 0 | AB26: =IFERROR(IF(OR(AK$2=0,B26="",B26="SUBTOTAL"),"",IF(AND(B26="Capítulo",E26=E$12),SUMIF(AD$15:AD$500,D26,AB$15:AB$500),IF(E26=E$13,AF26*Z26,SUM(AI26:AR26)))),"") -> 0 | AD26: =IF(B26="PARTIDA",MID(D26,1,2),"") -> 01 | AE26: =IF(AND($E26=$E$13,$B26="PARTIDA"),IF($G26="PZ",$AM$2,1),"") | AF26: =IF(AND($E26=$E$13,$B26="PARTIDA"),IF($G26="PZ",$AN$2,1),"") | AG26: =IF(E26=$E$13,MID($G26,1,3),"") | AH26: =IF(E26=$E$13,AA26,"") | AI26: =IF(OR(AI$13="",S26="",$E26=$E$13,$B26<>"partida"),"",S26*$Z26) -> 0 | AJ26: =IF(OR(AJ$13="",T26="",$E26=$E$13,$B26<>"partida"),"",T26*$Z26) -> 0 | AK26: =IF(OR(AK$13="",U26="",$E26=$E$13,$B26<>"partida"),"",U26*$Z26) | AL26: =IF(OR(AL$13="",V26="",$E26=$E$13,$B26<>"partida"),"",V26*$Z26) | AM26: =IF(OR(AM$13="",W26="",$E26=$E$13,$B26<>"partida"),"",W26*$Z26) | AN26: =IF(OR(AN$13="",S26="",$E26=$E$13,$B26<>"partida"),"",S26*$Z26) | AO26: =IF(OR(AO$13="",T26="",$E26=$E$13,$B26<>"partida"),"",T26*$Z26) | AP26: =IF(OR(AP$13="",U26="",$E26=$E$13,$B26<>"partida"),"",U26*$Z26) -> 0 | AQ26: =IF(OR(AQ$13="",V26="",$E26=$E$13,$B26<>"partida"),"",V26*$Z26) -> 0 | AR26: =IF(OR(AR$13="",W26="",$E26=$E$13,$B26<>"partida"),"",W26*$Z26)
B27: Partida | D27: 01.02.09 | E27: Preventivo | F27: AL | G27: ITV | H27: Vélez Rubio | I27: Preventivo Anual Instalación BT, iluminación, fotovoltaica y SAI | S27: 1 | T27: 1 | U27: 1 | V27: 1 | X27: €/Rev | Z27: =$Z$19 -> 0 | AA27: =IFERROR(IF(OR(B27="",B27="SUBTOTAL"),"",IF(AND(B27="Capítulo",E27=E$12),SUMIF(AD$15:AD$500,D27,AA$15:AA$500),IF(E27=E$13,AE27*Z27,SUM(AI27:AM27)))),"") -> 0 | AB27: =IFERROR(IF(OR(AK$2=0,B27="",B27="SUBTOTAL"),"",IF(AND(B27="Capítulo",E27=E$12),SUMIF(AD$15:AD$500,D27,AB$15:AB$500),IF(E27=E$13,AF27*Z27,SUM(AI27:AR27)))),"") -> 0 | AD27: =IF(B27="PARTIDA",MID(D27,1,2),"") -> 01 | AE27: =IF(AND($E27=$E$13,$B27="PARTIDA"),IF($G27="PZ",$AM$2,1),"") | AF27: =IF(AND($E27=$E$13,$B27="PARTIDA"),IF($G27="PZ",$AN$2,1),"") | AG27: =IF(E27=$E$13,MID($G27,1,3),"") | AH27: =IF(E27=$E$13,AA27,"") | AI27: =IF(OR(AI$13="",S27="",$E27=$E$13,$B27<>"partida"),"",S27*$Z27) -> 0 | AJ27: =IF(OR(AJ$13="",T27="",$E27=$E$13,$B27<>"partida"),"",T27*$Z27) -> 0 | AK27: =IF(OR(AK$13="",U27="",$E27=$E$13,$B27<>"partida"),"",U27*$Z27) | AL27: =IF(OR(AL$13="",V27="",$E27=$E$13,$B27<>"partida"),"",V27*$Z27) | AM27: =IF(OR(AM$13="",W27="",$E27=$E$13,$B27<>"partida"),"",W27*$Z27) | AN27: =IF(OR(AN$13="",S27="",$E27=$E$13,$B27<>"partida"),"",S27*$Z27) | AO27: =IF(OR(AO$13="",T27="",$E27=$E$13,$B27<>"partida"),"",T27*$Z27) | AP27: =IF(OR(AP$13="",U27="",$E27=$E$13,$B27<>"partida"),"",U27*$Z27) -> 0 | AQ27: =IF(OR(AQ$13="",V27="",$E27=$E$13,$B27<>"partida"),"",V27*$Z27) -> 0 | AR27: =IF(OR(AR$13="",W27="",$E27=$E$13,$B27<>"partida"),"",W27*$Z27)
B28: Partida | D28: 01.02.10 | E28: Preventivo | F28: GR | G28: ITV | H28: Granada | I28: Preventivo Anual Instalación BT, iluminación, fotovoltaica y SAI | S28: 1 | T28: 1 | U28: 1 | V28: 1 | X28: €/Rev | Z28: =$Z$19 -> 0 | AA28: =IFERROR(IF(OR(B28="",B28="SUBTOTAL"),"",IF(AND(B28="Capítulo",E28=E$12),SUMIF(AD$15:AD$500,D28,AA$15:AA$500),IF(E28=E$13,AE28*Z28,SUM(AI28:AM28)))),"") -> 0 | AB28: =IFERROR(IF(OR(AK$2=0,B28="",B28="SUBTOTAL"),"",IF(AND(B28="Capítulo",E28=E$12),SUMIF(AD$15:AD$500,D28,AB$15:AB$500),IF(E28=E$13,AF28*Z28,SUM(AI28:AR28)))),"") -> 0 | AD28: =IF(B28="PARTIDA",MID(D28,1,2),"") -> 01 | AE28: =IF(AND($E28=$E$13,$B28="PARTIDA"),IF($G28="PZ",$AM$2,1),"") | AF28: =IF(AND($E28=$E$13,$B28="PARTIDA"),IF($G28="PZ",$AN$2,1),"") | AG28: =IF(E28=$E$13,MID($G28,1,3),"") | AH28: =IF(E28=$E$13,AA28,"") | AI28: =IF(OR(AI$13="",S28="",$E28=$E$13,$B28<>"partida"),"",S28*$Z28) -> 0 | AJ28: =IF(OR(AJ$13="",T28="",$E28=$E$13,$B28<>"partida"),"",T28*$Z28) -> 0 | AK28: =IF(OR(AK$13="",U28="",$E28=$E$13,$B28<>"partida"),"",U28*$Z28) | AL28: =IF(OR(AL$13="",V28="",$E28=$E$13,$B28<>"partida"),"",V28*$Z28) | AM28: =IF(OR(AM$13="",W28="",$E28=$E$13,$B28<>"partida"),"",W28*$Z28) | AN28: =IF(OR(AN$13="",S28="",$E28=$E$13,$B28<>"partida"),"",S28*$Z28) | AO28: =IF(OR(AO$13="",T28="",$E28=$E$13,$B28<>"partida"),"",T28*$Z28) | AP28: =IF(OR(AP$13="",U28="",$E28=$E$13,$B28<>"partida"),"",U28*$Z28) -> 0 | AQ28: =IF(OR(AQ$13="",V28="",$E28=$E$13,$B28<>"partida"),"",V28*$Z28) -> 0 | AR28: =IF(OR(AR$13="",W28="",$E28=$E$13,$B28<>"partida"),"",W28*$Z28)
B29: Partida | D29: 01.02.11 | E29: Preventivo | F29: GR | G29: ITV | H29: Las Gabias | I29: Preventivo Anual Instalación BT, iluminación, fotovoltaica y SAI | S29: 1 | T29: 1 | U29: 1 | V29: 1 | X29: €/Rev | Z29: =$Z$19 -> 0 | AA29: =IFERROR(IF(OR(B29="",B29="SUBTOTAL"),"",IF(AND(B29="Capítulo",E29=E$12),SUMIF(AD$15:AD$500,D29,AA$15:AA$500),IF(E29=E$13,AE29*Z29,SUM(AI29:AM29)))),"") -> 0 | AB29: =IFERROR(IF(OR(AK$2=0,B29="",B29="SUBTOTAL"),"",IF(AND(B29="Capítulo",E29=E$12),SUMIF(AD$15:AD$500,D29,AB$15:AB$500),IF(E29=E$13,AF29*Z29,SUM(AI29:AR29)))),"") -> 0 | AD29: =IF(B29="PARTIDA",MID(D29,1,2),"") -> 01 | AE29: =IF(AND($E29=$E$13,$B29="PARTIDA"),IF($G29="PZ",$AM$2,1),"") | AF29: =IF(AND($E29=$E$13,$B29="PARTIDA"),IF($G29="PZ",$AN$2,1),"") | AG29: =IF(E29=$E$13,MID($G29,1,3),"") | AH29: =IF(E29=$E$13,AA29,"") | AI29: =IF(OR(AI$13="",S29="",$E29=$E$13,$B29<>"partida"),"",S29*$Z29) -> 0 | AJ29: =IF(OR(AJ$13="",T29="",$E29=$E$13,$B29<>"partida"),"",T29*$Z29) -> 0 | AK29: =IF(OR(AK$13="",U29="",$E29=$E$13,$B29<>"partida"),"",U29*$Z29) | AL29: =IF(OR(AL$13="",V29="",$E29=$E$13,$B29<>"partida"),"",V29*$Z29) | AM29: =IF(OR(AM$13="",W29="",$E29=$E$13,$B29<>"partida"),"",W29*$Z29) | AN29: =IF(OR(AN$13="",S29="",$E29=$E$13,$B29<>"partida"),"",S29*$Z29) | AO29: =IF(OR(AO$13="",T29="",$E29=$E$13,$B29<>"partida"),"",T29*$Z29) | AP29: =IF(OR(AP$13="",U29="",$E29=$E$13,$B29<>"partida"),"",U29*$Z29) -> 0 | AQ29: =IF(OR(AQ$13="",V29="",$E29=$E$13,$B29<>"partida"),"",V29*$Z29) -> 0 | AR29: =IF(OR(AR$13="",W29="",$E29=$E$13,$B29<>"partida"),"",W29*$Z29)
B30: Partida | D30: 01.02.12 | E30: Preventivo | F30: GR | G30: ITV | H30: Loja | I30: Preventivo Anual Instalación BT, iluminación, fotovoltaica y SAI | S30: 1 | T30: 1 | U30: 1 | V30: 1 | X30: €/Rev | Z30: =$Z$19 -> 0 | AA30: =IFERROR(IF(OR(B30="",B30="SUBTOTAL"),"",IF(AND(B30="Capítulo",E30=E$12),SUMIF(AD$15:AD$500,D30,AA$15:AA$500),IF(E30=E$13,AE30*Z30,SUM(AI30:AM30)))),"") -> 0 | AB30: =IFERROR(IF(OR(AK$2=0,B30="",B30="SUBTOTAL"),"",IF(AND(B30="Capítulo",E30=E$12),SUMIF(AD$15:AD$500,D30,AB$15:AB$500),IF(E30=E$13,AF30*Z30,SUM(AI30:AR30)))),"") -> 0 | AD30: =IF(B30="PARTIDA",MID(D30,1,2),"") -> 01 | AE30: =IF(AND($E30=$E$13,$B30="PARTIDA"),IF($G30="PZ",$AM$2,1),"") | AF30: =IF(AND($E30=$E$13,$B30="PARTIDA"),IF($G30="PZ",$AN$2,1),"") | AG30: =IF(E30=$E$13,MID($G30,1,3),"") | AH30: =IF(E30=$E$13,AA30,"") | AI30: =IF(OR(AI$13="",S30="",$E30=$E$13,$B30<>"partida"),"",S30*$Z30) -> 0 | AJ30: =IF(OR(AJ$13="",T30="",$E30=$E$13,$B30<>"partida"),"",T30*$Z30) -> 0 | AK30: =IF(OR(AK$13="",U30="",$E30=$E$13,$B30<>"partida"),"",U30*$Z30) | AL30: =IF(OR(AL$13="",V30="",$E30=$E$13,$B30<>"partida"),"",V30*$Z30) | AM30: =IF(OR(AM$13="",W30="",$E30=$E$13,$B30<>"partida"),"",W30*$Z30) | AN30: =IF(OR(AN$13="",S30="",$E30=$E$13,$B30<>"partida"),"",S30*$Z30) | AO30: =IF(OR(AO$13="",T30="",$E30=$E$13,$B30<>"partida"),"",T30*$Z30) | AP30: =IF(OR(AP$13="",U30="",$E30=$E$13,$B30<>"partida"),"",U30*$Z30) -> 0 | AQ30: =IF(OR(AQ$13="",V30="",$E30=$E$13,$B30<>"partida"),"",V30*$Z30) -> 0 | AR30: =IF(OR(AR$13="",W30="",$E30=$E$13,$B30<>"partida"),"",W30*$Z30)
B31: Partida | D31: 01.02.13 | E31: Preventivo | F31: GR | G31: ITV | H31: Motril | I31: Preventivo Anual Instalación BT, iluminación, fotovoltaica y SAI | S31: 1 | T31: 1 | U31: 1 | V31: 1 | X31: €/Rev | Z31: =$Z$19 -> 0 | AA31: =IFERROR(IF(OR(B31="",B31="SUBTOTAL"),"",IF(AND(B31="Capítulo",E31=E$12),SUMIF(AD$15:AD$500,D31,AA$15:AA$500),IF(E31=E$13,AE31*Z31,SUM(AI31:AM31)))),"") -> 0 | AB31: =IFERROR(IF(OR(AK$2=0,B31="",B31="SUBTOTAL"),"",IF(AND(B31="Capítulo",E31=E$12),SUMIF(AD$15:AD$500,D31,AB$15:AB$500),IF(E31=E$13,AF31*Z31,SUM(AI31:AR31)))),"") -> 0 | AD31: =IF(B31="PARTIDA",MID(D31,1,2),"") -> 01 | AE31: =IF(AND($E31=$E$13,$B31="PARTIDA"),IF($G31="PZ",$AM$2,1),"") | AF31: =IF(AND($E31=$E$13,$B31="PARTIDA"),IF($G31="PZ",$AN$2,1),"") | AG31: =IF(E31=$E$13,MID($G31,1,3),"") | AH31: =IF(E31=$E$13,AA31,"") | AI31: =IF(OR(AI$13="",S31="",$E31=$E$13,$B31<>"partida"),"",S31*$Z31) -> 0 | AJ31: =IF(OR(AJ$13="",T31="",$E31=$E$13,$B31<>"partida"),"",T31*$Z31) -> 0 | AK31: =IF(OR(AK$13="",U31="",$E31=$E$13,$B31<>"partida"),"",U31*$Z31) | AL31: =IF(OR(AL$13="",V31="",$E31=$E$13,$B31<>"partida"),"",V31*$Z31) | AM31: =IF(OR(AM$13="",W31="",$E31=$E$13,$B31<>"partida"),"",W31*$Z31) | AN31: =IF(OR(AN$13="",S31="",$E31=$E$13,$B31<>"partida"),"",S31*$Z31) | AO31: =IF(OR(AO$13="",T31="",$E31=$E$13,$B31<>"partida"),"",T31*$Z31) | AP31: =IF(OR(AP$13="",U31="",$E31=$E$13,$B31<>"partida"),"",U31*$Z31) -> 0 | AQ31: =IF(OR(AQ$13="",V31="",$E31=$E$13,$B31<>"partida"),"",V31*$Z31) -> 0 | AR31: =IF(OR(AR$13="",W31="",$E31=$E$13,$B31<>"partida"),"",W31*$Z31)
... B35: Partida | D35: 01.02.17 | E35: Preventivo | F35: GR | G35: ITV | H35: Baza | I35: Preventivo Anual Instalación BT, iluminación, fotovoltaica y SAI | S35: 1 | T35: 1 | U35: 1 | V35: 1 | X35: €/Rev | Z35: =$Z$19 -> 0 | AA35: =IFERROR(IF(OR(B35="",B35="SUBTOTAL"),"",IF(AND(B35="Capítulo",E35=E$12),SUMIF(AD$15:AD$500,D35,AA$15:AA$500),IF(E35=E$13,AE35*Z35,SUM(AI35:AM35)))),"") -> 0 | AB35: =IFERROR(IF(OR(AK$2=0,B35="",B35="SUBTOTAL"),"",IF(AND(B35="Capítulo",E35=E$12),SUMIF(AD$15:AD$500,D35,AB$15:AB$500),IF(E35=E$13,AF35*Z35,SUM(AI35:AR35)))),"") -> 0 | AD35: =IF(B35="PARTIDA",MID(D35,1,2),"") -> 01 | AE35: =IF(AND($E35=$E$13,$B35="PARTIDA"),IF($G35="PZ",$AM$2,1),"") | AF35: =IF(AND($E35=$E$13,$B35="PARTIDA"),IF($G35="PZ",$AN$2,1),"") | AG35: =IF(E35=$E$13,MID($G35,1,3),"") | AH35: =IF(E35=$E$13,AA35,"") | AI35: =IF(OR(AI$13="",S35="",$E35=$E$13,$B35<>"partida"),"",S35*$Z35) -> 0 | AJ35: =IF(OR(AJ$13="",T35="",$E35=$E$13,$B35<>"partida"),"",T35*$Z35) -> 0 | AK35: =IF(OR(AK$13="",U35="",$E35=$E$13,$B35<>"partida"),"",U35*$Z35) | AL35: =IF(OR(AL$13="",V35="",$E35=$E$13,$B35<>"partida"),"",V35*$Z35) | AM35: =IF(OR(AM$13="",W35="",$E35=$E$13,$B35<>"partida"),"",W35*$Z35) | AN35: =IF(OR(AN$13="",S35="",$E35=$E$13,$B35<>"partida"),"",S35*$Z35) | AO35: =IF(OR(AO$13="",T35="",$E35=$E$13,$B35<>"partida"),"",T35*$Z35) | AP35: =IF(OR(AP$13="",U35="",$E35=$E$13,$B35<>"partida"),"",U35*$Z35) -> 0 | AQ35: =IF(OR(AQ$13="",V35="",$E35=$E$13,$B35<>"partida"),"",V35*$Z35) -> 0 | AR35: =IF(OR(AR$13="",W35="",$E35=$E$13,$B35<>"partida"),"",W35*$Z35)
B36: Subtotal | D36: 01.03 | E36: Preventivo | I36: INFORME MANTENIMIENTO PREVENTIVO/CENTRO | S36: 18 | T36: 18 | U36: 18 | V36: 18 | X36: €/informe | Y36: 120 | AA36: =IFERROR(IF(OR(B36="",B36="SUBTOTAL"),"",IF(AND(B36="Capítulo",E36=E$12),SUMIF(AD$15:AD$500,D36,AA$15:AA$500),IF(E36=E$13,AE36*Z36,SUM(AI36:AM36)))),"") | AB36: =IFERROR(IF(OR(AK$2=0,B36="",B36="SUBTOTAL"),"",IF(AND(B36="Capítulo",E36=E$12),SUMIF(AD$15:AD$500,D36,AB$15:AB$500),IF(E36=E$13,AF36*Z36,SUM(AI36:AR36)))),"") | AD36: =IF(B36="PARTIDA",MID(D36,1,2),"") | AE36: =IF(AND($E36=$E$13,$B36="PARTIDA"),IF($G36="PZ",$AM$2,1),"") | AF36: =IF(AND($E36=$E$13,$B36="PARTIDA"),IF($G36="PZ",$AN$2,1),"") | AG36: =IF(E36=$E$13,MID($G36,1,3),"") | AH36: =IF(E36=$E$13,AA36,"") | AI36: =IF(OR(AI$13="",S36="",$E36=$E$13,$B36<>"partida"),"",S36*$Z36) | AJ36: =IF(OR(AJ$13="",T36="",$E36=$E$13,$B36<>"partida"),"",T36*$Z36) | AK36: =IF(OR(AK$13="",U36="",$E36=$E$13,$B36<>"partida"),"",U36*$Z36) | AL36: =IF(OR(AL$13="",V36="",$E36=$E$13,$B36<>"partida"),"",V36*$Z36) | AM36: =IF(OR(AM$13="",W36="",$E36=$E$13,$B36<>"partida"),"",W36*$Z36) | AN36: =IF(OR(AN$13="",S36="",$E36=$E$13,$B36<>"partida"),"",S36*$Z36) | AO36: =IF(OR(AO$13="",T36="",$E36=$E$13,$B36<>"partida"),"",T36*$Z36) | AP36: =IF(OR(AP$13="",U36="",$E36=$E$13,$B36<>"partida"),"",U36*$Z36) | AQ36: =IF(OR(AQ$13="",V36="",$E36=$E$13,$B36<>"partida"),"",V36*$Z36) | AR36: =IF(OR(AR$13="",W36="",$E36=$E$13,$B36<>"partida"),"",W36*$Z36)
B37: Capítulo | D37: 02 | E37: Correctivo | I37: MANTENIMIENTO CORRECTIVO | AA37: =IFERROR(IF(OR(B37="",B37="SUBTOTAL"),"",IF(AND(B37="Capítulo",E37=E$12),SUMIF(AD$15:AD$500,D37,AA$15:AA$500),IF(E37=E$13,AE37*Z37,SUM(AI37:AM37)))),"") | AB37: =IFERROR(IF(OR(AK$2=0,B37="",B37="SUBTOTAL"),"",IF(AND(B37="Capítulo",E37=E$12),SUMIF(AD$15:AD$500,D37,AB$15:AB$500),IF(E37=E$13,AF37*Z37,SUM(AI37:AR37)))),"") | AD37: =IF(B37="PARTIDA",MID(D37,1,2),"") | AE37: =IF(AND($E37=$E$13,$B37="PARTIDA"),IF($G37="PZ",$AM$2,1),"") | AF37: =IF(AND($E37=$E$13,$B37="PARTIDA"),IF($G37="PZ",$AN$2,1),"") | AG37: =IF(E37=$E$13,MID($G37,1,3),"") | AH37: =IF(E37=$E$13,AA37,"") | AI37: =IF(OR(AI$13="",S37="",$E37=$E$13,$B37<>"partida"),"",S37*$Z37) | AJ37: =IF(OR(AJ$13="",T37="",$E37=$E$13,$B37<>"partida"),"",T37*$Z37) | AK37: =IF(OR(AK$13="",U37="",$E37=$E$13,$B37<>"partida"),"",U37*$Z37) | AL37: =IF(OR(AL$13="",V37="",$E37=$E$13,$B37<>"partida"),"",V37*$Z37) | AM37: =IF(OR(AM$13="",W37="",$E37=$E$13,$B37<>"partida"),"",W37*$Z37) | AN37: =IF(OR(AN$13="",S37="",$E37=$E$13,$B37<>"partida"),"",S37*$Z37) | AO37: =IF(OR(AO$13="",T37="",$E37=$E$13,$B37<>"partida"),"",T37*$Z37) | AP37: =IF(OR(AP$13="",U37="",$E37=$E$13,$B37<>"partida"),"",U37*$Z37) | AQ37: =IF(OR(AQ$13="",V37="",$E37=$E$13,$B37<>"partida"),"",V37*$Z37) | AR37: =IF(OR(AR$13="",W37="",$E37=$E$13,$B37<>"partida"),"",W37*$Z37)
B38: Partida | D38: 02.01 | E38: Correctivo | G38: HJL | H38: Oficial | I38: Hora de trabajo dentro de jornada laboral (7:00 - 19:00) | X38: €/hora | Y38: 33.5 | AA38: =IFERROR(IF(OR(B38="",B38="SUBTOTAL"),"",IF(AND(B38="Capítulo",E38=E$12),SUMIF(AD$15:AD$500,D38,AA$15:AA$500),IF(E38=E$13,AE38*Z38,SUM(AI38:AM38)))),"") -> 0 | AB38: =IFERROR(IF(OR(AK$2=0,B38="",B38="SUBTOTAL"),"",IF(AND(B38="Capítulo",E38=E$12),SUMIF(AD$15:AD$500,D38,AB$15:AB$500),IF(E38=E$13,AF38*Z38,SUM(AI38:AR38)))),"") -> 0 | AD38: =IF(B38="PARTIDA",MID(D38,1,2),"") -> 02 | AE38: =IF(AND($E38=$E$13,$B38="PARTIDA"),IF($G38="PZ",$AM$2,1),"") -> 1 | AF38: =IF(AND($E38=$E$13,$B38="PARTIDA"),IF($G38="PZ",$AN$2,1),"") -> 1 | AG38: =IF(E38=$E$13,MID($G38,1,3),"") -> HJL | AH38: =IF(E38=$E$13,AA38,"") -> 0 | AI38: =IF(OR(AI$13="",S38="",$E38=$E$13,$B38<>"partida"),"",S38*$Z38) | AJ38: =IF(OR(AJ$13="",T38="",$E38=$E$13,$B38<>"partida"),"",T38*$Z38) | AK38: =IF(OR(AK$13="",U38="",$E38=$E$13,$B38<>"partida"),"",U38*$Z38) | AL38: =IF(OR(AL$13="",V38="",$E38=$E$13,$B38<>"partida"),"",V38*$Z38) | AM38: =IF(OR(AM$13="",W38="",$E38=$E$13,$B38<>"partida"),"",W38*$Z38) | AN38: =IF(OR(AN$13="",S38="",$E38=$E$13,$B38<>"partida"),"",S38*$Z38) | AO38: =IF(OR(AO$13="",T38="",$E38=$E$13,$B38<>"partida"),"",T38*$Z38) | AP38: =IF(OR(AP$13="",U38="",$E38=$E$13,$B38<>"partida"),"",U38*$Z38) | AQ38: =IF(OR(AQ$13="",V38="",$E38=$E$13,$B38<>"partida"),"",V38*$Z38) | AR38: =IF(OR(AR$13="",W38="",$E38=$E$13,$B38<>"partida"),"",W38*$Z38)
B39: Partida | D39: 02.02 | E39: Correctivo | G39: HFJ | H39: Oficial | I39: Hora de trabajo fuera de jornada laboral (19:00 - 22:00) | X39: €/hora | Y39: 41 | AA39: =IFERROR(IF(OR(B39="",B39="SUBTOTAL"),"",IF(AND(B39="Capítulo",E39=E$12),SUMIF(AD$15:AD$500,D39,AA$15:AA$500),IF(E39=E$13,AE39*Z39,SUM(AI39:AM39)))),"") -> 0 | AB39: =IFERROR(IF(OR(AK$2=0,B39="",B39="SUBTOTAL"),"",IF(AND(B39="Capítulo",E39=E$12),SUMIF(AD$15:AD$500,D39,AB$15:AB$500),IF(E39=E$13,AF39*Z39,SUM(AI39:AR39)))),"") -> 0 | AD39: =IF(B39="PARTIDA",MID(D39,1,2),"") -> 02 | AE39: =IF(AND($E39=$E$13,$B39="PARTIDA"),IF($G39="PZ",$AM$2,1),"") -> 1 | AF39: =IF(AND($E39=$E$13,$B39="PARTIDA"),IF($G39="PZ",$AN$2,1),"") -> 1 | AG39: =IF(E39=$E$13,MID($G39,1,3),"") -> HFJ | AH39: =IF(E39=$E$13,AA39,"") -> 0 | AI39: =IF(OR(AI$13="",S39="",$E39=$E$13,$B39<>"partida"),"",S39*$Z39) | AJ39: =IF(OR(AJ$13="",T39="",$E39=$E$13,$B39<>"partida"),"",T39*$Z39) | AK39: =IF(OR(AK$13="",U39="",$E39=$E$13,$B39<>"partida"),"",U39*$Z39) | AL39: =IF(OR(AL$13="",V39="",$E39=$E$13,$B39<>"partida"),"",V39*$Z39) | AM39: =IF(OR(AM$13="",W39="",$E39=$E$13,$B39<>"partida"),"",W39*$Z39) | AN39: =IF(OR(AN$13="",S39="",$E39=$E$13,$B39<>"partida"),"",S39*$Z39) | AO39: =IF(OR(AO$13="",T39="",$E39=$E$13,$B39<>"partida"),"",T39*$Z39) | AP39: =IF(OR(AP$13="",U39="",$E39=$E$13,$B39<>"partida"),"",U39*$Z39) | AQ39: =IF(OR(AQ$13="",V39="",$E39=$E$13,$B39<>"partida"),"",V39*$Z39) | AR39: =IF(OR(AR$13="",W39="",$E39=$E$13,$B39<>"partida"),"",W39*$Z39)
B40: Partida | D40: 02.03 | E40: Correctivo | G40: HN | H40: Oficial | I40: Hora de trabajo en horario nocturno (22:00 - 7:00) | X40: €/hora | Y40: 48 | AA40: =IFERROR(IF(OR(B40="",B40="SUBTOTAL"),"",IF(AND(B40="Capítulo",E40=E$12),SUMIF(AD$15:AD$500,D40,AA$15:AA$500),IF(E40=E$13,AE40*Z40,SUM(AI40:AM40)))),"") -> 0 | AB40: =IFERROR(IF(OR(AK$2=0,B40="",B40="SUBTOTAL"),"",IF(AND(B40="Capítulo",E40=E$12),SUMIF(AD$15:AD$500,D40,AB$15:AB$500),IF(E40=E$13,AF40*Z40,SUM(AI40:AR40)))),"") -> 0 | AD40: =IF(B40="PARTIDA",MID(D40,1,2),"") -> 02 | AE40: =IF(AND($E40=$E$13,$B40="PARTIDA"),IF($G40="PZ",$AM$2,1),"") -> 1 | AF40: =IF(AND($E40=$E$13,$B40="PARTIDA"),IF($G40="PZ",$AN$2,1),"") -> 1 | AG40: =IF(E40=$E$13,MID($G40,1,3),"") -> HN | AH40: =IF(E40=$E$13,AA40,"") -> 0 | AI40: =IF(OR(AI$13="",S40="",$E40=$E$13,$B40<>"partida"),"",S40*$Z40) | AJ40: =IF(OR(AJ$13="",T40="",$E40=$E$13,$B40<>"partida"),"",T40*$Z40) | AK40: =IF(OR(AK$13="",U40="",$E40=$E$13,$B40<>"partida"),"",U40*$Z40) | AL40: =IF(OR(AL$13="",V40="",$E40=$E$13,$B40<>"partida"),"",V40*$Z40) | AM40: =IF(OR(AM$13="",W40="",$E40=$E$13,$B40<>"partida"),"",W40*$Z40) | AN40: =IF(OR(AN$13="",S40="",$E40=$E$13,$B40<>"partida"),"",S40*$Z40) | AO40: =IF(OR(AO$13="",T40="",$E40=$E$13,$B40<>"partida"),"",T40*$Z40) | AP40: =IF(OR(AP$13="",U40="",$E40=$E$13,$B40<>"partida"),"",U40*$Z40) | AQ40: =IF(OR(AQ$13="",V40="",$E40=$E$13,$B40<>"partida"),"",V40*$Z40) | AR40: =IF(OR(AR$13="",W40="",$E40=$E$13,$B40<>"partida"),"",W40*$Z40)
B41: Partida | D41: 02.04 | E41: Correctivo | G41: HF | H41: Oficial | I41: Hora de trabajo en horario festivo (Cualquier horario) | X41: €/hora | Y41: 49 | AA41: =IFERROR(IF(OR(B41="",B41="SUBTOTAL"),"",IF(AND(B41="Capítulo",E41=E$12),SUMIF(AD$15:AD$500,D41,AA$15:AA$500),IF(E41=E$13,AE41*Z41,SUM(AI41:AM41)))),"") -> 0 | AB41: =IFERROR(IF(OR(AK$2=0,B41="",B41="SUBTOTAL"),"",IF(AND(B41="Capítulo",E41=E$12),SUMIF(AD$15:AD$500,D41,AB$15:AB$500),IF(E41=E$13,AF41*Z41,SUM(AI41:AR41)))),"") -> 0 | AD41: =IF(B41="PARTIDA",MID(D41,1,2),"") -> 02 | AE41: =IF(AND($E41=$E$13,$B41="PARTIDA"),IF($G41="PZ",$AM$2,1),"") -> 1 | AF41: =IF(AND($E41=$E$13,$B41="PARTIDA"),IF($G41="PZ",$AN$2,1),"") -> 1 | AG41: =IF(E41=$E$13,MID($G41,1,3),"") -> HF | AH41: =IF(E41=$E$13,AA41,"") -> 0 | AI41: =IF(OR(AI$13="",S41="",$E41=$E$13,$B41<>"partida"),"",S41*$Z41) | AJ41: =IF(OR(AJ$13="",T41="",$E41=$E$13,$B41<>"partida"),"",T41*$Z41) | AK41: =IF(OR(AK$13="",U41="",$E41=$E$13,$B41<>"partida"),"",U41*$Z41) | AL41: =IF(OR(AL$13="",V41="",$E41=$E$13,$B41<>"partida"),"",V41*$Z41) | AM41: =IF(OR(AM$13="",W41="",$E41=$E$13,$B41<>"partida"),"",W41*$Z41) | AN41: =IF(OR(AN$13="",S41="",$E41=$E$13,$B41<>"partida"),"",S41*$Z41) | AO41: =IF(OR(AO$13="",T41="",$E41=$E$13,$B41<>"partida"),"",T41*$Z41) | AP41: =IF(OR(AP$13="",U41="",$E41=$E$13,$B41<>"partida"),"",U41*$Z41) | AQ41: =IF(OR(AQ$13="",V41="",$E41=$E$13,$B41<>"partida"),"",V41*$Z41) | AR41: =IF(OR(AR$13="",W41="",$E41=$E$13,$B41<>"partida"),"",W41*$Z41)
B42: Partida | D42: 02.05 | E42: Correctivo | F42: AL | G42: DES | H42: Almería 1 | I42: DESPLAZAMIENTO (Incluso personal, ida y vuelta, dietas…) | X42: Unidad | Y42: 125 | AA42: =IFERROR(IF(OR(B42="",B42="SUBTOTAL"),"",IF(AND(B42="Capítulo",E42=E$12),SUMIF(AD$15:AD$500,D42,AA$15:AA$500),IF(E42=E$13,AE42*Z42,SUM(AI42:AM42)))),"") -> 0 | AB42: =IFERROR(IF(OR(AK$2=0,B42="",B42="SUBTOTAL"),"",IF(AND(B42="Capítulo",E42=E$12),SUMIF(AD$15:AD$500,D42,AB$15:AB$500),IF(E42=E$13,AF42*Z42,SUM(AI42:AR42)))),"") -> 0 | AD42: =IF(B42="PARTIDA",MID(D42,1,2),"") -> 02 | AE42: =IF(AND($E42=$E$13,$B42="PARTIDA"),IF($G42="PZ",$AM$2,1),"") -> 1 | AF42: =IF(AND($E42=$E$13,$B42="PARTIDA"),IF($G42="PZ",$AN$2,1),"") -> 1 | AG42: =IF(E42=$E$13,MID($G42,1,3),"") -> DES | AH42: =IF(E42=$E$13,AA42,"") -> 0 | AI42: =IF(OR(AI$13="",S42="",$E42=$E$13,$B42<>"partida"),"",S42*$Z42) | AJ42: =IF(OR(AJ$13="",T42="",$E42=$E$13,$B42<>"partida"),"",T42*$Z42) | AK42: =IF(OR(AK$13="",U42="",$E42=$E$13,$B42<>"partida"),"",U42*$Z42) | AL42: =IF(OR(AL$13="",V42="",$E42=$E$13,$B42<>"partida"),"",V42*$Z42) | AM42: =IF(OR(AM$13="",W42="",$E42=$E$13,$B42<>"partida"),"",W42*$Z42) | AN42: =IF(OR(AN$13="",S42="",$E42=$E$13,$B42<>"partida"),"",S42*$Z42) | AO42: =IF(OR(AO$13="",T42="",$E42=$E$13,$B42<>"partida"),"",T42*$Z42) | AP42: =IF(OR(AP$13="",U42="",$E42=$E$13,$B42<>"partida"),"",U42*$Z42) | AQ42: =IF(OR(AQ$13="",V42="",$E42=$E$13,$B42<>"partida"),"",V42*$Z42) | AR42: =IF(OR(AR$13="",W42="",$E42=$E$13,$B42<>"partida"),"",W42*$Z42)
B43: Partida | D43: 02.06 | E43: Correctivo | F43: AL | G43: DES | H43: Almería 2 | I43: DESPLAZAMIENTO (Incluso personal, ida y vuelta, dietas…) | X43: Unidad | Y43: 125 | AA43: =IFERROR(IF(OR(B43="",B43="SUBTOTAL"),"",IF(AND(B43="Capítulo",E43=E$12),SUMIF(AD$15:AD$500,D43,AA$15:AA$500),IF(E43=E$13,AE43*Z43,SUM(AI43:AM43)))),"") -> 0 | AB43: =IFERROR(IF(OR(AK$2=0,B43="",B43="SUBTOTAL"),"",IF(AND(B43="Capítulo",E43=E$12),SUMIF(AD$15:AD$500,D43,AB$15:AB$500),IF(E43=E$13,AF43*Z43,SUM(AI43:AR43)))),"") -> 0 | AD43: =IF(B43="PARTIDA",MID(D43,1,2),"") -> 02 | AE43: =IF(AND($E43=$E$13,$B43="PARTIDA"),IF($G43="PZ",$AM$2,1),"") -> 1 | AF43: =IF(AND($E43=$E$13,$B43="PARTIDA"),IF($G43="PZ",$AN$2,1),"") -> 1 | AG43: =IF(E43=$E$13,MID($G43,1,3),"") -> DES | AH43: =IF(E43=$E$13,AA43,"") -> 0 | AI43: =IF(OR(AI$13="",S43="",$E43=$E$13,$B43<>"partida"),"",S43*$Z43) | AJ43: =IF(OR(AJ$13="",T43="",$E43=$E$13,$B43<>"partida"),"",T43*$Z43) | AK43: =IF(OR(AK$13="",U43="",$E43=$E$13,$B43<>"partida"),"",U43*$Z43) | AL43: =IF(OR(AL$13="",V43="",$E43=$E$13,$B43<>"partida"),"",V43*$Z43) | AM43: =IF(OR(AM$13="",W43="",$E43=$E$13,$B43<>"partida"),"",W43*$Z43) | AN43: =IF(OR(AN$13="",S43="",$E43=$E$13,$B43<>"partida"),"",S43*$Z43) | AO43: =IF(OR(AO$13="",T43="",$E43=$E$13,$B43<>"partida"),"",T43*$Z43) | AP43: =IF(OR(AP$13="",U43="",$E43=$E$13,$B43<>"partida"),"",U43*$Z43) | AQ43: =IF(OR(AQ$13="",V43="",$E43=$E$13,$B43<>"partida"),"",V43*$Z43) | AR43: =IF(OR(AR$13="",W43="",$E43=$E$13,$B43<>"partida"),"",W43*$Z43)
B44: Partida | D44: 02.07 | E44: Correctivo | F44: AL | G44: DES | H44: Vícar | I44: DESPLAZAMIENTO (Incluso personal, ida y vuelta, dietas…) | X44: Unidad | Y44: 125 | AA44: =IFERROR(IF(OR(B44="",B44="SUBTOTAL"),"",IF(AND(B44="Capítulo",E44=E$12),SUMIF(AD$15:AD$500,D44,AA$15:AA$500),IF(E44=E$13,AE44*Z44,SUM(AI44:AM44)))),"") -> 0 | AB44: =IFERROR(IF(OR(AK$2=0,B44="",B44="SUBTOTAL"),"",IF(AND(B44="Capítulo",E44=E$12),SUMIF(AD$15:AD$500,D44,AB$15:AB$500),IF(E44=E$13,AF44*Z44,SUM(AI44:AR44)))),"") -> 0 | AD44: =IF(B44="PARTIDA",MID(D44,1,2),"") -> 02 | AE44: =IF(AND($E44=$E$13,$B44="PARTIDA"),IF($G44="PZ",$AM$2,1),"") -> 1 | AF44: =IF(AND($E44=$E$13,$B44="PARTIDA"),IF($G44="PZ",$AN$2,1),"") -> 1 | AG44: =IF(E44=$E$13,MID($G44,1,3),"") -> DES | AH44: =IF(E44=$E$13,AA44,"") -> 0 | AI44: =IF(OR(AI$13="",S44="",$E44=$E$13,$B44<>"partida"),"",S44*$Z44) | AJ44: =IF(OR(AJ$13="",T44="",$E44=$E$13,$B44<>"partida"),"",T44*$Z44) | AK44: =IF(OR(AK$13="",U44="",$E44=$E$13,$B44<>"partida"),"",U44*$Z44) | AL44: =IF(OR(AL$13="",V44="",$E44=$E$13,$B44<>"partida"),"",V44*$Z44) | AM44: =IF(OR(AM$13="",W44="",$E44=$E$13,$B44<>"partida"),"",W44*$Z44) | AN44: =IF(OR(AN$13="",S44="",$E44=$E$13,$B44<>"partida"),"",S44*$Z44) | AO44: =IF(OR(AO$13="",T44="",$E44=$E$13,$B44<>"partida"),"",T44*$Z44) | AP44: =IF(OR(AP$13="",U44="",$E44=$E$13,$B44<>"partida"),"",U44*$Z44) | AQ44: =IF(OR(AQ$13="",V44="",$E44=$E$13,$B44<>"partida"),"",V44*$Z44) | AR44: =IF(OR(AR$13="",W44="",$E44=$E$13,$B44<>"partida"),"",W44*$Z44)
B45: Partida | D45: 02.08 | E45: Correctivo | F45: AL | G45: DES | H45: Balanegra | I45: DESPLAZAMIENTO (Incluso personal, ida y vuelta, dietas…) | X45: Unidad | Y45: 125 | AA45: =IFERROR(IF(OR(B45="",B45="SUBTOTAL"),"",IF(AND(B45="Capítulo",E45=E$12),SUMIF(AD$15:AD$500,D45,AA$15:AA$500),IF(E45=E$13,AE45*Z45,SUM(AI45:AM45)))),"") -> 0 | AB45: =IFERROR(IF(OR(AK$2=0,B45="",B45="SUBTOTAL"),"",IF(AND(B45="Capítulo",E45=E$12),SUMIF(AD$15:AD$500,D45,AB$15:AB$500),IF(E45=E$13,AF45*Z45,SUM(AI45:AR45)))),"") -> 0 | AD45: =IF(B45="PARTIDA",MID(D45,1,2),"") -> 02 | AE45: =IF(AND($E45=$E$13,$B45="PARTIDA"),IF($G45="PZ",$AM$2,1),"") -> 1 | AF45: =IF(AND($E45=$E$13,$B45="PARTIDA"),IF($G45="PZ",$AN$2,1),"") -> 1 | AG45: =IF(E45=$E$13,MID($G45,1,3),"") -> DES | AH45: =IF(E45=$E$13,AA45,"") -> 0 | AI45: =IF(OR(AI$13="",S45="",$E45=$E$13,$B45<>"partida"),"",S45*$Z45) | AJ45: =IF(OR(AJ$13="",T45="",$E45=$E$13,$B45<>"partida"),"",T45*$Z45) | AK45: =IF(OR(AK$13="",U45="",$E45=$E$13,$B45<>"partida"),"",U45*$Z45) | AL45: =IF(OR(AL$13="",V45="",$E45=$E$13,$B45<>"partida"),"",V45*$Z45) | AM45: =IF(OR(AM$13="",W45="",$E45=$E$13,$B45<>"partida"),"",W45*$Z45) | AN45: =IF(OR(AN$13="",S45="",$E45=$E$13,$B45<>"partida"),"",S45*$Z45) | AO45: =IF(OR(AO$13="",T45="",$E45=$E$13,$B45<>"partida"),"",T45*$Z45) | AP45: =IF(OR(AP$13="",U45="",$E45=$E$13,$B45<>"partida"),"",U45*$Z45) | AQ45: =IF(OR(AQ$13="",V45="",$E45=$E$13,$B45<>"partida"),"",V45*$Z45) | AR45: =IF(OR(AR$13="",W45="",$E45=$E$13,$B45<>"partida"),"",W45*$Z45)
B46: Partida | D46: 02.09 | E46: Correctivo | F46: AL | G46: DES | H46: Las Tres Villas | I46: DESPLAZAMIENTO (Incluso personal, ida y vuelta, dietas…) | X46: Unidad | Y46: 125 | AA46: =IFERROR(IF(OR(B46="",B46="SUBTOTAL"),"",IF(AND(B46="Capítulo",E46=E$12),SUMIF(AD$15:AD$500,D46,AA$15:AA$500),IF(E46=E$13,AE46*Z46,SUM(AI46:AM46)))),"") -> 0 | AB46: =IFERROR(IF(OR(AK$2=0,B46="",B46="SUBTOTAL"),"",IF(AND(B46="Capítulo",E46=E$12),SUMIF(AD$15:AD$500,D46,AB$15:AB$500),IF(E46=E$13,AF46*Z46,SUM(AI46:AR46)))),"") -> 0 | AD46: =IF(B46="PARTIDA",MID(D46,1,2),"") -> 02 | AE46: =IF(AND($E46=$E$13,$B46="PARTIDA"),IF($G46="PZ",$AM$2,1),"") -> 1 | AF46: =IF(AND($E46=$E$13,$B46="PARTIDA"),IF($G46="PZ",$AN$2,1),"") -> 1 | AG46: =IF(E46=$E$13,MID($G46,1,3),"") -> DES | AH46: =IF(E46=$E$13,AA46,"") -> 0 | AI46: =IF(OR(AI$13="",S46="",$E46=$E$13,$B46<>"partida"),"",S46*$Z46) | AJ46: =IF(OR(AJ$13="",T46="",$E46=$E$13,$B46<>"partida"),"",T46*$Z46) | AK46: =IF(OR(AK$13="",U46="",$E46=$E$13,$B46<>"partida"),"",U46*$Z46) | AL46: =IF(OR(AL$13="",V46="",$E46=$E$13,$B46<>"partida"),"",V46*$Z46) | AM46: =IF(OR(AM$13="",W46="",$E46=$E$13,$B46<>"partida"),"",W46*$Z46) | AN46: =IF(OR(AN$13="",S46="",$E46=$E$13,$B46<>"partida"),"",S46*$Z46) | AO46: =IF(OR(AO$13="",T46="",$E46=$E$13,$B46<>"partida"),"",T46*$Z46) | AP46: =IF(OR(AP$13="",U46="",$E46=$E$13,$B46<>"partida"),"",U46*$Z46) | AQ46: =IF(OR(AQ$13="",V46="",$E46=$E$13,$B46<>"partida"),"",V46*$Z46) | AR46: =IF(OR(AR$13="",W46="",$E46=$E$13,$B46<>"partida"),"",W46*$Z46)
B47: Partida | D47: 02.10 | E47: Correctivo | F47: AL | G47: DES | H47: Níjar | I47: DESPLAZAMIENTO (Incluso personal, ida y vuelta, dietas…) | X47: Unidad | Y47: 125 | AA47: =IFERROR(IF(OR(B47="",B47="SUBTOTAL"),"",IF(AND(B47="Capítulo",E47=E$12),SUMIF(AD$15:AD$500,D47,AA$15:AA$500),IF(E47=E$13,AE47*Z47,SUM(AI47:AM47)))),"") -> 0 | AB47: =IFERROR(IF(OR(AK$2=0,B47="",B47="SUBTOTAL"),"",IF(AND(B47="Capítulo",E47=E$12),SUMIF(AD$15:AD$500,D47,AB$15:AB$500),IF(E47=E$13,AF47*Z47,SUM(AI47:AR47)))),"") -> 0 | AD47: =IF(B47="PARTIDA",MID(D47,1,2),"") -> 02 | AE47: =IF(AND($E47=$E$13,$B47="PARTIDA"),IF($G47="PZ",$AM$2,1),"") -> 1 | AF47: =IF(AND($E47=$E$13,$B47="PARTIDA"),IF($G47="PZ",$AN$2,1),"") -> 1 | AG47: =IF(E47=$E$13,MID($G47,1,3),"") -> DES | AH47: =IF(E47=$E$13,AA47,"") -> 0 | AI47: =IF(OR(AI$13="",S47="",$E47=$E$13,$B47<>"partida"),"",S47*$Z47) | AJ47: =IF(OR(AJ$13="",T47="",$E47=$E$13,$B47<>"partida"),"",T47*$Z47) | AK47: =IF(OR(AK$13="",U47="",$E47=$E$13,$B47<>"partida"),"",U47*$Z47) | AL47: =IF(OR(AL$13="",V47="",$E47=$E$13,$B47<>"partida"),"",V47*$Z47) | AM47: =IF(OR(AM$13="",W47="",$E47=$E$13,$B47<>"partida"),"",W47*$Z47) | AN47: =IF(OR(AN$13="",S47="",$E47=$E$13,$B47<>"partida"),"",S47*$Z47) | AO47: =IF(OR(AO$13="",T47="",$E47=$E$13,$B47<>"partida"),"",T47*$Z47) | AP47: =IF(OR(AP$13="",U47="",$E47=$E$13,$B47<>"partida"),"",U47*$Z47) | AQ47: =IF(OR(AQ$13="",V47="",$E47=$E$13,$B47<>"partida"),"",V47*$Z47) | AR47: =IF(OR(AR$13="",W47="",$E47=$E$13,$B47<>"partida"),"",W47*$Z47)
B48: Partida | D48: 02.11 | E48: Correctivo | F48: AL | G48: DES | H48: Vera | I48: DESPLAZAMIENTO (Incluso personal, ida y vuelta, dietas…) | X48: Unidad | Y48: 125 | AA48: =IFERROR(IF(OR(B48="",B48="SUBTOTAL"),"",IF(AND(B48="Capítulo",E48=E$12),SUMIF(AD$15:AD$500,D48,AA$15:AA$500),IF(E48=E$13,AE48*Z48,SUM(AI48:AM48)))),"") -> 0 | AB48: =IFERROR(IF(OR(AK$2=0,B48="",B48="SUBTOTAL"),"",IF(AND(B48="Capítulo",E48=E$12),SUMIF(AD$15:AD$500,D48,AB$15:AB$500),IF(E48=E$13,AF48*Z48,SUM(AI48:AR48)))),"") -> 0 | AD48: =IF(B48="PARTIDA",MID(D48,1,2),"") -> 02 | AE48: =IF(AND($E48=$E$13,$B48="PARTIDA"),IF($G48="PZ",$AM$2,1),"") -> 1 | AF48: =IF(AND($E48=$E$13,$B48="PARTIDA"),IF($G48="PZ",$AN$2,1),"") -> 1 | AG48: =IF(E48=$E$13,MID($G48,1,3),"") -> DES | AH48: =IF(E48=$E$13,AA48,"") -> 0 | AI48: =IF(OR(AI$13="",S48="",$E48=$E$13,$B48<>"partida"),"",S48*$Z48) | AJ48: =IF(OR(AJ$13="",T48="",$E48=$E$13,$B48<>"partida"),"",T48*$Z48) | AK48: =IF(OR(AK$13="",U48="",$E48=$E$13,$B48<>"partida"),"",U48*$Z48) | AL48: =IF(OR(AL$13="",V48="",$E48=$E$13,$B48<>"partida"),"",V48*$Z48) | AM48: =IF(OR(AM$13="",W48="",$E48=$E$13,$B48<>"partida"),"",W48*$Z48) | AN48: =IF(OR(AN$13="",S48="",$E48=$E$13,$B48<>"partida"),"",S48*$Z48) | AO48: =IF(OR(AO$13="",T48="",$E48=$E$13,$B48<>"partida"),"",T48*$Z48) | AP48: =IF(OR(AP$13="",U48="",$E48=$E$13,$B48<>"partida"),"",U48*$Z48) | AQ48: =IF(OR(AQ$13="",V48="",$E48=$E$13,$B48<>"partida"),"",V48*$Z48) | AR48: =IF(OR(AR$13="",W48="",$E48=$E$13,$B48<>"partida"),"",W48*$Z48)
...

Sheet Criterios de Puntuación
C2: CT340-25-087 Lote 4 A.M. MANTENIMIENTO PREVENTIVO Y CORRECTIVO DE INSTALACIONES DE BAJA TENSIÓN, ILUMINACIÓN, FOTOVOLTAICA Y SAI.
F5: =IF($G$21=0,"",$D$21) -> Preventivo | G5: =IF(CP_2=0,"",$D$22) -> Correctivo | L5: Modif. | M5: Valor estimado
G6: =IF(CP_2=0,"","Actuaciones") -> Actuaciones | H6: =IF(CP_2=0,"","Mant. y piezas") -> Mant. y piezas | J6: =IF(CP_2=0,"",IF(Plantilla!$AN$6=0,"","Sum/Rec.")) | K6: =IF(CP_2=0,"","Total") -> Total | L6: =$R$8/100 -> 0
D8: =IF(V21<>"",V21,("")) -> Año 1 | F8: =IF($G$21=0,"",IF(Plantilla!AI12<>"",Plantilla!AI12,Plantilla!AN12)) -> 0 | G8: =IF(AND($D8<>"",G$6<>"",Plantilla!$AL$6<>0),(Plantilla!$AL$6/$M$21),"") | H8: =IF(AND($D8<>"",H$6<>"",Plantilla!$AM$6<>0),(Plantilla!$AM$6)/($M$21),"") -> 28562.5 | J8: =IF(AND($D8<>"",J$6<>""),(Plantilla!$AN$6/$M$21),"") | K8: =IF(AND($D8<>"",K$6<>"",SUM(G8:J8)<>0),SUM(G8:J8),"") -> 28562.5 | L8: =IF(OR($L$6=0,D8=""),"",SUM(F8:J8)*$L$6) | M8: =IF(D8="","",SUM(F8,K8)+IF(L8="",0,L8)) -> 28562.5 | R8: 0
D9: =IF(V22<>"",V22,("")) -> Año 2 | F9: =IF($G$21=0,"",IF(Plantilla!AJ12<>"",Plantilla!AJ12,Plantilla!AO12)) -> 0 | G9: =IF(AND($D9<>"",G$6<>"",Plantilla!$AL$6<>0),(Plantilla!$AL$6/$M$21),"") | H9: =IF(AND($D9<>"",H$6<>"",Plantilla!$AM$6<>0),(Plantilla!$AM$6)/($M$21),"") -> 28562.5 | J9: =IF(AND($D9<>"",J$6<>""),(Plantilla!$AN$6/$M$21),"") | K9: =IF(AND($D9<>"",K$6<>"",SUM(G9:J9)<>0),SUM(G9:J9),"") -> 28562.5 | L9: =IF(OR($L$6=0,D9=""),"",SUM(F9:J9)*$L$6) | M9: =IF(D9="","",SUM(F9,K9)+IF(L9="",0,L9)) -> 28562.5
D10: =IF(V23<>"",V23,("")) -> Prorroga 1 | F10: =IF($G$21=0,"",IF(Plantilla!AK12<>"",Plantilla!AK12,Plantilla!AP12)) -> 0 | G10: =IF(AND($D10<>"",G$6<>"",Plantilla!$AL$6<>0),(Plantilla!$AL$6/$M$21),"") | H10: =IF(AND($D10<>"",H$6<>"",Plantilla!$AM$6<>0),(Plantilla!$AM$6)/($M$21),"") -> 28562.5 | J10: =IF(AND($D10<>"",J$6<>""),(Plantilla!$AN$6/$M$21),"") | K10: =IF(AND($D10<>"",K$6<>"",SUM(G10:J10)<>0),SUM(G10:J10),"") -> 28562.5 | L10: =IF(OR($L$6=0,D10=""),"",SUM(F10:J10)*$L$6) | M10: =IF(D10="","",SUM(F10,K10)+IF(L10="",0,L10)) -> 28562.5
D11: =IF(V24<>"",V24,("")) -> Prorroga 2 | F11: =IF($G$21=0,"",IF(Plantilla!AL12<>"",Plantilla!AL12,Plantilla!AQ12)) -> 0 | G11: =IF(AND($D11<>"",G$6<>"",Plantilla!$AL$6<>0),(Plantilla!$AL$6/$M$21),"") | H11: =IF(AND($D11<>"",H$6<>"",Plantilla!$AM$6<>0),(Plantilla!$AM$6)/($M$21),"") -> 28562.5 | J11: =IF(AND($D11<>"",J$6<>""),(Plantilla!$AN$6/$M$21),"") | K11: =IF(AND($D11<>"",K$6<>"",SUM(G11:J11)<>0),SUM(G11:J11),"") -> 28562.5 | L11: =IF(OR($L$6=0,D11=""),"",SUM(F11:J11)*$L$6) | M11: =IF(D11="","",SUM(F11,K11)+IF(L11="",0,L11)) -> 28562.5
D12: =IF(V25<>"",V25,("")) | F12: =IF($G$21=0,"",IF(Plantilla!AM12<>"",Plantilla!AM12,Plantilla!AR12)) | G12: =IF(AND($D12<>"",G$6<>"",Plantilla!$AL$6<>0),(Plantilla!$AL$6/$M$21),"") | H12: =IF(AND($D12<>"",H$6<>"",Plantilla!$AM$6<>0),(Plantilla!$AM$6)/($M$21),"") | J12: =IF(AND($D12<>"",J$6<>""),(Plantilla!$AN$6/$M$21),"") | K12: =IF(AND($D12<>"",K$6<>"",SUM(G12:J12)<>0),SUM(G12:J12),"") | L12: =IF(OR($L$6=0,D12=""),"",SUM(F12:J12)*$L$6) | M12: =IF(D12="","",SUM(F12,K12)+IF(L12="",0,L12))
F14: =IF($G$21=0,"",SUM(F8:F13)) -> 0 | G14: =IF(OR(G$6="",SUM(G8:G13)=0),"",SUM(G8:G13)) | H14: =IF(OR(H$6="",SUM(H8:I13)=0),"",SUM(H8:I13)) -> 114250 | J14: =IF(J$6="","",SUM(J8:J13)) | K14: =IF(OR(K$6="",SUM(K8:K13)=0),"",SUM(K8:K13)) -> 114250 | L14: =IF($L$6=0,"",SUM(L8:L12)) | M14: =SUM(M8:M12) -> 114250
C17: Criterios de Puntuación Económica | R17: cont. | S17: pror.
D19: Puntuacion máxima | G19: 70 | M19: Año | R19: =IF(M21>1,"s","") -> s
D21: Preventivo | G21: =G19-W21 -> 20 | J21: Duración del contrato | M21: 2 | R21: =IF(MAX($R$20:R20)=$M$21,"",R20+1) -> 1 | S21: =IF(R21="",IF(MAX($S$20:S20)<$M$22,S20+1,""),0) -> 0 | U21: =IF(R21<>"",MID($M$19,1,3)&R21,IF(S21<>"","pro"&S21,"")) -> Año1 | V21: =IF(R21<>"",$M$19&" "&R21,IF(S21<>"","Prorroga "&S21,"")) -> Año 1 | W21: 50
D22: Correctivo | G22: =G19-G21 -> 50 | J22: =IF(M22=0,"","Posibles prórrogas") -> Posibles prórrogas | M22: 2 | R22: =IF(MAX($R$20:R21)=$M$21,"",R21+1) -> 2 | S22: =IF(R22="",IF(MAX($S$20:S21)<$M$22,S21+1,""),0) -> 0 | U22: =IF(R22<>"",MID($M$19,1,3)&R22,IF(S22<>"","pro"&S22,"")) -> Año2 | V22: =IF(R22<>"",$M$19&" "&R22,IF(S22<>"","Prorroga "&S22,"")) -> Año 2
R23: =IF(MAX($R$20:R22)=$M$21,"",R22+1) | S23: =IF(R23="",IF(MAX($S$20:S22)<$M$22,S22+1,""),0) -> 1 | U23: =IF(R23<>"",MID($M$19,1,3)&R23,IF(S23<>"","pro"&S23,"")) -> pro1 | V23: =IF(R23<>"",$M$19&" "&R23,IF(S23<>"","Prorroga "&S23,"")) -> Prorroga 1
D24: Puntuación Total | H24: → | J24: =IF(G22=0,"PT = ❶"&D21,IF($G$21=0,"PT = ❷"&D22,"PT = ❶"&D21&" + ❷"&D22)) -> PT = ❶Preventivo + ❷Correctivo | R24: =IF(MAX($R$20:R23)=$M$21,"",R23+1) | S24: =IF(R24="",IF(MAX($S$20:S23)<$M$22,S23+1,""),0) -> 2 | U24: =IF(R24<>"",MID($M$19,1,3)&R24,IF(S24<>"","pro"&S24,"")) -> pro2 | V24: =IF(R24<>"",$M$19&" "&R24,IF(S24<>"","Prorroga "&S24,"")) -> Prorroga 2
R25: =IF(MAX($R$20:R24)=$M$21,"",R24+1) | S25: =IF(R25="",IF(MAX($S$20:S24)<$M$22,S24+1,""),0) | U25: =IF(R25<>"",MID($M$19,1,3)&R25,IF(S25<>"","pro"&S25,"")) | V25: =IF(R25<>"",$M$19&" "&R25,IF(S25<>"","Prorroga "&S25,""))
R26: =IF(MAX($R$20:R25)=$M$21,"",R25+1) | S26: =IF(R26="",IF(MAX($S$20:S25)<$M$22,S25+1,""),0) | U26: =IF(R26<>"",MID($M$19,1,3)&R26,IF(S26<>"","pro"&S26,"")) | V26: =IF(R26<>"",$M$19&" "&R26,IF(S26<>"","Prorroga "&S26,""))
