Workbook
Name _R1: 'Criterios de Puntuación'!$K$55
Name _R2: 'Criterios de Puntuación'!$K$56
Name _R3: 'Criterios de Puntuación'!$K$57
Name _R4: 'Criterios de Puntuación'!$K$58
Name _R5: 'Criterios de Puntuación'!$K$59
Name _R6: 'Criterios de Puntuación'!$K$60
Name _S1: 'Criterios de Puntuación'!$M$55
Name _S2: 'Criterios de Puntuación'!$M$56
Name _S3: 'Criterios de Puntuación'!$M$57
Name _S4: 'Criterios de Puntuación'!$M$58
Name _S5: 'Criterios de Puntuación'!$M$59
Name _S6: 'Criterios de Puntuación'!$M$60
Name ACT.: 'Criterios de Puntuación'!$M$46
Name Cif01_: #REF!
Name CP_1: 'Criterios de Puntuación'!$G$21
Name CP_2: 'Criterios de Puntuación'!$G$22
Name Dir_01: #REF!
Name Dur.C: 'Criterios de Puntuación'!$M$21
Name Dur.P: 'Criterios de Puntuación'!$M$22
Name Empresa_01: #REF!
Name Expte.: #REF!
Name HF: 'Criterios de Puntuación'!$M$43
Name HFJ: 'Criterios de Puntuación'!$M$41
Name HJL: 'Criterios de Puntuación'!$M$40
Name HN: 'Criterios de Puntuación'!$M$42
Name Lote: #REF!
Name Me: 'Criterios de Puntuación'!$M$47
Name Na: 'Criterios de Puntuación'!$M$46
Name Nh: 'Criterios de Puntuación'!$M$45
Name Objeto: #REF!
Name Plantilla: 'Criterios de Puntuación'!$D$36
Name PZ: 'Criterios de Puntuación'!$M$49

Sheet Plantilla
B2: CT340-25-087 | E2: 4 | G2: A.M. MANTENIMIENTO PREVENTIVO Y CORRECTIVO DE INSTALACIONES DE BAJA TENSIÓN, ILUMINACIÓN, FOTOVOLTAICA Y SAI. | AD2: prev | AE2: =CP_1 -> 20 | AF2: correc | AG2: =CP_2 -> 50 | AH2: dur.C | AI2: =Dur.C -> 2 | AJ2: pro | AK2: =Dur.P -> 2 | AL2: ACT | AM2: =ACT. -> 125 | AN2: =AM2*(1+(AK2/AI2)) -> 250 | AO2: CHECK | AQ2: =COUNTIF($B$15:$C$1000,"partida")+COUNTIF($B$15:$C$1000,"SUBTOTAL") -> 46 | AR2: =COUNTA($Z$15:$Z$1000) -> 20 | AS2: Plantilla | AU2: =Plantilla -> 1
B4: Empresa: | N4: =$E$12 -> Preventivo | Q4: =IF($AE$2=0,"","Importe TOTAL CONTRATO ("&AI2&" "&'Criterios de Puntuación'!M19&'Criterios de Puntuación'!R19&")") -> Importe TOTAL CONTRATO (2 Años) | AA4: =IF($AE$2=0,"",IF(OR(E4="",E5="",E6="")=TRUE,"Faltan Datos Empresa",IF(AQ2=AR2,SUM(AI12:AM12),"Faltan importes"))) -> Faltan Datos Empresa | AD4: =$E$13 -> Correctivo | AO4: ='Criterios de Puntuación'!$D$51 -> Suministros / Recargas (Sr)
B5: CIF: | Q5: =IF($AE$2=0,"",IF(AK2<>0,"Importe TOTAL CONTRATO + PRORROGAS","")) -> Importe TOTAL CONTRATO + PRORROGAS | AA5: =IF($AE$2=0,"",IF(AK2=0,"",IF(ISTEXT(AA4)=TRUE,AA4,IF(AND(AK2<>"",AK2<>0)=TRUE,SUM(AI12:AR12),"")))) -> Faltan Datos Empresa | AD5: HM | AE5: HJL | AF5: HFJ | AG5: HN | AH5: HF | AI5: DES | AJ5: ME | AK5: DM | AL5: Act. | AM5: PZ | AN5: SUM. | AO5: R6A | AP5: S6A | AQ5: R9A | AR5: S9A | AS5: R2C | AT5: S2C | AU5: R3C | AV5: S3C | AW5: R5C | AX5: S5C | AY5: R25 | AZ5: S25
B6: Dirección | N6: =$E$13 -> Correctivo | Q6: =IF($AG$2=0,"",IF(AM6=0,"Importe TOTAL CONTRATO para VALORACIÓN","Importe TOTAL CONTRATO para VALORACIÓN + PIEZAS")) -> Importe TOTAL CONTRATO para VALORACIÓN + PIEZAS | AA6: =IF($AG$2=0,"",IF(OR(E4="",E5="",E6="")=TRUE,"Faltan Datos Empresa",IF(AQ2=AR2,AL6+AM6+AN6,"Faltan importes"))) -> Faltan Datos Empresa | AD6: =SUMPRODUCT(AE6:AH6,AE7:AH7) -> 0 | AE6: =SUMIF($AG$15:$AG$499,AE$5,$AH$15:$AH$499)/$AU$2 -> 0 | AF6: =SUMIF($AG$15:$AG$499,AF$5,$AH$15:$AH$499)/$AU$2 -> 0 | AG6: =SUMIF($AG$15:$AG$499,AG$5,$AH$15:$AH$499)/$AU$2 -> 0 | AH6: =SUMIF($AG$15:$AG$499,AH$5,$AH$15:$AH$499)/$AU$2 -> 0 | AI6: =SUMIF($AG$15:$AG$500,AI$5,$AH$15:$AH$500) -> 0 | AJ6: =SUMIF($AG$15:$AG$499,AJ$5,$AH$15:$AH$499) -> 0 | AK6: =IFERROR($AI$6/$AI$7,0) -> 0 | AL6: =(AK6+(AD6*AD7)+(AJ6*AJ7))*AM2 -> 0 | AM6: =SUMIF($AG$15:$AG$500,AM$5,$AH$15:$AH$500) -> 57125 | AN6: =SUMPRODUCT(AO6:AZ6,AO7:AZ7) -> 0 | AO6: =SUMIF($AG$15:$AG$502,AO$5,$AH$15:$AH$502) -> 0 | AP6: =SUMIF($AG$15:$AG$502,AP$5,$AH$15:$AH$502) -> 0 | AQ6: =SUMIF($AG$15:$AG$502,AQ$5,$AH$15:$AH$502) -> 0 | AR6: =SUMIF($AG$15:$AG$502,AR$5,$AH$15:$AH$502) -> 0 | AS6: =SUMIF($AG$15:$AG$502,AS$5,$AH$15:$AH$502) -> 0 | AT6: =SUMIF($AG$15:$AG$502,AT$5,$AH$15:$AH$502) -> 0 | AU6: =SUMIF($AG$15:$AG$502,AU$5,$AH$15:$AH$502) -> 0 | AV6: =SUMIF($AG$15:$AG$502,AV$5,$AH$15:$AH$502) -> 0 | ... AZ6: =SUMIF($AG$15:$AG$502,AZ$5,$AH$15:$AH$502) -> 0
B7: =IF($AK$2=0,"● Duración del contrato: "&AI2&" "&'Criterios de Puntuación'!M19&'Criterios de Puntuación'!R19&" (No prorrogable)","● Duración del contrato: "&AI2&" "&'Criterios de Puntuación'!M19&'Criterios de Puntuación'!R19&" + "&AK2&" Posible/s prórroga/s") -> ● Duración del contrato: 2 Años + 2 Posible/s prórroga/s | Q7: =IF($AK$2=0,"",IF($AG$2=0,"",IF(AM6=0,"Importe TOTAL CONTRATO + PRORROGAS para VALORACIÓN","Importe TOTAL CONTRATO + PRORROGAS para VALORACIÓN + PIEZAS"))) -> Importe TOTAL CONTRATO + PRORROGAS para VALORACIÓN + PIEZAS | AA7: =IF(AK2=0,"",IF($AG$2=0,"",IF(OR(E4="",E5="",E6="")=TRUE,"Faltan Datos Empresa",IF(AQ2=AR2,AL7+AM7+AN7,"Faltan importes")))) -> Faltan Datos Empresa | AD7: =Nh -> 6 | AE7: =HJL -> 0.65 | AF7: =HFJ -> 0.2 | AG7: =HN -> 0.1 | AH7: =HF -> 0.05 | AI7: =COUNTIF($AG$15:AG503,$AI$5) -> 18 | AJ7: =Me -> 0.3 | AL7: =(AK6+(AD6*AD7)+(AJ6*AJ7))*AN2 -> 0 | AM7: =(AM6/$AI$2)*($AI$2+$AK$2) -> 114250 | AN7: =(AN6/$AI$2)*($AI$2+$AK$2) -> 0 | AO7: =_R1 -> 1 | AP7: =_S1 -> 10 | AQ7: =_R2 -> 2 | AR7: =_S2 -> 11 | AS7: =_R3 -> 3 | AT7: =_S3 -> 12 | AU7: =_R4 -> 4 | AV7: =_S4 -> 13 | AW7: =_R5 -> 5 | AX7: =_S5 -> 14 | AY7: =_R6 -> 6 | AZ7: =_S6 -> 15
B9: NOTA: | D9: =IF($AU$2=1,"* No se podrá superar los importes máximos indicados en cada una de las partidas.","* El importe de la hora de peón, no puede ser inferior a un 50% del importe de la hora de oficial en cada uno de los tramos horarios. // No se podrá superar los importes máximos indicados en cada una de las partidas.") -> * No se podrá superar los importes máximos indicados en cada una de las partidas. | AD9: ← PARTIDAS | AE9: ="← "&$E$13 -> ← Correctivo | AI9: ='Criterios de Puntuación'!$D$21 -> Preventivo
D10: * Cumplimentar todas las casillas de color amarillo. En el caso de que no estén cumplimentadas todos los importes aparecerá un mensaje de error "Faltan importes" | AI10: CONTRATO | AN10: PRORROGA
B12: Tipo | D12: Código | E12: =IF('Criterios de Puntuación'!$G$21=0,"",'Criterios de Puntuación'!$D$21) -> Preventivo | F12: Provincia | G12: Centro/Tipo | I12: Descripción | S12: Actuaciones | X12: Unidad | Y12: Imp. Max. | Z12: Imp. Unitario OFERTADO | AA12: Total | AI12: =IF(AI$13="","",SUM(AI$14:AI$1000)) -> 0 | AJ12: =IF(AJ$13="","",SUM(AJ$14:AJ$1000)) -> 0 | AK12: =IF(AK$13="","",SUM(AK$14:AK$1000)) | AL12: =IF(AL$13="","",SUM(AL$14:AL$1000)) | AM12: =IF(AM$13="","",SUM(AM$14:AM$1000)) | AN12: =IF(AN$13="","",SUM(AN$14:AN$1000)) | AO12: =IF(AO$13="","",SUM(AO$14:AO$1000)) | AP12: =IF(AP$13="","",SUM(AP$14:AP$1000)) -> 0 | ... AR12: =IF(AR$13="","",SUM(AR$14:AR$1000))
E13: =IF('Criterios de Puntuación'!$G$22=0,"",'Criterios de Puntuación'!$D$22) -> Correctivo | S13: ='Criterios de Puntuación'!U21 -> Año1 | T13: ='Criterios de Puntuación'!U22 -> Año2 | U13: ='Criterios de Puntuación'!U23 -> pro1 | V13: ='Criterios de Puntuación'!U24 -> pro2 | W13: ='Criterios de Puntuación'!U25 | AA13: Contrato | AB13: Cto. + Prorroga | AI13: =IF(MID(S13,1,3)=MID('Criterios de Puntuación'!$M$19,1,3),1,"") -> 1 | AJ13: =IF(MID(T13,1,3)=MID('Criterios de Puntuación'!$M$19,1,3),2,"") -> 2 | AK13: =IF(MID(U13,1,3)=MID('Criterios de Puntuación'!$M$19,1,3),3,"") | AL13: =IF(MID(V13,1,3)=MID('Criterios de Puntuación'!$M$19,1,3),4,"") | AM13: =IF(MID(W13,1,3)=MID('Criterios de Puntuación'!$M$19,1,3),5,"") | AN13: =IF(MID(S13,1,3)="pro",1,"") | AO13: =IF(MID(T13,1,3)="pro",2,"") | AP13: =IF(MID(U13,1,3)="pro",3,"") -> 3 | AQ13: =IF(MID(V13,1,3)="pro",4,"") -> 4 | AR13: =IF(MID(W13,1,3)="pro",5,"")
B15: Capítulo | D15: 01 | E15: Preventivo | I15: MANTENIMIENTO PREVENTIVO | AA15: =IFERROR(IF(OR(B15="",B15="SUBTOTAL"),"",IF(AND(B15="Capítulo",E15=E$12),SUMIF(AD$15:AD$500,D15,AA$15:AA$500),IF(E15=E$13,AE15*Z15,SUM(AI15:AM15)))),"") -> 0 | AB15: =IFERROR(IF(OR(AK$2=0,B15="",B15="SUBTOTAL"),"",IF(AND(B15="Capítulo",E15=E$12),SUMIF(AD$15:AD$500,D15,AB$15:AB$500),IF(E15=E$13,AF15*Z15,SUM(AI15:AR15)))),"") -> 0 | AD15: =IF(B15="PARTIDA",MID(D15,1,2),"") | AE15: =IF(AND($E15=$E$13,$B15="PARTIDA"),IF($G15="PZ",$AM$2,1),"") | AF15: =IF(AND($E15=$E$13,$B15="PARTIDA"),IF($G15="PZ",$AN$2,1),"") | AG15: =IF(E15=$E$13,MID($G15,1,3),"") | AH15: =IF(E15=$E$13,AA15,"") | AI15: =IF(OR(AI$13="",S15="",$E15=$E$13,$B15<>"partida"),"",S15*$Z15) | AJ15: =IF(OR(AJ$13="",T15="",$E15=$E$13,$B15<>"partida"),"",T15*$Z15) | AK15: =IF(OR(AK$13="",U15="",$E15=$E$13,$B15<>"partida"),"",U15*$Z15) | AL15: =IF(OR(AL$13="",V15="",$E15=$E$13,$B15<>"partida"),"",V15*$Z15) | AM15: =IF(OR(AM$13="",W15="",$E15=$E$13,$B15<>"partida"),"",W15*$Z15) | AN15: =IF(OR(AN$13="",S15="",$E15=$E$13,$B15<>"partida"),"",S15*$Z15) | AO15: =IF(OR(AO$13="",T15="",$E15=$E$13,$B15<>"partida"),"",T15*$Z15) | AP15: =IF(OR(AP$13="",U15="",$E15=$E$13,$B15<>"partida"),"",U15*$Z15) | AQ15: =IF(OR(AQ$13="",V15="",$E15=$E$13,$B15<>"partida"),"",V15*$Z15) | AR15: =IF(OR(AR$13="",W15="",$E15=$E$13,$B15<>"partida"),"",W15*$Z15)
B16: Subtotal | D16: 01.01 | E16: Preventivo | I16: MANTENIMIENTO PREVENTIVO TIPO 1 | Y16: 1200 | AA16: =IFERROR(IF(OR(B16="",B16="SUBTOTAL"),"",IF(AND(B16="Capítulo",E16=E$12),SUMIF(AD$15:AD$500,D16,AA$15:AA$500),IF(E16=E$13,AE16*Z16,SUM(AI16:AM16)))),"") | AB16: =IFERROR(IF(OR(AK$2=0,B16="",B16="SUBTOTAL"),"",IF(AND(B16="Capítulo",E16=E$12),SUMIF(AD$15:AD$500,D16,AB$15:AB$500),IF(E16=E$13,AF16*Z16,SUM(AI16:AR16)))),"") | AD16: =IF(B16="PARTIDA",MID(D16,1,2),"") | AE16: =IF(AND($E16=$E$13,$B16="PARTIDA"),IF($G16="PZ",$AM$2,1),"") | AF16: =IF(AND($E16=$E$13,$B16="PARTIDA"),IF($G16="PZ",$AN$2,1),"") | AG16: =IF(E16=$E$13,MID($G16,1,3),"") | AH16: =IF(E16=$E$13,AA16,"") | AI16: =IF(OR(AI$13="",S16="",$E16=$E$13,$B16<>"partida"),"",S16*$Z16) | AJ16: =IF(OR(AJ$13="",T16="",$E16=$E$13,$B16<>"partida"),"",T16*$Z16) | AK16: =IF(OR(AK$13="",U16="",$E16=$E$13,$B16<>"partida"),"",U16*$Z16) | AL16: =IF(OR(AL$13="",V16="",$E16=$E$13,$B16<>"partida"),"",V16*$Z16) | AM16: =IF(OR(AM$13="",W16="",$E16=$E$13,$B16<>"partida"),"",W16*$Z16) | AN16: =IF(OR(AN$13="",S16="",$E16=$E$13,$B16<>"partida"),"",S16*$Z16) | AO16: =IF(OR(AO$13="",T16="",$E16=$E$13,$B16<>"partida"),"",T16*$Z16) | AP16: =IF(OR(AP$13="",U16="",$E16=$E$13,$B16<>"partida"),"",U16*$Z16) | AQ16: =IF(OR(AQ$13="",V16="",$E16=$E$13,$B16<>"partida"),"",V16*$Z16) | AR16: =IF(OR(AR$13="",W16="",$E16=$E$13,$B16<>"partida"),"",W16*$Z16)
B17: Partida | D17: 01.01.01 | E17: Preventivo | F17: AL | G17: ITV | H17: Almería 1 | I17: Preventivo Anual Instalación BT, iluminación, fotovoltaica y SAI | S17: 1 | T17: 1 | U17: 1 | V17: 1 | X17: €/Rev | Z17: =$Z$16 -> 0 | AA17: =IFERROR(IF(OR(B17="",B17="SUBTOTAL"),"",IF(AND(B17="Capítulo",E17=E$12),SUMIF(AD$15:AD$500,D17,AA$15:AA$500),IF(E17=E$13,AE17*Z17,SUM(AI17:AM17)))),"") -> 0 | AB17: =IFERROR(IF(OR(AK$2=0,B17="",B17="SUBTOTAL"),"",IF(AND(B17="Capítulo",E17=E$12),SUMIF(AD$15:AD$500,D17,AB$15:AB$500),IF(E17=E$13,AF17*Z17,SUM(AI17:AR17)))),"") -> 0 | AD17: =IF(B17="PARTIDA",MID(D17,1,2),"") -> 01 | AE17: =IF(AND($E17=$E$13,$B17="PARTIDA"),IF($G17="PZ",$AM$2,1),"") | AF17: =IF(AND($E17=$E$13,$B17="PARTIDA"),IF($G17="PZ",$AN$2,1),"") | AG17: =IF(E17=$E$13,MID($G17,1,3),"") | AH17: =IF(E17=$E$13,AA17,"") | AI17: =IF(OR(AI$13="",S17="",$E17=$E$13,$B17<>"partida"),"",S17*$Z17) -> 0 | AJ17: =IF(OR(AJ$13="",T17="",$E17=$E$13,$B17<>"partida"),"",T17*$Z17) -> 0 | AK17: =IF(OR(AK$13="",U17="",$E17=$E$13,$B17<>"partida"),"",U17*$Z17) | AL17: =IF(OR(AL$13="",V17="",$E17=$E$13,$B17<>"partida"),"",V17*$Z17) | AM17: =IF(OR(AM$13="",W17="",$E17=$E$13,$B17<>"partida"),"",W17*$Z17) | AN17: =IF(OR(AN$13="",S17="",$E17=$E$13,$B17<>"partida"),"",S17*$Z17) | AO17: =IF(OR(AO$13="",T17="",$E17=$E$13,$B17<>"partida"),"",T17*$Z17) | AP17: =IF(OR(AP$13="",U17="",$E17=$E$13,$B17<>"partida"),"",U17*$Z17) -> 0 | AQ17: =IF(OR(AQ$13="",V17="",$E17=$E$13,$B17<>"partida"),"",V17*$Z17) -> 0 | AR17: =IF(OR(AR$13="",W17="",$E17=$E$13,$B17<>"partida"),"",W17*$Z17)
B18: Partida | D18: 01.01.02 | E18: Preventivo | F18: GR | G18: ITV | H18: Peligros | I18: Preventivo Anual Instalación BT, iluminación, fotovoltaica y SAI | S18: 1 | T18: 1 | U18: 1 | V18: 1 | X18: €/Rev | Z18: =$Z$16 -> 0 | AA18: =IFERROR(IF(OR(B18="",B18="SUBTOTAL"),"",IF(AND(B18="Capítulo",E18=E$12),SUMIF(AD$15:AD$500,D18,AA$15:AA$500),IF(E18=E$13,AE18*Z18,SUM(AI18:AM18)))),"") -> 0 | AB18: =IFERROR(IF(OR(AK$2=0,B18="",B18="SUBTOTAL"),"",IF(AND(B18="Capítulo",E18=E$12),SUMIF(AD$15:AD$500,D18,AB$15:AB$500),IF(E18=E$13,AF18*Z18,SUM(AI18:AR18)))),"") -> 0 | AD18: =IF(B18="PARTIDA",MID(D18,1,2),"") -> 01 | AE18: =IF(AND($E18=$E$13,$B18="PARTIDA"),IF($G18="PZ",$AM$2,1),"") | AF18: =IF(AND($E18=$E$13,$B18="PARTIDA"),IF($G18="PZ",$AN$2,1),"") | AG18: =IF(E18=$E$13,MID($G18,1,3),"") | AH18: =IF(E18=$E$13,AA18,"") | AI18: =IF(OR(AI$13="",S18="",$E18=$E$13,$B18<>"partida"),"",S18*$Z18) -> 0 | AJ18: =IF(OR(AJ$13="",T18="",$E18=$E$13,$B18<>"partida"),"",T18*$Z18) -> 0 | AK18: =IF(OR(AK$13="",U18="",$E18=$E$13,$B18<>"partida"),"",U18*$Z18) | AL18: =IF(OR(AL$13="",V18="",$E18=$E$13,$B18<>"partida"),"",V18*$Z18) | AM18: =IF(OR(AM$13="",W18="",$E18=$E$13,$B18<>"partida"),"",W18*$Z18) | AN18: =IF(OR(AN$13="",S18="",$E18=$E$13,$B18<>"partida"),"",S18*$Z18) | AO18: =IF(OR(AO$13="",T18="",$E18=$E$13,$B18<>"partida"),"",T18*$Z18) | AP18: =IF(OR(AP$13="",U18="",$E18=$E$13,$B18<>"partida"),"",U18*$Z18) -> 0 | AQ18: =IF(OR(AQ$13="",V18="",$E18=$E$13,$B18<>"partida"),"",V18*$Z18) -> 0 | AR18: =IF(OR(AR$13="",W18="",$E18=$E$13,$B18<>"partida"),"",W18*$Z18)
B19: Subtotal | D19: 01.02.01 | E19: Preventivo | I19: MANTENIMIENTO PREVENTIVO TIPO 2 | Y19: 750 | AA19: =IFERROR(IF(OR(B19="",B19="SUBTOTAL"),"",IF(AND(B19="Capítulo",E19=E$12),SUMIF(AD$15:AD$500,D19,AA$15:AA$500),IF(E19=E$13,AE19*Z19,SUM(AI19:AM19)))),"") | AB19: =IFERROR(IF(OR(AK$2=0,B19="",B19="SUBTOTAL"),"",IF(AND(B19="Capítulo",E19=E$12),SUMIF(AD$15:AD$500,D19,AB$15:AB$500),IF(E19=E$13,AF19*Z19,SUM(AI19:AR19)))),"") | AD19: =IF(B19="PARTIDA",MID(D19,1,2),"") | AE19: =IF(AND($E19=$E$13,$B19="PARTIDA"),IF($G19="PZ",$AM$2,1),"") | AF19: =IF(AND($E19=$E$13,$B19="PARTIDA"),IF($G19="PZ",$AN$2,1),"") | AG19: =IF(E19=$E$13,MID($G19,1,3),"") | AH19: =IF(E19=$E$13,AA19,"") | AI19: =IF(OR(AI$13="",S19="",$E19=$E$13,$B19<>"partida"),"",S19*$Z19) | AJ19: =IF(OR(AJ$13="",T19="",$E19=$E$13,$B19<>"partida"),"",T19*$Z19) | AK19: =IF(OR(AK$13="",U19="",$E19=$E$13,$B19<>"partida"),"",U19*$Z19) | AL19: =IF(OR(AL$13="",V19="",$E19=$E$13,$B19<>"partida"),"",V19*$Z19) | AM19: =IF(OR(AM$13="",W19="",$E19=$E$13,$B19<>"partida"),"",W19*$Z19) | AN19: =IF(OR(AN$13="",S19="",$E19=$E$13,$B19<>"partida"),"",S19*$Z19) | AO19: =IF(OR(AO$13="",T19="",$E19=$E$13,$B19<>"partida"),"",T19*$Z19) | AP19: =IF(OR(AP$13="",U19="",$E19=$E$13,$B19<>"partida"),"",U19*$Z19) | AQ19: =IF(OR(AQ$13="",V19="",$E19=$E$13,$B19<>"partida"),"",V19*$Z19) | AR19: =IF(OR(AR$13="",W19="",$E19=$E$13,$B19<>"partida"),"",W19*$Z19)
B20: Partida | D20: 01.02.02 | E20: Preventivo | F20: AL | G20: ITV | H20: Almería 2 | I20: Preventivo Anual Instalación BT, iluminación, fotovoltaica y SAI | S20: 1 | T20: 1 | U20: 1 | V20: 1 | X20: €/Rev | Z20: =$Z$19 -> 0 | AA20: =IFERROR(IF(OR(B20="",B20="SUBTOTAL"),"",IF(AND(B20="Capítulo",E20=E$12),SUMIF(AD$15:AD$500,D20,AA$15:AA$500),IF(E20=E$13,AE20*Z20,SUM(AI20:AM20)))),"") -> 0 | AB20: =IFERROR(IF(OR(AK$2=0,B20="",B20="SUBTOTAL"),"",IF(AND(B20="Capítulo",E20=E$12),SUMIF(AD$15:AD$500,D20,AB$15:AB$500),IF(E20=E$13,AF20*Z20,SUM(AI20:AR20)))),"") -> 0 | AD20: =IF(B20="PARTIDA",MID(D20,1,2),"") -> 01 | AE20: =IF(AND($E20=$E$13,$B20="PARTIDA"),IF($G20="PZ",$AM$2,1),"") | AF20: =IF(AND($E20=$E$13,$B20="PARTIDA"),IF($G20="PZ",$AN$2,1),"") | AG20: =IF(E20=$E$13,MID($G20,1,3),"") | AH20: =IF(E20=$E$13,AA20,"") | AI20: =IF(OR(AI$13="",S20="",$E20=$E$13,$B20<>"partida"),"",S20*$Z20) -> 0 | AJ20: =IF(OR(AJ$13="",T20="",$E20=$E$13,$B20<>"partida"),"",T20*$Z20) -> 0 | AK20: =IF(OR(AK$13="",U20="",$E20=$E$13,$B20<>"partida"),"",U20*$Z20) | AL20: =IF(OR(AL$13="",V20="",$E20=$E$13,$B20<>"partida"),"",V20*$Z20) | AM20: =IF(OR(AM$13="",W20="",$E20=$E$13,$B20<>"partida"),"",W20*$Z20) | AN20: =IF(OR(AN$13="",S20="",$E20=$E$13,$B20<>"partida"),"",S20*$Z20) | AO20: =IF(OR(AO$13="",T20="",$E20=$E$13,$B20<>"partida"),"",T20*$Z20) | AP20: =IF(OR(AP$13="",U20="",$E20=$E$13,$B20<>"partida"),"",U20*$Z20) -> 0 | AQ20: =IF(OR(AQ$13="",V20="",$E20=$E$13,$B20<>"partida"),"",V20*$Z20) -> 0 | AR20: =IF(OR(AR$13="",W20="",$E20=$E$13,$B20<>"partida"),"",W20*$Z20)
B21: Partida | D21: 01.02.03 | E21: Preventivo | F21: AL | G21: ITV | H21: Vícar | I21: Preventivo Anual Instalación BT, iluminación, fotovoltaica y SAI | S21: 1 | T21: 1 | U21: 1 | V21: 1 | X21: €/Rev | Z21: =$Z$19 -> 0 | AA21: =IFERROR(IF(OR(B21="",B21="SUBTOTAL"),"",IF(AND(B21="Capítulo",E21=E$12),SUMIF(AD$15:AD$500,D21,AA$15:AA$500),IF(E21=E$13,AE21*Z21,SUM(AI21:AM21)))),"") -> 0 | AB21: =IFERROR(IF(OR(AK$2=0,B21="",B21="SUBTOTAL"),"",IF(AND(B21="Capítulo",E21=E$12),SUMIF(AD$15:AD$500,D21,AB$15:AB$500),IF(E21=E$13,AF21*Z21,SUM(AI21:AR21)))),"") -> 0 | AD21: =IF(B21="PARTIDA",MID(D21,1,2),"") -> 01 | AE21: =IF(AND($E21=$E$13,$B21="PARTIDA"),IF($G21="PZ",$AM$2,1),"") | AF21: =IF(AND($E21=$E$13,$B21="PARTIDA"),IF($G21="PZ",$AN$2,1),"") | AG21: =IF(E21=$E$13,MID($G21,1,3),"") | AH21: =IF(E21=$E$13,AA21,"") | AI21: =IF(OR(AI$13="",S21="",$E21=$E$13,$B21<>"partida"),"",S21*$Z21) -> 0 | AJ21: =IF(OR(AJ$13="",T21="",$E21=$E$13,$B21<>"partida"),"",T21*$Z21) -> 0 | AK21: =IF(OR(AK$13="",U21="",$E21=$E$13,$B21<>"partida"),"",U21*$Z21) | AL21: =IF(OR(AL$13="",V21="",$E21=$E$13,$B21<>"partida"),"",V21*$Z21) | AM21: =IF(OR(AM$13="",W21="",$E21=$E$13,$B21<>"partida"),"",W21*$Z21) | AN21: =IF(OR(AN$13="",S21="",$E21=$E$13,$B21<>"partida"),"",S21*$Z21) | AO21: =IF(OR(AO$13="",T21="",$E21=$E$13,$B21<>"partida"),"",T21*$Z21) | AP21: =IF(OR(AP$13="",U21="",$E21=$E$13,$B21<>"partida"),"",U21*$Z21) -> 0 | AQ21: =IF(OR(AQ$13="",V21="",$E21=$E$13,$B21<>"partida"),"",V21*$Z21) -> 0 | AR21: =IF(OR(AR$13="",W21="",$E21=$E$13,$B21<>"partida"),"",W21*$Z21)
B22: Partida | D22: 01.02.04 | E22: Preventivo | F22: AL | G22: ITV | H22: Balanegra | I22: Preventivo Anual Instalación BT, iluminación, fotovoltaica y SAI | S22: 1 | T22: 1 | U22: 1 | V22: 1 | X22: €/Rev | Z22: =$Z$19 -> 0 | AA22: =IFERROR(IF(OR(B22="",B22="SUBTOTAL"),"",IF(AND(B22="Capítulo",E22=E$12),SUMIF(AD$15:AD$500,D22,AA$15:AA$500),IF(E22=E$13,AE22*Z22,SUM(AI22:AM22)))),"") -> 0 | AB22: =IFERROR(IF(OR(AK$2=0,B22="",B22="SUBTOTAL"),"",IF(AND(B22="Capítulo",E22=E$12),SUMIF(AD$15:AD$500,D22,AB$15:AB$500),IF(E22=E$13,AF22*Z22,SUM(AI22:AR22)))),"") -> 0 | AD22: =IF(B22="PARTIDA",MID(D22,1,2),"") -> 01 | AE22: =IF(AND($E22=$E$13,$B22="PARTIDA"),IF($G22="PZ",$AM$2,1),"") | AF22: =IF(AND($E22=$E$13,$B22="PARTIDA"),IF($G22="PZ",$AN$2,1),"") | AG22: =IF(E22=$E$13,MID($G22,1,3),"") | AH22: =IF(E22=$E$13,AA22,"") | AI22: =IF(OR(AI$13="",S22="",$E22=$E$13,$B22<>"partida"),"",S22*$Z22) -> 0 | AJ22: =IF(OR(AJ$13="",T22="",$E22=$E$13,$B22<>"partida"),"",T22*$Z22) -> 0 | AK22: =IF(OR(AK$13="",U22="",$E22=$E$13,$B22<>"partida"),"",U22*$Z22) | AL22: =IF(OR(AL$13="",V22="",$E22=$E$13,$B22<>"partida"),"",V22*$Z22) | AM22: =IF(OR(AM$13="",W22="",$E22=$E$13,$B22<>"partida"),"",W22*$Z22) | AN22: =IF(OR(AN$13="",S22="",$E22=$E$13,$B22<>"partida"),"",S22*$Z22) | AO22: =IF(OR(AO$13="",T22="",$E22=$E$13,$B22<>"partida"),"",T22*$Z22) | AP22: =IF(OR(AP$13="",U22="",$E22=$E$13,$B22<>"partida"),"",U22*$Z22) -> 0 | AQ22: =IF(OR(AQ$13="",V22="",$E22=$E$13,$B22<>"partida"),"",V22*$Z22) -> 0 | AR22: =IF(OR(AR$13="",W22="",$E22=$E$13,$B22<>"partida"),"",W22*$Z22)
B23: Partida | D23: 01.02.05 | E23: Preventivo | F23: AL | G23: ITV | H23: Las Tres Villas | I23: Preventivo Anual Instalación BT, iluminación, fotovoltaica y SAI | S23: 1 | T23: 1 | U23: 1 | V23: 1 | X23: €/Rev | Z23: =$Z$19 -> 0 | AA23: =IFERROR(IF(OR(B23="",B23="SUBTOTAL"),"",IF(AND(B23="Capítulo",E23=E$12),SUMIF(AD$15:AD$500,D23,AA$15:AA$500),IF(E23=E$13,AE23*Z23,SUM(AI23:AM23)))),"") -> 0 | AB23: =IFERROR(IF(OR(AK$2=0,B23="",B23="SUBTOTAL"),"",IF(AND(B23="Capítulo",E23=E$12),SUMIF(AD$15:AD$500,D23,AB$15:AB$500),IF(E23=E$13,AF23*Z23,SUM(AI23:AR23)))),"") -> 0 | AD23: =IF(B23="PARTIDA",MID(D23,1,2),"") -> 01 | AE23: =IF(AND($E23=$E$13,$B23="PARTIDA"),IF($G23="PZ",$AM$2,1),"") | AF23: =IF(AND($E23=$E$13,$B23="PARTIDA"),IF($G23="PZ",$AN$2,1),"") | AG23: =IF(E23=$E$13,MID($G23,1,3),"") | AH23: =IF(E23=$E$13,AA23,"") | AI23: =IF(OR(AI$13="",S23="",$E23=$E$13,$B23<>"partida"),"",S23*$Z23) -> 0 | AJ23: =IF(OR(AJ$13="",T23="",$E23=$E$13,$B23<>"partida"),"",T23*$Z23) -> 0 | AK23: =IF(OR(AK$13="",U23="",$E23=$E$13,$B23<>"partida"),"",U23*$Z23) | AL23: =IF(OR(AL$13="",V23="",$E23=$E$13,$B23<>"partida"),"",V23*$Z23) | AM23: =IF(OR(AM$13="",W23="",$E23=$E$13,$B23<>"partida"),"",W23*$Z23) | AN23: =IF(OR(AN$13="",S23="",$E23=$E$13,$B23<>"partida"),"",S23*$Z23) | AO23: =IF(OR(AO$13="",T23="",$E23=$E$13,$B23<>"partida"),"",T23*$Z23) | AP23: =IF(OR(AP$13="",U23="",$E23=$E$13,$B23<>"partida"),"",U23*$Z23) -> 0 | AQ23: =IF(OR(AQ$13="",V23="",$E23=$E$13,$B23<>"partida"),"",V23*$Z23) -> 0 | AR23: =IF(OR(AR$13="",W23="",$E23=$E$13,$B23<>"partida"),"",W23*$Z23)
B24: Partida | D24: 01.02.06 | E24: Preventivo | F24: AL | G24: ITV | H24: Níjar | I24: Preventivo Anual Instalación BT, iluminación, fotovoltaica y SAI | S24: 1 | T24: 1 | U24: 1 | V24: 1 | X24: €/Rev | Z24: =$Z$19 -> 0 | AA24: =IFERROR(IF(OR(B24="",B24="SUBTOTAL"),"",IF(AND(B24="Capítulo",E24=E$12),SUMIF(AD$15:AD$500,D24,AA$15:AA$500),IF(E24=E$13,AE24*Z24,SUM(AI24:AM24)))),"") -> 0 | AB24: =IFERROR(IF(OR(AK$2=0,B24="",B24="SUBTOTAL"),"",IF(AND(B24="Capítulo",E24=E$12),SUMIF(AD$15:AD$500,D24,AB$15:AB$500),IF(E24=E$13,AF24*Z24,SUM(AI24:AR24)))),"") -> 0 | AD24: =IF(B24="PARTIDA",MID(D24,1,2),"") -> 01 | AE24: =IF(AND($E24=$E$13,$B24="PARTIDA"),IF($G24="PZ",$AM$2,1),"") | AF24: =IF(AND($E24=$E$13,$B24="PARTIDA"),IF($G24="PZ",$AN$2,1),"") | AG24: =IF(E24=$E$13,MID($G24,1,3),"") | AH24: =IF(E24=$E$13,AA24,"") | AI24: =IF(OR(AI$13="",S24="",$E24=$E$13,$B24<>"partida"),"",S24*$Z24) -> 0 | AJ24: =IF(OR(AJ$13="",T24="",$E24=$E$13,$B24<>"partida"),"",T24*$Z24) -> 0 | AK24: =IF(OR(AK$13="",U24="",$E24=$E$13,$B24<>"partida"),"",U24*$Z24) | AL24: =IF(OR(AL$13="",V24="",$E24=$E$13,$B24<>"partida"),"",V24*$Z24) | AM24: =IF(OR(AM$13="",W24="",$E24=$E$13,$B24<>"partida"),"",W24*$Z24) | AN24: =IF(OR(AN$13="",S24="",$E24=$E$13,$B24<>"partida"),"",S24*$Z24) | AO24: =IF(OR(AO$13="",T24="",$E24=$E$13,$B24<>"partida"),"",T24*$Z24) | AP24: =IF(OR(AP$13="",U24="",$E24=$E$13,$B24<>"partida"),"",U24*$Z24) -> 0 | AQ24: =IF(OR(AQ$13="",V24="",$E24=$E$13,$B24<>"partida"),"",V24*$Z24) -> 0 | AR24: =IF(OR(AR$13="",W24="",$E24=$E$13,$B24<>"partida"),"",W24*$Z24)
B25: Partida | D25: 01.02.07 | E25: Preventivo | F25: AL | G25: ITV | H25: Vera | I25: Preventivo Anual Instalación BT, iluminación, fotovoltaica y SAI | S25: 1 | T25: 1 | U25: 1 | V25: 1 | X25: €/Rev | Z25: =$Z$19 -> 0 | AA25: =IFERROR(IF(OR(B25="",B25="SUBTOTAL"),"",IF(AND(B25="Capítulo",E25=E$12),SUMIF(AD$15:AD$500,D25,AA$15:AA$500),IF(E25=E$13,AE25*Z25,SUM(AI25:AM25)))),"") -> 0 | AB25: =IFERROR(IF(OR(AK$2=0,B25="",B25="SUBTOTAL"),"",IF(AND(B25="Capítulo",E25=E$12),SUMIF(AD$15:AD$500,D25,AB$15:AB$500),IF(E25=E$13,AF25*Z25,SUM(AI25:AR25)))),"") -> 0 | AD25: =IF(B25="PARTIDA",MID(D25,1,2),"") -> 01 | AE25: =IF(AND($E25=$E$13,$B25="PARTIDA"),IF($G25="PZ",$AM$2,1),"") | AF25: =IF(AND($E25=$E$13,$B25="PARTIDA"),IF($G25="PZ",$AN$2,1),"") | AG25: =IF(E25=$E$13,MID($G25,1,3),"") | AH25: =IF(E25=$E$13,AA25,"") | AI25: =IF(OR(AI$13="",S25="",$E25=$E$13,$B25<>"partida"),"",S25*$Z25) -> 0 | AJ25: =IF(OR(AJ$13="",T25="",$E25=$E$13,$B25<>"partida"),"",T25*$Z25) -> 0 | AK25: =IF(OR(AK$13="",U25="",$E25=$E$13,$B25<>"partida"),"",U25*$Z25) | AL25: =IF(OR(AL$13="",V25="",$E25=$E$13,$B25<>"partida"),"",V25*$Z25) | AM25: =IF(OR(AM$13="",W25="",$E25=$E$13,$B25<>"partida"),"",W25*$Z25) | AN25: =IF(OR(AN$13="",S25="",$E25=$E$13,$B25<>"partida"),"",S25*$Z25) | AO25: =IF(OR(AO$13="",T25="",$E25=$E$13,$B25<>"partida"),"",T25*$Z25) | AP25: =IF(OR(AP$13="",U25="",$E25=$E$13,$B25<>"partida"),"",U25*$Z25) -> 0 | AQ25: =IF(OR(AQ$13="",V25="",$E25=$E$13,$B25<>"partida"),"",V25*$Z25) -> 0 | AR25: =IF(OR(AR$13="",W25="",$E25=$E$13,$B25<>"partida"),"",W25*$Z25)
B26: Partida | D26: 01.02.08 | E26: Preventivo | F26: AL | G26: ITV | H26: Albox | I26: Preventivo Anual Instalación BT, iluminación, fotovoltaica y SAI | S26: 1 | T26: 1 | U26: 1 | V26: 1 | X26: €/Rev | Z26: =$Z$19 -> 0 | AA26: =IFERROR(IF(OR(B26="",B26="SUBTOTAL"),"",IF(AND(B26="Capítulo",E26=E$12),SUMIF(AD$15:AD$500,D26,AA$15:AA$500),IF(E26=E$13,AE26*Z26,SUM(AI26:AM26)))),"") -> 0 | AB26: =IFERROR(IF(OR(AK$2=0,B26="",B26="SUBTOTAL"),"",IF(AND(B26="Capítulo",E26=E$12),SUMIF(AD$15:AD$500,D26,AB$15:AB$500),IF(E26=E$13,AF26*Z26,SUM(AI26:AR26)))),"") -> 0 | AD26: =IF(B26="PARTIDA",MID(D26,1,2),"") -> 01 | AE26: =IF(AND($E26=$E$13,$B26="PARTIDA"),IF($G26="PZ",$AM$2,1),"") | AF26: =IF(AND($E26=$E$13,$B26="PARTIDA"),IF($G26="PZ",$AN$2,1),"") | AG26: =IF(E26=$E$13,MID($G26,1,3),"") | AH26: =IF(E26=$E$13,AA26,"") | AI26: =IF(OR(AI$13="",S26="",$E26=$E$13,$B26<>"partida"),"",S26*$Z26) -> 0 | AJ26: =IF(OR(AJ$13="",T26="",$E26=$E$13,$B26<>"partida"),"",T26*$Z26) -> 0 | AK26: =IF(OR(AK$13="",U26="",$E26=$E$13,$B26<>"partida"),"",U26*$Z26) | AL26: =IF(OR(AL$13="",V26="",$E26=$E$13,$B26<>"partida"),"",V26*$Z26) | AM26: =IF(OR(AM$13="",W26="",$E26=$E$13,$B26<>"partida"),"",W26*$Z26) | AN26: =IF(OR(AN$13="",S26="",$E26=$E$13,$B26<>"partida"),"",S26*$Z26) | AO26: =IF(OR(AO$13="",T26="",$E26=$E$13,$B26<>"partida"),"",T26*$Z26) | AP26: =IF(OR(AP$13="",U26="",$E26=$E$13,$B26<>"partida"),"",U26*$Z26) -> 0 | AQ26: =IF(OR(AQ$13="",V26="",$E26=$E$13,$B26<>"partida"),"",V26*$Z26) -> 0 | AR26: =IF(OR(AR$13="",W26="",$E26=$E$13,$B26<>"partida"),"",W26*$Z26)
B27: Partida | D27: 01.02.09 | E27: Preventivo | F27: AL | G27: ITV | H27: Vélez Rubio | I27: Preventivo Anual Instalación BT, iluminación, fotovoltaica y SAI | S27: 1 | T27: 1 | U27: 1 | V27: 1 | X27: €/Rev | Z27: =$Z$19 -> 0 | AA27: =IFERROR(IF(OR(B27="",B27="SUBTOTAL"),"",IF(AND(B27="Capítulo",E27=E$12),SUMIF(AD$15:AD$500,D27,AA$15:AA$500),IF(E27=E$13,AE27*Z27,SUM(AI27:AM27)))),"") -> 0 | AB27: =IFERROR(IF(OR(AK$2=0,B27="",B27="SUBTOTAL"),"",IF(AND(B27="Capítulo",E27=E$12),SUMIF(AD$15:AD$500,D27,AB$15:AB$500),IF(E27=E$13,AF27*Z27,SUM(AI27:AR27)))),"") -> 0 | AD27: =IF(B27="PARTIDA",MID(D27,1,2),"") -> 01 | AE27: =IF(AND($E27=$E$13,$B27="PARTIDA"),IF($G27="PZ",$AM$2,1),"") | AF27: =IF(AND($E27=$E$13,$B27="PARTIDA"),IF($G27="PZ",$AN$2,1),"") | AG27: =IF(E27=$E$13,MID($G27,1,3),"") | AH27: =IF(E27=$E$13,AA27,"") | AI27: =IF(OR(AI$13="",S27="",$E27=$E$13,$B27<>"partida"),"",S27*$Z27) -> 0 | AJ27: =IF(OR(AJ$13="",T27="",$E27=$E$13,$B27<>"partida"),"",T27*$Z27) -> 0 | AK27: =IF(OR(AK$13="",U27="",$E27=$E$13,$B27<>"partida"),"",U27*$Z27) | AL27: =IF(OR(AL$13="",V27="",$E27=$E$13,$B27<>"partida"),"",V27*$Z27) | AM27: =IF(OR(AM$13="",W27="",$E27=$E$13,$B27<>"partida"),"",W27*$Z27) | AN27: =IF(OR(AN$13="",S27="",$E27=$E$13,$B27<>"partida"),"",S27*$Z27) | AO27: =IF(OR(AO$13="",T27="",$E27=$E$13,$B27<>"partida"),"",T27*$Z27) | AP27: =IF(OR(AP$13="",U27="",$E27=$E$13,$B27<>"partida"),"",U27*$Z27) -> 0 | AQ27: =IF(OR(AQ$13="",V27="",$E27=$E$13,$B27<>"partida"),"",V27*$Z27) -> 0 | AR27: =IF(OR(AR$13="",W27="",$E27=$E$13,$B27<>"partida"),"",W27*$Z27)
B28: Partida | D28: 01.02.10 | E28: Preventivo | F28: GR | G28: ITV | H28: Granada | I28: Preventivo Anual Instalación BT, iluminación, fotovoltaica y SAI | S28: 1 | T28: 1 | U28: 1 | V28: 1 | X28: €/Rev | Z28: =$Z$19 -> 0 | AA28: =IFERROR(IF(OR(B28="",B28="SUBTOTAL"),"",IF(AND(B28="Capítulo",E28=E$12),SUMIF(AD$15:AD$500,D28,AA$15:AA$500),IF(E28=E$13,AE28*Z28,SUM(AI28:AM28)))),"") -> 0 | AB28: =IFERROR(IF(OR(AK$2=0,B28="",B28="SUBTOTAL"),"",IF(AND(B28="Capítulo",E28=E$12),SUMIF(AD$15:AD$500,D28,AB$15:AB$500),IF(E28=E$13,AF28*Z28,SUM(AI28:AR28)))),"") -> 0 | AD28: =IF(B28="PARTIDA",MID(D28,1,2),"") -> 01 | AE28: =IF(AND($E28=$E$13,$B28="PARTIDA"),IF($G28="PZ",$AM$2,1),"") | AF28: =IF(AND($E28=$E$13,$B28="PARTIDA"),IF($G28="PZ",$AN$2,1),"") | AG28: =IF(E28=$E$13,MID($G28,1,3),"") | AH28: =IF(E28=$E$13,AA28,"") | AI28: =IF(OR(AI$13="",S28="",$E28=$E$13,$B28<>"partida"),"",S28*$Z28) -> 0 | AJ28: =IF(OR(AJ$13="",T28="",$E28=$E$13,$B28<>"partida"),"",T28*$Z28) -> 0 | AK28: =IF(OR(AK$13="",U28="",$E28=$E$13,$B28<>"partida"),"",U28*$Z28) | AL28: =IF(OR(AL$13="",V28="",$E28=$E$13,$B28<>"partida"),"",V28*$Z28) | AM28: =IF(OR(AM$13="",W28="",$E28=$E$13,$B28<>"partida"),"",W28*$Z28) | AN28: =IF(OR(AN$13="",S28="",$E28=$E$13,$B28<>"partida"),"",S28*$Z28) | AO28: =IF(OR(AO$13="",T28="",$E28=$E$13,$B28<>"partida"),"",T28*$Z28) | AP28: =IF(OR(AP$13="",U28="",$E28=$E$13,$B28<>"partida"),"",U28*$Z28) -> 0 | AQ28: =IF(OR(AQ$13="",V28="",$E28=$E$13,$B28<>"partida"),"",V28*$Z28) -> 0 | AR28: =IF(OR(AR$13="",W28="",$E28=$E$13,$B28<>"partida"),"",W28*$Z28)
B29: Partida | D29: 01.02.11 | E29: Preventivo | F29: GR | G29: ITV | H29: Las Gabias | I29: Preventivo Anual Instalación BT, iluminación, fotovoltaica y SAI | S29: 1 | T29: 1 | U29: 1 | V29: 1 | X29: €/Rev | Z29: =$Z$19 -> 0 | AA29: =IFERROR(IF(OR(B29="",B29="SUBTOTAL"),"",IF(AND(B29="Capítulo",E29=E$12),SUMIF(AD$15:AD$500,D29,AA$15:AA$500),IF(E29=E$13,AE29*Z29,SUM(AI29:AM29)))),"") -> 0 | AB29: =IFERROR(IF(OR(AK$2=0,B29="",B29="SUBTOTAL"),"",IF(AND(B29="Capítulo",E29=E$12),SUMIF(AD$15:AD$500,D29,AB$15:AB$500),IF(E29=E$13,AF29*Z29,SUM(AI29:AR29)))),"") -> 0 | AD29: =IF(B29="PARTIDA",MID(D29,1,2),"") -> 01 | AE29: =IF(AND($E29=$E$13,$B29="PARTIDA"),IF($G29="PZ",$AM$2,1),"") | AF29: =IF(AND($E29=$E$13,$B29="PARTIDA"),IF($G29="PZ",$AN$2,1),"") | AG29: =IF(E29=$E$13,MID($G29,1,3),"") | AH29: =IF(E29=$E$13,AA29,"") | AI29: =IF(OR(AI$13="",S29="",$E29=$E$13,$B29<>"partida"),"",S29*$Z29) -> 0 | AJ29: =IF(OR(AJ$13="",T29="",$E29=$E$13,$B29<>"partida"),"",T29*$Z29) -> 0 | AK29: =IF(OR(AK$13="",U29="",$E29=$E$13,$B29<>"partida"),"",U29*$Z29) | AL29: =IF(OR(AL$13="",V29="",$E29=$E$13,$B29<>"partida"),"",V29*$Z29) | AM29: =IF(OR(AM$13="",W29="",$E29=$E$13,$B29<>"partida"),"",W29*$Z29) | AN29: =IF(OR(AN$13="",S29="",$E29=$E$13,$B29<>"partida"),"",S29*$Z29) | AO29: =IF(OR(AO$13="",T29="",$E29=$E$13,$B29<>"partida"),"",T29*$Z29) | AP29: =IF(OR(AP$13="",U29="",$E29=$E$13,$B29<>"partida"),"",U29*$Z29) -> 0 | AQ29: =IF(OR(AQ$13="",V29="",$E29=$E$13,$B29<>"partida"),"",V29*$Z29) -> 0 | AR29: =IF(OR(AR$13="",W29="",$E29=$E$13,$B29<>"partida"),"",W29*$Z29)
B30: Partida | D30: 01.02.12 | E30: Preventivo | F30: GR | G30: ITV | H30: Loja | I30: Preventivo Anual Instalación BT, iluminación, fotovoltaica y SAI | S30: 1 | T30: 1 | U30: 1 | V30: 1 | X30: €/Rev | Z30: =$Z$19 -> 0 | AA30: =IFERROR(IF(OR(B30="",B30="SUBTOTAL"),"",IF(AND(B30="Capítulo",E30=E$12),SUMIF(AD$15:AD$500,D30,AA$15:AA$500),IF(E30=E$13,AE30*Z30,SUM(AI30:AM30)))),"") -> 0 | AB30: =IFERROR(IF(OR(AK$2=0,B30="",B30="SUBTOTAL"),"",IF(AND(B30="Capítulo",E30=E$12),SUMIF(AD$15:AD$500,D30,AB$15:AB$500),IF(E30=E$13,AF30*Z30,SUM(AI30:AR30)))),"") -> 0 | AD30: =IF(B30="PARTIDA",MID(D30,1,2),"") -> 01 | AE30: =IF(AND($E30=$E$13,$B30="PARTIDA"),IF($G30="PZ",$AM$2,1),"") | AF30: =IF(AND($E30=$E$13,$B30="PARTIDA"),IF($G30="PZ",$AN$2,1),"") | AG30: =IF(E30=$E$13,MID($G30,1,3),"") | AH30: =IF(E30=$E$13,AA30,"") | AI30: =IF(OR(AI$13="",S30="",$E30=$E$13,$B30<>"partida"),"",S30*$Z30) -> 0 | AJ30: =IF(OR(AJ$13="",T30="",$E30=$E$13,$B30<>"partida"),"",T30*$Z30) -> 0 | AK30: =IF(OR(AK$13="",U30="",$E30=$E$13,$B30<>"partida"),"",U30*$Z30) | AL30: =IF(OR(AL$13="",V30="",$E30=$E$13,$B30<>"partida"),"",V30*$Z30) | AM30: =IF(OR(AM$13="",W30="",$E30=$E$13,$B30<>"partida"),"",W30*$Z30) | AN30: =IF(OR(AN$13="",S30="",$E30=$E$13,$B30<>"partida"),"",S30*$Z30) | AO30: =IF(OR(AO$13="",T30="",$E30=$E$13,$B30<>"partida"),"",T30*$Z30) | AP30: =IF(OR(AP$13="",U30="",$E30=$E$13,$B30<>"partida"),"",U30*$Z30) -> 0 | AQ30: =IF(OR(AQ$13="",V30="",$E30=$E$13,$B30<>"partida"),"",V30*$Z30) -> 0 | AR30: =IF(OR(AR$13="",W30="",$E30=$E$13,$B30<>"partida"),"",W30*$Z30)
B31: Partida | D31: 01.02.13 | E31: Preventivo | F31: GR | G31: ITV | H31: Motril | I31: Preventivo Anual Instalación BT, iluminación, fotovoltaica y SAI | S31: 1 | T31: 1 | U31: 1 | V31: 1 | X31: €/Rev | Z31: =$Z$19 -> 0 | AA31: =IFERROR(IF(OR(B31="",B31="SUBTOTAL"),"",IF(AND(B31="Capítulo",E31=E$12),SUMIF(AD$15:AD$500,D31,AA$15:AA$500),IF(E31=E$13,AE31*Z31,SUM(AI31:AM31)))),"") -> 0 | AB31: =IFERROR(IF(OR(AK$2=0,B31="",B31="SUBTOTAL"),"",IF(AND(B31="Capítulo",E31=E$12),SUMIF(AD$15:AD$500,D31,AB$15:AB$500),IF(E31=E$13,AF31*Z31,SUM(AI31:AR31)))),"") -> 0 | AD31: =IF(B31="PARTIDA",MID(D31,1,2),"") -> 01 | AE31: =IF(AND($E31=$E$13,$B31="PARTIDA"),IF($G31="PZ",$AM$2,1),"") | AF31: =IF(AND($E31=$E$13,$B31="PARTIDA"),IF($G31="PZ",$AN$2,1),"") | AG31: =IF(E31=$E$13,MID($G31,1,3),"") | AH31: =IF(E31=$E$13,AA31,"") | AI31: =IF(OR(AI$13="",S31="",$E31=$E$13,$B31<>"partida"),"",S31*$Z31) -> 0 | AJ31: =IF(OR(AJ$13="",T31="",$E31=$E$13,$B31<>"partida"),"",T31*$Z31) -> 0 | AK31: =IF(OR(AK$13="",U31="",$E31=$E$13,$B31<>"partida"),"",U31*$Z31) | AL31: =IF(OR(AL$13="",V31="",$E31=$E$13,$B31<>"partida"),"",V31*$Z31) | AM31: =IF(OR(AM$13="",W31="",$E31=$E$13,$B31<>"partida"),"",W31*$Z31) | AN31: =IF(OR(AN$13="",S31="",$E31=$E$13,$B31<>"partida"),"",S31*$Z31) | AO31: =IF(OR(AO$13="",T31="",$E31=$E$13,$B31<>"partida"),"",T31*$Z31) | AP31: =IF(OR(AP$13="",U31="",$E31=$E$13,$B31<>"partida"),"",U31*$Z31) -> 0 | AQ31: =IF(OR(AQ$13="",V31="",$E31=$E$13,$B31<>"partida"),"",V31*$Z31) -> 0 | AR31: =IF(OR(AR$13="",W31="",$E31=$E$13,$B31<>"partida"),"",W31*$Z31)
... B35: Partida | D35: 01.02.17 | E35: Preventivo | F35: GR | G35: ITV | H35: Baza | I35: Preventivo Anual Instalación BT, iluminación, fotovoltaica y SAI | S35: 1 | T35: 1 | U35: 1 | V35: 1 | X35: €/Rev | Z35: =$Z$19 -> 0 | AA35: =IFERROR(IF(OR(B35="",B35="SUBTOTAL"),"",IF(AND(B35="Capítulo",E35=E$12),SUMIF(AD$15:AD$500,D35,AA$15:AA$500),IF(E35=E$13,AE35*Z35,SUM(AI35:AM35)))),"") -> 0 | AB35: =IFERROR(IF(OR(AK$2=0,B35="",B35="SUBTOTAL"),"",IF(AND(B35="Capítulo",E35=E$12),SUMIF(AD$15:AD$500,D35,AB$15:AB$500),IF(E35=E$13,AF35*Z35,SUM(AI35:AR35)))),"") -> 0 | AD35: =IF(B35="PARTIDA",MID(D35,1,2),"") -> 01 | AE35: =IF(AND($E35=$E$13,$B35="PARTIDA"),IF($G35="PZ",$AM$2,1),"") | AF35: =IF(AND($E35=$E$13,$B35="PARTIDA"),IF($G35="PZ",$AN$2,1),"") | AG35: =IF(E35=$E$13,MID($G35,1,3),"") | AH35: =IF(E35=$E$13,AA35,"") | AI35: =IF(OR(AI$13="",S35="",$E35=$E$13,$B35<>"partida"),"",S35*$Z35) -> 0 | AJ35: =IF(OR(AJ$13="",T35="",$E35=$E$13,$B35<>"partida"),"",T35*$Z35) -> 0 | AK35: =IF(OR(AK$13="",U35="",$E35=$E$13,$B35<>"partida"),"",U35*$Z35) | AL35: =IF(OR(AL$13="",V35="",$E35=$E$13,$B35<>"partida"),"",V35*$Z35) | AM35: =IF(OR(AM$13="",W35="",$E35=$E$13,$B35<>"partida"),"",W35*$Z35) | AN35: =IF(OR(AN$13="",S35="",$E35=$E$13,$B35<>"partida"),"",S35*$Z35) | AO35: =IF(OR(AO$13="",T35="",$E35=$E$13,$B35<>"partida"),"",T35*$Z35) | AP35: =IF(OR(AP$13="",U35="",$E35=$E$13,$B35<>"partida"),"",U35*$Z35) -> 0 | AQ35: =IF(OR(AQ$13="",V35="",$E35=$E$13,$B35<>"partida"),"",V35*$Z35) -> 0 | AR35: =IF(OR(AR$13="",W35="",$E35=$E$13,$B35<>"partida"),"",W35*$Z35)
B36: Subtotal | D36: 01.03 | E36: Preventivo | I36: INFORME MANTENIMIENTO PREVENTIVO/CENTRO | S36: 18 | T36: 18 | U36: 18 | V36: 18 | X36: €/informe | Y36: 120 | AA36: =IFERROR(IF(OR(B36="",B36="SUBTOTAL"),"",IF(AND(B36="Capítulo",E36=E$12),SUMIF(AD$15:AD$500,D36,AA$15:AA$500),IF(E36=E$13,AE36*Z36,SUM(AI36:AM36)))),"") | AB36: =IFERROR(IF(OR(AK$2=0,B36="",B36="SUBTOTAL"),"",IF(AND(B36="Capítulo",E36=E$12),SUMIF(AD$15:AD$500,D36,AB$15:AB$500),IF(E36=E$13,AF36*Z36,SUM(AI36:AR36)))),"") | AD36: =IF(B36="PARTIDA",MID(D36,1,2),"") | AE36: =IF(AND($E36=$E$13,$B36="PARTIDA"),IF($G36="PZ",$AM$2,1),"") | AF36: =IF(AND($E36=$E$13,$B36="PARTIDA"),IF($G36="PZ",$AN$2,1),"") | AG36: =IF(E36=$E$13,MID($G36,1,3),"") | AH36: =IF(E36=$E$13,AA36,"") | AI36: =IF(OR(AI$13="",S36="",$E36=$E$13,$B36<>"partida"),"",S36*$Z36) | AJ36: =IF(OR(AJ$13="",T36="",$E36=$E$13,$B36<>"partida"),"",T36*$Z36) | AK36: =IF(OR(AK$13="",U36="",$E36=$E$13,$B36<>"partida"),"",U36*$Z36) | AL36: =IF(OR(AL$13="",V36="",$E36=$E$13,$B36<>"partida"),"",V36*$Z36) | AM36: =IF(OR(AM$13="",W36="",$E36=$E$13,$B36<>"partida"),"",W36*$Z36) | AN36: =IF(OR(AN$13="",S36="",$E36=$E$13,$B36<>"partida"),"",S36*$Z36) | AO36: =IF(OR(AO$13="",T36="",$E36=$E$13,$B36<>"partida"),"",T36*$Z36) | AP36: =IF(OR(AP$13="",U36="",$E36=$E$13,$B36<>"partida"),"",U36*$Z36) | AQ36: =IF(OR(AQ$13="",V36="",$E36=$E$13,$B36<>"partida"),"",V36*$Z36) | AR36: =IF(OR(AR$13="",W36="",$E36=$E$13,$B36<>"partida"),"",W36*$Z36)
B37: Capítulo | D37: 02 | E37: Correctivo | I37: MANTENIMIENTO CORRECTIVO | AA37: =IFERROR(IF(OR(B37="",B37="SUBTOTAL"),"",IF(AND(B37="Capítulo",E37=E$12),SUMIF(AD$15:AD$500,D37,AA$15:AA$500),IF(E37=E$13,AE37*Z37,SUM(AI37:AM37)))),"") | AB37: =IFERROR(IF(OR(AK$2=0,B37="",B37="SUBTOTAL"),"",IF(AND(B37="Capítulo",E37=E$12),SUMIF(AD$15:AD$500,D37,AB$15:AB$500),IF(E37=E$13,AF37*Z37,SUM(AI37:AR37)))),"") | AD37: =IF(B37="PARTIDA",MID(D37,1,2),"") | AE37: =IF(AND($E37=$E$13,$B37="PARTIDA"),IF($G37="PZ",$AM$2,1),"") | AF37: =IF(AND($E37=$E$13,$B37="PARTIDA"),IF($G37="PZ",$AN$2,1),"") | AG37: =IF(E37=$E$13,MID($G37,1,3),"") | AH37: =IF(E37=$E$13,AA37,"") | AI37: =IF(OR(AI$13="",S37="",$E37=$E$13,$B37<>"partida"),"",S37*$Z37) | AJ37: =IF(OR(AJ$13="",T37="",$E37=$E$13,$B37<>"partida"),"",T37*$Z37) | AK37: =IF(OR(AK$13="",U37="",$E37=$E$13,$B37<>"partida"),"",U37*$Z37) | AL37: =IF(OR(AL$13="",V37="",$E37=$E$13,$B37<>"partida"),"",V37*$Z37) | AM37: =IF(OR(AM$13="",W37="",$E37=$E$13,$B37<>"partida"),"",W37*$Z37) | AN37: =IF(OR(AN$13="",S37="",$E37=$E$13,$B37<>"partida"),"",S37*$Z37) | AO37: =IF(OR(AO$13="",T37="",$E37=$E$13,$B37<>"partida"),"",T37*$Z37) | AP37: =IF(OR(AP$13="",U37="",$E37=$E$13,$B37<>"partida"),"",U37*$Z37) | AQ37: =IF(OR(AQ$13="",V37="",$E37=$E$13,$B37<>"partida"),"",V37*$Z37) | AR37: =IF(OR(AR$13="",W37="",$E37=$E$13,$B37<>"partida"),"",W37*$Z37)
B38: Partida | D38: 02.01 | E38: Correctivo | G38: HJL | H38: Oficial | I38: Hora de trabajo dentro de jornada laboral (7:00 - 19:00) | X38: €/hora | Y38: 33.5 | AA38: =IFERROR(IF(OR(B38="",B38="SUBTOTAL"),"",IF(AND(B38="Capítulo",E38=E$12),SUMIF(AD$15:AD$500,D38,AA$15:AA$500),IF(E38=E$13,AE38*Z38,SUM(AI38:AM38)))),"") -> 0 | AB38: =IFERROR(IF(OR(AK$2=0,B38="",B38="SUBTOTAL"),"",IF(AND(B38="Capítulo",E38=E$12),SUMIF(AD$15:AD$500,D38,AB$15:AB$500),IF(E38=E$13,AF38*Z38,SUM(AI38:AR38)))),"") -> 0 | AD38: =IF(B38="PARTIDA",MID(D38,1,2),"") -> 02 | AE38: =IF(AND($E38=$E$13,$B38="PARTIDA"),IF($G38="PZ",$AM$2,1),"") -> 1 | AF38: =IF(AND($E38=$E$13,$B38="PARTIDA"),IF($G38="PZ",$AN$2,1),"") -> 1 | AG38: =IF(E38=$E$13,MID($G38,1,3),"") -> HJL | AH38: =IF(E38=$E$13,AA38,"") -> 0 | AI38: =IF(OR(AI$13="",S38="",$E38=$E$13,$B38<>"partida"),"",S38*$Z38) | AJ38: =IF(OR(AJ$13="",T38="",$E38=$E$13,$B38<>"partida"),"",T38*$Z38) | AK38: =IF(OR(AK$13="",U38="",$E38=$E$13,$B38<>"partida"),"",U38*$Z38) | AL38: =IF(OR(AL$13="",V38="",$E38=$E$13,$B38<>"partida"),"",V38*$Z38) | AM38: =IF(OR(AM$13="",W38="",$E38=$E$13,$B38<>"partida"),"",W38*$Z38) | AN38: =IF(OR(AN$13="",S38="",$E38=$E$13,$B38<>"partida"),"",S38*$Z38) | AO38: =IF(OR(AO$13="",T38="",$E38=$E$13,$B38<>"partida"),"",T38*$Z38) | AP38: =IF(OR(AP$13="",U38="",$E38=$E$13,$B38<>"partida"),"",U38*$Z38) | AQ38: =IF(OR(AQ$13="",V38="",$E38=$E$13,$B38<>"partida"),"",V38*$Z38) | AR38: =IF(OR(AR$13="",W38="",$E38=$E$13,$B38<>"partida"),"",W38*$Z38)
B39: Partida | D39: 02.02 | E39: Correctivo | G39: HFJ | H39: Oficial | I39: Hora de trabajo fuera de jornada laboral (19:00 - 22:00) | X39: €/hora | Y39: 41 | AA39: =IFERROR(IF(OR(B39="",B39="SUBTOTAL"),"",IF(AND(B39="Capítulo",E39=E$12),SUMIF(AD$15:AD$500,D39,AA$15:AA$500),IF(E39=E$13,AE39*Z39,SUM(AI39:AM39)))),"") -> 0 | AB39: =IFERROR(IF(OR(AK$2=0,B39="",B39="SUBTOTAL"),"",IF(AND(B39="Capítulo",E39=E$12),SUMIF(AD$15:AD$500,D39,AB$15:AB$500),IF(E39=E$13,AF39*Z39,SUM(AI39:AR39)))),"") -> 0 | AD39: =IF(B39="PARTIDA",MID(D39,1,2),"") -> 02 | AE39: =IF(AND($E39=$E$13,$B39="PARTIDA"),IF($G39="PZ",$AM$2,1),"") -> 1 | AF39: =IF(AND($E39=$E$13,$B39="PARTIDA"),IF($G39="PZ",$AN$2,1),"") -> 1 | AG39: =IF(E39=$E$13,MID($G39,1,3),"") -> HFJ | AH39: =IF(E39=$E$13,AA39,"") -> 0 | AI39: =IF(OR(AI$13="",S39="",$E39=$E$13,$B39<>"partida"),"",S39*$Z39) | AJ39: =IF(OR(AJ$13="",T39="",$E39=$E$13,$B39<>"partida"),"",T39*$Z39) | AK39: =IF(OR(AK$13="",U39="",$E39=$E$13,$B39<>"partida"),"",U39*$Z39) | AL39: =IF(OR(AL$13="",V39="",$E39=$E$13,$B39<>"partida"),"",V39*$Z39) | AM39: =IF(OR(AM$13="",W39="",$E39=$E$13,$B39<>"partida"),"",W39*$Z39) | AN39: =IF(OR(AN$13="",S39="",$E39=$E$13,$B39<>"partida"),"",S39*$Z39) | AO39: =IF(OR(AO$13="",T39="",$E39=$E$13,$B39<>"partida"),"",T39*$Z39) | AP39: =IF(OR(AP$13="",U39="",$E39=$E$13,$B39<>"partida"),"",U39*$Z39) | AQ39: =IF(OR(AQ$13="",V39="",$E39=$E$13,$B39<>"partida"),"",V39*$Z39) | AR39: =IF(OR(AR$13="",W39="",$E39=$E$13,$B39<>"partida"),"",W39*$Z39)
B40: Partida | D40: 02.03 | E40: Correctivo | G40: HN | H40: Oficial | I40: Hora de trabajo en horario nocturno (22:00 - 7:00) | X40: €/hora | Y40: 48 | AA40: =IFERROR(IF(OR(B40="",B40="SUBTOTAL"),"",IF(AND(B40="Capítulo",E40=E$12),SUMIF(AD$15:AD$500,D40,AA$15:AA$500),IF(E40=E$13,AE40*Z40,SUM(AI40:AM40)))),"") -> 0 | AB40: =IFERROR(IF(OR(AK$2=0,B40="",B40="SUBTOTAL"),"",IF(AND(B40="Capítulo",E40=E$12),SUMIF(AD$15:AD$500,D40,AB$15:AB$500),IF(E40=E$13,AF40*Z40,SUM(AI40:AR40)))),"") -> 0 | AD40: =IF(B40="PARTIDA",MID(D40,1,2),"") -> 02 | AE40: =IF(AND($E40=$E$13,$B40="PARTIDA"),IF($G40="PZ",$AM$2,1),"") -> 1 | AF40: =IF(AND($E40=$E$13,$B40="PARTIDA"),IF($G40="PZ",$AN$2,1),"") -> 1 | AG40: =IF(E40=$E$13,MID($G40,1,3),"") -> HN | AH40: =IF(E40=$E$13,AA40,"") -> 0 | AI40: =IF(OR(AI$13="",S40="",$E40=$E$13,$B40<>"partida"),"",S40*$Z40) | AJ40: =IF(OR(AJ$13="",T40="",$E40=$E$13,$B40<>"partida"),"",T40*$Z40) | AK40: =IF(OR(AK$13="",U40="",$E40=$E$13,$B40<>"partida"),"",U40*$Z40) | AL40: =IF(OR(AL$13="",V40="",$E40=$E$13,$B40<>"partida"),"",V40*$Z40) | AM40: =IF(OR(AM$13="",W40="",$E40=$E$13,$B40<>"partida"),"",W40*$Z40) | AN40: =IF(OR(AN$13="",S40="",$E40=$E$13,$B40<>"partida"),"",S40*$Z40) | AO40: =IF(OR(AO$13="",T40="",$E40=$E$13,$B40<>"partida"),"",T40*$Z40) | AP40: =IF(OR(AP$13="",U40="",$E40=$E$13,$B40<>"partida"),"",U40*$Z40) | AQ40: =IF(OR(AQ$13="",V40="",$E40=$E$13,$B40<>"partida"),"",V40*$Z40) | AR40: =IF(OR(AR$13="",W40="",$E40=$E$13,$B40<>"partida"),"",W40*$Z40)
B41: Partida | D41: 02.04 | E41: Correctivo | G41: HF | H41: Oficial | I41: Hora de trabajo en horario festivo (Cualquier horario) | X41: €/hora | Y41: 49 | AA41: =IFERROR(IF(OR(B41="",B41="SUBTOTAL"),"",IF(AND(B41="Capítulo",E41=E$12),SUMIF(AD$15:AD$500,D41,AA$15:AA$500),IF(E41=E$13,AE41*Z41,SUM(AI41:AM41)))),"") -> 0 | AB41: =IFERROR(IF(OR(AK$2=0,B41="",B41="SUBTOTAL"),"",IF(AND(B41="Capítulo",E41=E$12),SUMIF(AD$15:AD$500,D41,AB$15:AB$500),IF(E41=E$13,AF41*Z41,SUM(AI41:AR41)))),"") -> 0 | AD41: =IF(B41="PARTIDA",MID(D41,1,2),"") -> 02 | AE41: =IF(AND($E41=$E$13,$B41="PARTIDA"),IF($G41="PZ",$AM$2,1),"") -> 1 | AF41: =IF(AND($E41=$E$13,$B41="PARTIDA"),IF($G41="PZ",$AN$2,1),"") -> 1 | AG41: =IF(E41=$E$13,MID($G41,1,3),"") -> HF | AH41: =IF(E41=$E$13,AA41,"") -> 0 | AI41: =IF(OR(AI$13="",S41="",$E41=$E$13,$B41<>"partida"),"",S41*$Z41) | AJ41: =IF(OR(AJ$13="",T41="",$E41=$E$13,$B41<>"partida"),"",T41*$Z41) | AK41: =IF(OR(AK$13="",U41="",$E41=$E$13,$B41<>"partida"),"",U41*$Z41) | AL41: =IF(OR(AL$13="",V41="",$E41=$E$13,$B41<>"partida"),"",V41*$Z41) | AM41: =IF(OR(AM$13="",W41="",$E41=$E$13,$B41<>"partida"),"",W41*$Z41) | AN41: =IF(OR(AN$13="",S41="",$E41=$E$13,$B41<>"partida"),"",S41*$Z41) | AO41: =IF(OR(AO$13="",T41="",$E41=$E$13,$B41<>"partida"),"",T41*$Z41) | AP41: =IF(OR(AP$13="",U41="",$E41=$E$13,$B41<>"partida"),"",U41*$Z41) | AQ41: =IF(OR(AQ$13="",V41="",$E41=$E$13,$B41<>"partida"),"",V41*$Z41) | AR41: =IF(OR(AR$13="",W41="",$E41=$E$13,$B41<>"partida"),"",W41*$Z41)
B42: Partida | D42: 02.05 | E42: Correctivo | F42: AL | G42: DES | H42: Almería 1 | I42: DESPLAZAMIENTO (Incluso personal, ida y vuelta, dietas…) | X42: Unidad | Y42: 125 | AA42: =IFERROR(IF(OR(B42="",B42="SUBTOTAL"),"",IF(AND(B42="Capítulo",E42=E$12),SUMIF(AD$15:AD$500,D42,AA$15:AA$500),IF(E42=E$13,AE42*Z42,SUM(AI42:AM42)))),"") -> 0 | AB42: =IFERROR(IF(OR(AK$2=0,B42="",B42="SUBTOTAL"),"",IF(AND(B42="Capítulo",E42=E$12),SUMIF(AD$15:AD$500,D42,AB$15:AB$500),IF(E42=E$13,AF42*Z42,SUM(AI42:AR42)))),"") -> 0 | AD42: =IF(B42="PARTIDA",MID(D42,1,2),"") -> 02 | AE42: =IF(AND($E42=$E$13,$B42="PARTIDA"),IF($G42="PZ",$AM$2,1),"") -> 1 | AF42: =IF(AND($E42=$E$13,$B42="PARTIDA"),IF($G42="PZ",$AN$2,1),"") -> 1 | AG42: =IF(E42=$E$13,MID($G42,1,3),"") -> DES | AH42: =IF(E42=$E$13,AA42,"") -> 0 | AI42: =IF(OR(AI$13="",S42="",$E42=$E$13,$B42<>"partida"),"",S42*$Z42) | AJ42: =IF(OR(AJ$13="",T42="",$E42=$E$13,$B42<>"partida"),"",T42*$Z42) | AK42: =IF(OR(AK$13="",U42="",$E42=$E$13,$B42<>"partida"),"",U42*$Z42) | AL42: =IF(OR(AL$13="",V42="",$E42=$E$13,$B42<>"partida"),"",V42*$Z42) | AM42: =IF(OR(AM$13="",W42="",$E42=$E$13,$B42<>"partida"),"",W42*$Z42) | AN42: =IF(OR(AN$13="",S42="",$E42=$E$13,$B42<>"partida"),"",S42*$Z42) | AO42: =IF(OR(AO$13="",T42="",$E42=$E$13,$B42<>"partida"),"",T42*$Z42) | AP42: =IF(OR(AP$13="",U42="",$E42=$E$13,$B42<>"partida"),"",U42*$Z42) | AQ42: =IF(OR(AQ$13="",V42="",$E42=$E$13,$B42<>"partida"),"",V42*$Z42) | AR42: =IF(OR(AR$13="",W42="",$E42=$E$13,$B42<>"partida"),"",W42*$Z42)
B43: Partida | D43: 02.06 | E43: Correctivo | F43: AL | G43: DES | H43: Almería 2 | I43: DESPLAZAMIENTO (Incluso personal, ida y vuelta, dietas…) | X43: Unidad | Y43: 125 | AA43: =IFERROR(IF(OR(B43="",B43="SUBTOTAL"),"",IF(AND(B43="Capítulo",E43=E$12),SUMIF(AD$15:AD$500,D43,AA$15:AA$500),IF(E43=E$13,AE43*Z43,SUM(AI43:AM43)))),"") -> 0 | AB43: =IFERROR(IF(OR(AK$2=0,B43="",B43="SUBTOTAL"),"",IF(AND(B43="Capítulo",E43=E$12),SUMIF(AD$15:AD$500,D43,AB$15:AB$500),IF(E43=E$13,AF43*Z43,SUM(AI43:AR43)))),"") -> 0 | AD43: =IF(B43="PARTIDA",MID(D43,1,2),"") -> 02 | AE43: =IF(AND($E43=$E$13,$B43="PARTIDA"),IF($G43="PZ",$AM$2,1),"") -> 1 | AF43: =IF(AND($E43=$E$13,$B43="PARTIDA"),IF($G43="PZ",$AN$2,1),"") -> 1 | AG43: =IF(E43=$E$13,MID($G43,1,3),"") -> DES | AH43: =IF(E43=$E$13,AA43,"") -> 0 | AI43: =IF(OR(AI$13="",S43="",$E43=$E$13,$B43<>"partida"),"",S43*$Z43) | AJ43: =IF(OR(AJ$13="",T43="",$E43=$E$13,$B43<>"partida"),"",T43*$Z43) | AK43: =IF(OR(AK$13="",U43="",$E43=$E$13,$B43<>"partida"),"",U43*$Z43) | AL43: =IF(OR(AL$13="",V43="",$E43=$E$13,$B43<>"partida"),"",V43*$Z43) | AM43: =IF(OR(AM$13="",W43="",$E43=$E$13,$B43<>"partida"),"",W43*$Z43) | AN43: =IF(OR(AN$13="",S43="",$E43=$E$13,$B43<>"partida"),"",S43*$Z43) | AO43: =IF(OR(AO$13="",T43="",$E43=$E$13,$B43<>"partida"),"",T43*$Z43) | AP43: =IF(OR(AP$13="",U43="",$E43=$E$13,$B43<>"partida"),"",U43*$Z43) | AQ43: =IF(OR(AQ$13="",V43="",$E43=$E$13,$B43<>"partida"),"",V43*$Z43) | AR43: =IF(OR(AR$13="",W43="",$E43=$E$13,$B43<>"partida"),"",W43*$Z43)
B44: Partida | D44: 02.07 | E44: Correctivo | F44: AL | G44: DES | H44: Vícar | I44: DESPLAZAMIENTO (Incluso personal, ida y vuelta, dietas…) | X44: Unidad | Y44: 125 | AA44: =IFERROR(IF(OR(B44="",B44="SUBTOTAL"),"",IF(AND(B44="Capítulo",E44=E$12),SUMIF(AD$15:AD$500,D44,AA$15:AA$500),IF(E44=E$13,AE44*Z44,SUM(AI44:AM44)))),"") -> 0 | AB44: =IFERROR(IF(OR(AK$2=0,B44="",B44="SUBTOTAL"),"",IF(AND(B44="Capítulo",E44=E$12),SUMIF(AD$15:AD$500,D44,AB$15:AB$500),IF(E44=E$13,AF44*Z44,SUM(AI44:AR44)))),"") -> 0 | AD44: =IF(B44="PARTIDA",MID(D44,1,2),"") -> 02 | AE44: =IF(AND($E44=$E$13,$B44="PARTIDA"),IF($G44="PZ",$AM$2,1),"") -> 1 | AF44: =IF(AND($E44=$E$13,$B44="PARTIDA"),IF($G44="PZ",$AN$2,1),"") -> 1 | AG44: =IF(E44=$E$13,MID($G44,1,3),"") -> DES | AH44: =IF(E44=$E$13,AA44,"") -> 0 | AI44: =IF(OR(AI$13="",S44="",$E44=$E$13,$B44<>"partida"),"",S44*$Z44) | AJ44: =IF(OR(AJ$13="",T44="",$E44=$E$13,$B44<>"partida"),"",T44*$Z44) | AK44: =IF(OR(AK$13="",U44="",$E44=$E$13,$B44<>"partida"),"",U44*$Z44) | AL44: =IF(OR(AL$13="",V44="",$E44=$E$13,$B44<>"partida"),"",V44*$Z44) | AM44: =IF(OR(AM$13="",W44="",$E44=$E$13,$B44<>"partida"),"",W44*$Z44) | AN44: =IF(OR(AN$13="",S44="",$E44=$E$13,$B44<>"partida"),"",S44*$Z44) | AO44: =IF(OR(AO$13="",T44="",$E44=$E$13,$B44<>"partida"),"",T44*$Z44) | AP44: =IF(OR(AP$13="",U44="",$E44=$E$13,$B44<>"partida"),"",U44*$Z44) | AQ44: =IF(OR(AQ$13="",V44="",$E44=$E$13,$B44<>"partida"),"",V44*$Z44) | AR44: =IF(OR(AR$13="",W44="",$E44=$E$13,$B44<>"partida"),"",W44*$Z44)
B45: Partida | D45: 02.08 | E45: Correctivo | F45: AL | G45: DES | H45: Balanegra | I45: DESPLAZAMIENTO (Incluso personal, ida y vuelta, dietas…) | X45: Unidad | Y45: 125 | AA45: =IFERROR(IF(OR(B45="",B45="SUBTOTAL"),"",IF(AND(B45="Capítulo",E45=E$12),SUMIF(AD$15:AD$500,D45,AA$15:AA$500),IF(E45=E$13,AE45*Z45,SUM(AI45:AM45)))),"") -> 0 | AB45: =IFERROR(IF(OR(AK$2=0,B45="",B45="SUBTOTAL"),"",IF(AND(B45="Capítulo",E45=E$12),SUMIF(AD$15:AD$500,D45,AB$15:AB$500),IF(E45=E$13,AF45*Z45,SUM(AI45:AR45)))),"") -> 0 | AD45: =IF(B45="PARTIDA",MID(D45,1,2),"") -> 02 | AE45: =IF(AND($E45=$E$13,$B45="PARTIDA"),IF($G45="PZ",$AM$2,1),"") -> 1 | AF45: =IF(AND($E45=$E$13,$B45="PARTIDA"),IF($G45="PZ",$AN$2,1),"") -> 1 | AG45: =IF(E45=$E$13,MID($G45,1,3),"") -> DES | AH45: =IF(E45=$E$13,AA45,"") -> 0 | AI45: =IF(OR(AI$13="",S45="",$E45=$E$13,$B45<>"partida"),"",S45*$Z45) | AJ45: =IF(OR(AJ$13="",T45="",$E45=$E$13,$B45<>"partida"),"",T45*$Z45) | AK45: =IF(OR(AK$13="",U45="",$E45=$E$13,$B45<>"partida"),"",U45*$Z45) | AL45: =IF(OR(AL$13="",V45="",$E45=$E$13,$B45<>"partida"),"",V45*$Z45) | AM45: =IF(OR(AM$13="",W45="",$E45=$E$13,$B45<>"partida"),"",W45*$Z45) | AN45: =IF(OR(AN$13="",S45="",$E45=$E$13,$B45<>"partida"),"",S45*$Z45) | AO45: =IF(OR(AO$13="",T45="",$E45=$E$13,$B45<>"partida"),"",T45*$Z45) | AP45: =IF(OR(AP$13="",U45="",$E45=$E$13,$B45<>"partida"),"",U45*$Z45) | AQ45: =IF(OR(AQ$13="",V45="",$E45=$E$13,$B45<>"partida"),"",V45*$Z45) | AR45: =IF(OR(AR$13="",W45="",$E45=$E$13,$B45<>"partida"),"",W45*$Z45)
B46: Partida | D46: 02.09 | E46: Correctivo | F46: AL | G46: DES | H46: Las Tres Villas | I46: DESPLAZAMIENTO (Incluso personal, ida y vuelta, dietas…) | X46: Unidad | Y46: 125 | AA46: =IFERROR(IF(OR(B46="",B46="SUBTOTAL"),"",IF(AND(B46="Capítulo",E46=E$12),SUMIF(AD$15:AD$500,D46,AA$15:AA$500),IF(E46=E$13,AE46*Z46,SUM(AI46:AM46)))),"") -> 0 | AB46: =IFERROR(IF(OR(AK$2=0,B46="",B46="SUBTOTAL"),"",IF(AND(B46="Capítulo",E46=E$12),SUMIF(AD$15:AD$500,D46,AB$15:AB$500),IF(E46=E$13,AF46*Z46,SUM(AI46:AR46)))),"") -> 0 | AD46: =IF(B46="PARTIDA",MID(D46,1,2),"") -> 02 | AE46: =IF(AND($E46=$E$13,$B46="PARTIDA"),IF($G46="PZ",$AM$2,1),"") -> 1 | AF46: =IF(AND($E46=$E$13,$B46="PARTIDA"),IF($G46="PZ",$AN$2,1),"") -> 1 | AG46: =IF(E46=$E$13,MID($G46,1,3),"") -> DES | AH46: =IF(E46=$E$13,AA46,"") -> 0 | AI46: =IF(OR(AI$13="",S46="",$E46=$E$13,$B46<>"partida"),"",S46*$Z46) | AJ46: =IF(OR(AJ$13="",T46="",$E46=$E$13,$B46<>"partida"),"",T46*$Z46) | AK46: =IF(OR(AK$13="",U46="",$E46=$E$13,$B46<>"partida"),"",U46*$Z46) | AL46: =IF(OR(AL$13="",V46="",$E46=$E$13,$B46<>"partida"),"",V46*$Z46) | AM46: =IF(OR(AM$13="",W46="",$E46=$E$13,$B46<>"partida"),"",W46*$Z46) | AN46: =IF(OR(AN$13="",S46="",$E46=$E$13,$B46<>"partida"),"",S46*$Z46) | AO46: =IF(OR(AO$13="",T46="",$E46=$E$13,$B46<>"partida"),"",T46*$Z46) | AP46: =IF(OR(AP$13="",U46="",$E46=$E$13,$B46<>"partida"),"",U46*$Z46) | AQ46: =IF(OR(AQ$13="",V46="",$E46=$E$13,$B46<>"partida"),"",V46*$Z46) | AR46: =IF(OR(AR$13="",W46="",$E46=$E$13,$B46<>"partida"),"",W46*$Z46)
B47: Partida | D47: 02.10 | E47: Correctivo | F47: AL | G47: DES | H47: Níjar | I47: DESPLAZAMIENTO (Incluso personal, ida y vuelta, dietas…) | X47: Unidad | Y47: 125 | AA47: =IFERROR(IF(OR(B47="",B47="SUBTOTAL"),"",IF(AND(B47="Capítulo",E47=E$12),SUMIF(AD$15:AD$500,D47,AA$15:AA$500),IF(E47=E$13,AE47*Z47,SUM(AI47:AM47)))),"") -> 0 | AB47: =IFERROR(IF(OR(AK$2=0,B47="",B47="SUBTOTAL"),"",IF(AND(B47="Capítulo",E47=E$12),SUMIF(AD$15:AD$500,D47,AB$15:AB$500),IF(E47=E$13,AF47*Z47,SUM(AI47:AR47)))),"") -> 0 | AD47: =IF(B47="PARTIDA",MID(D47,1,2),"") -> 02 | AE47: =IF(AND($E47=$E$13,$B47="PARTIDA"),IF($G47="PZ",$AM$2,1),"") -> 1 | AF47: =IF(AND($E47=$E$13,$B47="PARTIDA"),IF($G47="PZ",$AN$2,1),"") -> 1 | AG47: =IF(E47=$E$13,MID($G47,1,3),"") -> DES | AH47: =IF(E47=$E$13,AA47,"") -> 0 | AI47: =IF(OR(AI$13="",S47="",$E47=$E$13,$B47<>"partida"),"",S47*$Z47) | AJ47: =IF(OR(AJ$13="",T47="",$E47=$E$13,$B47<>"partida"),"",T47*$Z47) | AK47: =IF(OR(AK$13="",U47="",$E47=$E$13,$B47<>"partida"),"",U47*$Z47) | AL47: =IF(OR(AL$13="",V47="",$E47=$E$13,$B47<>"partida"),"",V47*$Z47) | AM47: =IF(OR(AM$13="",W47="",$E47=$E$13,$B47<>"partida"),"",W47*$Z47) | AN47: =IF(OR(AN$13="",S47="",$E47=$E$13,$B47<>"partida"),"",S47*$Z47) | AO47: =IF(OR(AO$13="",T47="",$E47=$E$13,$B47<>"partida"),"",T47*$Z47) | AP47: =IF(OR(AP$13="",U47="",$E47=$E$13,$B47<>"partida"),"",U47*$Z47) | AQ47: =IF(OR(AQ$13="",V47="",$E47=$E$13,$B47<>"partida"),"",V47*$Z47) | AR47: =IF(OR(AR$13="",W47="",$E47=$E$13,$B47<>"partida"),"",W47*$Z47)
B48: Partida | D48: 02.11 | E48: Correctivo | F48: AL | G48: DES | H48: Vera | I48: DESPLAZAMIENTO (Incluso personal, ida y vuelta, dietas…) | X48: Unidad | Y48: 125 | AA48: =IFERROR(IF(OR(B48="",B48="SUBTOTAL"),"",IF(AND(B48="Capítulo",E48=E$12),SUMIF(AD$15:AD$500,D48,AA$15:AA$500),IF(E48=E$13,AE48*Z48,SUM(AI48:AM48)))),"") -> 0 | AB48: =IFERROR(IF(OR(AK$2=0,B48="",B48="SUBTOTAL"),"",IF(AND(B48="Capítulo",E48=E$12),SUMIF(AD$15:AD$500,D48,AB$15:AB$500),IF(E48=E$13,AF48*Z48,SUM(AI48:AR48)))),"") -> 0 | AD48: =IF(B48="PARTIDA",MID(D48,1,2),"") -> 02 | AE48: =IF(AND($E48=$E$13,$B48="PARTIDA"),IF($G48="PZ",$AM$2,1),"") -> 1 | AF48: =IF(AND($E48=$E$13,$B48="PARTIDA"),IF($G48="PZ",$AN$2,1),"") -> 1 | AG48: =IF(E48=$E$13,MID($G48,1,3),"") -> DES | AH48: =IF(E48=$E$13,AA48,"") -> 0 | AI48: =IF(OR(AI$13="",S48="",$E48=$E$13,$B48<>"partida"),"",S48*$Z48) | AJ48: =IF(OR(AJ$13="",T48="",$E48=$E$13,$B48<>"partida"),"",T48*$Z48) | AK48: =IF(OR(AK$13="",U48="",$E48=$E$13,$B48<>"partida"),"",U48*$Z48) | AL48: =IF(OR(AL$13="",V48="",$E48=$E$13,$B48<>"partida"),"",V48*$Z48) | AM48: =IF(OR(AM$13="",W48="",$E48=$E$13,$B48<>"partida"),"",W48*$Z48) | AN48: =IF(OR(AN$13="",S48="",$E48=$E$13,$B48<>"partida"),"",S48*$Z48) | AO48: =IF(OR(AO$13="",T48="",$E48=$E$13,$B48<>"partida"),"",T48*$Z48) | AP48: =IF(OR(AP$13="",U48="",$E48=$E$13,$B48<>"partida"),"",U48*$Z48) | AQ48: =IF(OR(AQ$13="",V48="",$E48=$E$13,$B48<>"partida"),"",V48*$Z48) | AR48: =IF(OR(AR$13="",W48="",$E48=$E$13,$B48<>"partida"),"",W48*$Z48)
B49: Partida | D49: 02.12 | E49: Correctivo | F49: AL | G49: DES | H49: Albox | I49: DESPLAZAMIENTO (Incluso personal, ida y vuelta, dietas…) | X49: Unidad | Y49: 125 | AA49: =IFERROR(IF(OR(B49="",B49="SUBTOTAL"),"",IF(AND(B49="Capítulo",E49=E$12),SUMIF(AD$15:AD$500,D49,AA$15:AA$500),IF(E49=E$13,AE49*Z49,SUM(AI49:AM49)))),"") -> 0 | AB49: =IFERROR(IF(OR(AK$2=0,B49="",B49="SUBTOTAL"),"",IF(AND(B49="Capítulo",E49=E$12),SUMIF(AD$15:AD$500,D49,AB$15:AB$500),IF(E49=E$13,AF49*Z49,SUM(AI49:AR49)))),"") -> 0 | AD49: =IF(B49="PARTIDA",MID(D49,1,2),"") -> 02 | AE49: =IF(AND($E49=$E$13,$B49="PARTIDA"),IF($G49="PZ",$AM$2,1),"") -> 1 | AF49: =IF(AND($E49=$E$13,$B49="PARTIDA"),IF($G49="PZ",$AN$2,1),"") -> 1 | AG49: =IF(E49=$E$13,MID($G49,1,3),"") -> DES | AH49: =IF(E49=$E$13,AA49,"") -> 0 | AI49: =IF(OR(AI$13="",S49="",$E49=$E$13,$B49<>"partida"),"",S49*$Z49) | AJ49: =IF(OR(AJ$13="",T49="",$E49=$E$13,$B49<>"partida"),"",T49*$Z49) | AK49: =IF(OR(AK$13="",U49="",$E49=$E$13,$B49<>"partida"),"",U49*$Z49) | AL49: =IF(OR(AL$13="",V49="",$E49=$E$13,$B49<>"partida"),"",V49*$Z49) | AM49: =IF(OR(AM$13="",W49="",$E49=$E$13,$B49<>"partida"),"",W49*$Z49) | AN49: =IF(OR(AN$13="",S49="",$E49=$E$13,$B49<>"partida"),"",S49*$Z49) | AO49: =IF(OR(AO$13="",T49="",$E49=$E$13,$B49<>"partida"),"",T49*$Z49) | AP49: =IF(OR(AP$13="",U49="",$E49=$E$13,$B49<>"partida"),"",U49*$Z49) | AQ49: =IF(OR(AQ$13="",V49="",$E49=$E$13,$B49<>"partida"),"",V49*$Z49) | AR49: =IF(OR(AR$13="",W49="",$E49=$E$13,$B49<>"partida"),"",W49*$Z49)
B50: Partida | D50: 02.13 | E50: Correctivo | F50: AL | G50: DES | H50: Vélez Rubio | I50: DESPLAZAMIENTO (Incluso personal, ida y vuelta, dietas…) | X50: Unidad | Y50: 125 | AA50: =IFERROR(IF(OR(B50="",B50="SUBTOTAL"),"",IF(AND(B50="Capítulo",E50=E$12),SUMIF(AD$15:AD$500,D50,AA$15:AA$500),IF(E50=E$13,AE50*Z50,SUM(AI50:AM50)))),"") -> 0 | AB50: =IFERROR(IF(OR(AK$2=0,B50="",B50="SUBTOTAL"),"",IF(AND(B50="Capítulo",E50=E$12),SUMIF(AD$15:AD$500,D50,AB$15:AB$500),IF(E50=E$13,AF50*Z50,SUM(AI50:AR50)))),"") -> 0 | AD50: =IF(B50="PARTIDA",MID(D50,1,2),"") -> 02 | AE50: =IF(AND($E50=$E$13,$B50="PARTIDA"),IF($G50="PZ",$AM$2,1),"") -> 1 | AF50: =IF(AND($E50=$E$13,$B50="PARTIDA"),IF($G50="PZ",$AN$2,1),"") -> 1 | AG50: =IF(E50=$E$13,MID($G50,1,3),"") -> DES | AH50: =IF(E50=$E$13,AA50,"") -> 0 | AI50: =IF(OR(AI$13="",S50="",$E50=$E$13,$B50<>"partida"),"",S50*$Z50) | AJ50: =IF(OR(AJ$13="",T50="",$E50=$E$13,$B50<>"partida"),"",T50*$Z50) | AK50: =IF(OR(AK$13="",U50="",$E50=$E$13,$B50<>"partida"),"",U50*$Z50) | AL50: =IF(OR(AL$13="",V50="",$E50=$E$13,$B50<>"partida"),"",V50*$Z50) | AM50: =IF(OR(AM$13="",W50="",$E50=$E$13,$B50<>"partida"),"",W50*$Z50) | AN50: =IF(OR(AN$13="",S50="",$E50=$E$13,$B50<>"partida"),"",S50*$Z50) | AO50: =IF(OR(AO$13="",T50="",$E50=$E$13,$B50<>"partida"),"",T50*$Z50) | AP50: =IF(OR(AP$13="",U50="",$E50=$E$13,$B50<>"partida"),"",U50*$Z50) | AQ50: =IF(OR(AQ$13="",V50="",$E50=$E$13,$B50<>"partida"),"",V50*$Z50) | AR50: =IF(OR(AR$13="",W50="",$E50=$E$13,$B50<>"partida"),"",W50*$Z50)
B51: Partida | D51: 02.14 | E51: Correctivo | F51: GR | G51: DES | H51: Peligros | I51: DESPLAZAMIENTO (Incluso personal, ida y vuelta, dietas…) | X51: Unidad | Y51: 125 | AA51: =IFERROR(IF(OR(B51="",B51="SUBTOTAL"),"",IF(AND(B51="Capítulo",E51=E$12),SUMIF(AD$15:AD$500,D51,AA$15:AA$500),IF(E51=E$13,AE51*Z51,SUM(AI51:AM51)))),"") -> 0 | AB51: =IFERROR(IF(OR(AK$2=0,B51="",B51="SUBTOTAL"),"",IF(AND(B51="Capítulo",E51=E$12),SUMIF(AD$15:AD$500,D51,AB$15:AB$500),IF(E51=E$13,AF51*Z51,SUM(AI51:AR51)))),"") -> 0 | AD51: =IF(B51="PARTIDA",MID(D51,1,2),"") -> 02 | AE51: =IF(AND($E51=$E$13,$B51="PARTIDA"),IF($G51="PZ",$AM$2,1),"") -> 1 | AF51: =IF(AND($E51=$E$13,$B51="PARTIDA"),IF($G51="PZ",$AN$2,1),"") -> 1 | AG51: =IF(E51=$E$13,MID($G51,1,3),"") -> DES | AH51: =IF(E51=$E$13,AA51,"") -> 0 | AI51: =IF(OR(AI$13="",S51="",$E51=$E$13,$B51<>"partida"),"",S51*$Z51) | AJ51: =IF(OR(AJ$13="",T51="",$E51=$E$13,$B51<>"partida"),"",T51*$Z51) | AK51: =IF(OR(AK$13="",U51="",$E51=$E$13,$B51<>"partida"),"",U51*$Z51) | AL51: =IF(OR(AL$13="",V51="",$E51=$E$13,$B51<>"partida"),"",V51*$Z51) | AM51: =IF(OR(AM$13="",W51="",$E51=$E$13,$B51<>"partida"),"",W51*$Z51) | AN51: =IF(OR(AN$13="",S51="",$E51=$E$13,$B51<>"partida"),"",S51*$Z51) | AO51: =IF(OR(AO$13="",T51="",$E51=$E$13,$B51<>"partida"),"",T51*$Z51) | AP51: =IF(OR(AP$13="",U51="",$E51=$E$13,$B51<>"partida"),"",U51*$Z51) | AQ51: =IF(OR(AQ$13="",V51="",$E51=$E$13,$B51<>"partida"),"",V51*$Z51) | AR51: =IF(OR(AR$13="",W51="",$E51=$E$13,$B51<>"partida"),"",W51*$Z51)
B52: Partida | D52: 02.15 | E52: Correctivo | F52: GR | G52: DES | H52: Granada | I52: DESPLAZAMIENTO (Incluso personal, ida y vuelta, dietas…) | X52: Unidad | Y52: 125 | AA52: =IFERROR(IF(OR(B52="",B52="SUBTOTAL"),"",IF(AND(B52="Capítulo",E52=E$12),SUMIF(AD$15:AD$500,D52,AA$15:AA$500),IF(E52=E$13,AE52*Z52,SUM(AI52:AM52)))),"") -> 0 | AB52: =IFERROR(IF(OR(AK$2=0,B52="",B52="SUBTOTAL"),"",IF(AND(B52="Capítulo",E52=E$12),SUMIF(AD$15:AD$500,D52,AB$15:AB$500),IF(E52=E$13,AF52*Z52,SUM(AI52:AR52)))),"") -> 0 | AD52: =IF(B52="PARTIDA",MID(D52,1,2),"") -> 02 | AE52: =IF(AND($E52=$E$13,$B52="PARTIDA"),IF($G52="PZ",$AM$2,1),"") -> 1 | AF52: =IF(AND($E52=$E$13,$B52="PARTIDA"),IF($G52="PZ",$AN$2,1),"") -> 1 | AG52: =IF(E52=$E$13,MID($G52,1,3),"") -> DES | AH52: =IF(E52=$E$13,AA52,"") -> 0 | AI52: =IF(OR(AI$13="",S52="",$E52=$E$13,$B52<>"partida"),"",S52*$Z52) | AJ52: =IF(OR(AJ$13="",T52="",$E52=$E$13,$B52<>"partida"),"",T52*$Z52) | AK52: =IF(OR(AK$13="",U52="",$E52=$E$13,$B52<>"partida"),"",U52*$Z52) | AL52: =IF(OR(AL$13="",V52="",$E52=$E$13,$B52<>"partida"),"",V52*$Z52) | AM52: =IF(OR(AM$13="",W52="",$E52=$E$13,$B52<>"partida"),"",W52*$Z52) | AN52: =IF(OR(AN$13="",S52="",$E52=$E$13,$B52<>"partida"),"",S52*$Z52) | AO52: =IF(OR(AO$13="",T52="",$E52=$E$13,$B52<>"partida"),"",T52*$Z52) | AP52: =IF(OR(AP$13="",U52="",$E52=$E$13,$B52<>"partida"),"",U52*$Z52) | AQ52: =IF(OR(AQ$13="",V52="",$E52=$E$13,$B52<>"partida"),"",V52*$Z52) | AR52: =IF(OR(AR$13="",W52="",$E52=$E$13,$B52<>"partida"),"",W52*$Z52)
B53: Partida | D53: 02.16 | E53: Correctivo | F53: GR | G53: DES | H53: Las Gabias | I53: DESPLAZAMIENTO (Incluso personal, ida y vuelta, dietas…) | X53: Unidad | Y53: 125 | AA53: =IFERROR(IF(OR(B53="",B53="SUBTOTAL"),"",IF(AND(B53="Capítulo",E53=E$12),SUMIF(AD$15:AD$500,D53,AA$15:AA$500),IF(E53=E$13,AE53*Z53,SUM(AI53:AM53)))),"") -> 0 | AB53: =IFERROR(IF(OR(AK$2=0,B53="",B53="SUBTOTAL"),"",IF(AND(B53="Capítulo",E53=E$12),SUMIF(AD$15:AD$500,D53,AB$15:AB$500),IF(E53=E$13,AF53*Z53,SUM(AI53:AR53)))),"") -> 0 | AD53: =IF(B53="PARTIDA",MID(D53,1,2),"") -> 02 | AE53: =IF(AND($E53=$E$13,$B53="PARTIDA"),IF($G53="PZ",$AM$2,1),"") -> 1 | AF53: =IF(AND($E53=$E$13,$B53="PARTIDA"),IF($G53="PZ",$AN$2,1),"") -> 1 | AG53: =IF(E53=$E$13,MID($G53,1,3),"") -> DES | AH53: =IF(E53=$E$13,AA53,"") -> 0 | AI53: =IF(OR(AI$13="",S53="",$E53=$E$13,$B53<>"partida"),"",S53*$Z53) | AJ53: =IF(OR(AJ$13="",T53="",$E53=$E$13,$B53<>"partida"),"",T53*$Z53) | AK53: =IF(OR(AK$13="",U53="",$E53=$E$13,$B53<>"partida"),"",U53*$Z53) | AL53: =IF(OR(AL$13="",V53="",$E53=$E$13,$B53<>"partida"),"",V53*$Z53) | AM53: =IF(OR(AM$13="",W53="",$E53=$E$13,$B53<>"partida"),"",W53*$Z53) | AN53: =IF(OR(AN$13="",S53="",$E53=$E$13,$B53<>"partida"),"",S53*$Z53) | AO53: =IF(OR(AO$13="",T53="",$E53=$E$13,$B53<>"partida"),"",T53*$Z53) | AP53: =IF(OR(AP$13="",U53="",$E53=$E$13,$B53<>"partida"),"",U53*$Z53) | AQ53: =IF(OR(AQ$13="",V53="",$E53=$E$13,$B53<>"partida"),"",V53*$Z53) | AR53: =IF(OR(AR$13="",W53="",$E53=$E$13,$B53<>"partida"),"",W53*$Z53)
... B59: Partida | D59: 02.24 | E59: Correctivo | F59: GR | G59: DES | H59: Baza | I59: DESPLAZAMIENTO (Incluso personal, ida y vuelta, dietas…) | X59: Unidad | Y59: 125 | AA59: =IFERROR(IF(OR(B59="",B59="SUBTOTAL"),"",IF(AND(B59="Capítulo",E59=E$12),SUMIF(AD$15:AD$500,D59,AA$15:AA$500),IF(E59=E$13,AE59*Z59,SUM(AI59:AM59)))),"") -> 0 | AB59: =IFERROR(IF(OR(AK$2=0,B59="",B59="SUBTOTAL"),"",IF(AND(B59="Capítulo",E59=E$12),SUMIF(AD$15:AD$500,D59,AB$15:AB$500),IF(E59=E$13,AF59*Z59,SUM(AI59:AR59)))),"") -> 0 | AD59: =IF(B59="PARTIDA",MID(D59,1,2),"") -> 02 | AE59: =IF(AND($E59=$E$13,$B59="PARTIDA"),IF($G59="PZ",$AM$2,1),"") -> 1 | AF59: =IF(AND($E59=$E$13,$B59="PARTIDA"),IF($G59="PZ",$AN$2,1),"") -> 1 | AG59: =IF(E59=$E$13,MID($G59,1,3),"") -> DES | AH59: =IF(E59=$E$13,AA59,"") -> 0 | AI59: =IF(OR(AI$13="",S59="",$E59=$E$13,$B59<>"partida"),"",S59*$Z59) | AJ59: =IF(OR(AJ$13="",T59="",$E59=$E$13,$B59<>"partida"),"",T59*$Z59) | AK59: =IF(OR(AK$13="",U59="",$E59=$E$13,$B59<>"partida"),"",U59*$Z59) | AL59: =IF(OR(AL$13="",V59="",$E59=$E$13,$B59<>"partida"),"",V59*$Z59) | AM59: =IF(OR(AM$13="",W59="",$E59=$E$13,$B59<>"partida"),"",W59*$Z59) | AN59: =IF(OR(AN$13="",S59="",$E59=$E$13,$B59<>"partida"),"",S59*$Z59) | AO59: =IF(OR(AO$13="",T59="",$E59=$E$13,$B59<>"partida"),"",T59*$Z59) | AP59: =IF(OR(AP$13="",U59="",$E59=$E$13,$B59<>"partida"),"",U59*$Z59) | AQ59: =IF(OR(AQ$13="",V59="",$E59=$E$13,$B59<>"partida"),"",V59*$Z59) | AR59: =IF(OR(AR$13="",W59="",$E59=$E$13,$B59<>"partida"),"",W59*$Z59)
B60: Partida | D60: 02.25 | E60: Correctivo | G60: ME | I60: MEDIOS DE ELEVACIÓN | X60: Día | Y60: 200 | AA60: =IFERROR(IF(OR(B60="",B60="SUBTOTAL"),"",IF(AND(B60="Capítulo",E60=E$12),SUMIF(AD$15:AD$500,D60,AA$15:AA$500),IF(E60=E$13,AE60*Z60,SUM(AI60:AM60)))),"") -> 0 | AB60: =IFERROR(IF(OR(AK$2=0,B60="",B60="SUBTOTAL"),"",IF(AND(B60="Capítulo",E60=E$12),SUMIF(AD$15:AD$500,D60,AB$15:AB$500),IF(E60=E$13,AF60*Z60,SUM(AI60:AR60)))),"") -> 0 | AD60: =IF(B60="PARTIDA",MID(D60,1,2),"") -> 02 | AE60: =IF(AND($E60=$E$13,$B60="PARTIDA"),IF($G60="PZ",$AM$2,1),"") -> 1 | AF60: =IF(AND($E60=$E$13,$B60="PARTIDA"),IF($G60="PZ",$AN$2,1),"") -> 1 | AG60: =IF(E60=$E$13,MID($G60,1,3),"") -> ME | AH60: =IF(E60=$E$13,AA60,"") -> 0 | AI60: =IF(OR(AI$13="",S60="",$E60=$E$13,$B60<>"partida"),"",S60*$Z60) | AJ60: =IF(OR(AJ$13="",T60="",$E60=$E$13,$B60<>"partida"),"",T60*$Z60) | AK60: =IF(OR(AK$13="",U60="",$E60=$E$13,$B60<>"partida"),"",U60*$Z60) | AL60: =IF(OR(AL$13="",V60="",$E60=$E$13,$B60<>"partida"),"",V60*$Z60) | AM60: =IF(OR(AM$13="",W60="",$E60=$E$13,$B60<>"partida"),"",W60*$Z60) | AN60: =IF(OR(AN$13="",S60="",$E60=$E$13,$B60<>"partida"),"",S60*$Z60) | AO60: =IF(OR(AO$13="",T60="",$E60=$E$13,$B60<>"partida"),"",T60*$Z60) | AP60: =IF(OR(AP$13="",U60="",$E60=$E$13,$B60<>"partida"),"",U60*$Z60) | AQ60: =IF(OR(AQ$13="",V60="",$E60=$E$13,$B60<>"partida"),"",V60*$Z60) | AR60: =IF(OR(AR$13="",W60="",$E60=$E$13,$B60<>"partida"),"",W60*$Z60)
B61: Partida | D61: 02.26 | E61: Correctivo | G61: PZ | I61: Alquiler SAI de sustitución (día) a partir del 4º SAI montado | X61: Día | Y61: 7 | Z61: 7 | AA61: =IFERROR(IF(OR(B61="",B61="SUBTOTAL"),"",IF(AND(B61="Capítulo",E61=E$12),SUMIF(AD$15:AD$500,D61,AA$15:AA$500),IF(E61=E$13,AE61*Z61,SUM(AI61:AM61)))),"") -> 875 | AB61: =IFERROR(IF(OR(AK$2=0,B61="",B61="SUBTOTAL"),"",IF(AND(B61="Capítulo",E61=E$12),SUMIF(AD$15:AD$500,D61,AB$15:AB$500),IF(E61=E$13,AF61*Z61,SUM(AI61:AR61)))),"") -> 1750 | AD61: =IF(B61="PARTIDA",MID(D61,1,2),"") -> 02 | AE61: =IF(AND($E61=$E$13,$B61="PARTIDA"),IF($G61="PZ",$AM$2,1),"") -> 125 | AF61: =IF(AND($E61=$E$13,$B61="PARTIDA"),IF($G61="PZ",$AN$2,1),"") -> 250 | AG61: =IF(E61=$E$13,MID($G61,1,3),"") -> PZ | AH61: =IF(E61=$E$13,AA61,"") -> 875 | AI61: =IF(OR(AI$13="",S61="",$E61=$E$13,$B61<>"partida"),"",S61*$Z61) | AJ61: =IF(OR(AJ$13="",T61="",$E61=$E$13,$B61<>"partida"),"",T61*$Z61) | AK61: =IF(OR(AK$13="",U61="",$E61=$E$13,$B61<>"partida"),"",U61*$Z61) | AL61: =IF(OR(AL$13="",V61="",$E61=$E$13,$B61<>"partida"),"",V61*$Z61) | AM61: =IF(OR(AM$13="",W61="",$E61=$E$13,$B61<>"partida"),"",W61*$Z61) | AN61: =IF(OR(AN$13="",S61="",$E61=$E$13,$B61<>"partida"),"",S61*$Z61) | AO61: =IF(OR(AO$13="",T61="",$E61=$E$13,$B61<>"partida"),"",T61*$Z61) | AP61: =IF(OR(AP$13="",U61="",$E61=$E$13,$B61<>"partida"),"",U61*$Z61) | AQ61: =IF(OR(AQ$13="",V61="",$E61=$E$13,$B61<>"partida"),"",V61*$Z61) | AR61: =IF(OR(AR$13="",W61="",$E61=$E$13,$B61<>"partida"),"",W61*$Z61)
B62: Partida | D62: 02.27 | E62: Correctivo | G62: PZ | I62: Coste medio de material | X62: Actuación | Y62: 450 | Z62: 450 | AA62: =IFERROR(IF(OR(B62="",B62="SUBTOTAL"),"",IF(AND(B62="Capítulo",E62=E$12),SUMIF(AD$15:AD$500,D62,AA$15:AA$500),IF(E62=E$13,AE62*Z62,SUM(AI62:AM62)))),"") -> 56250 | AB62: =IFERROR(IF(OR(AK$2=0,B62="",B62="SUBTOTAL"),"",IF(AND(B62="Capítulo",E62=E$12),SUMIF(AD$15:AD$500,D62,AB$15:AB$500),IF(E62=E$13,AF62*Z62,SUM(AI62:AR62)))),"") -> 112500 | AD62: =IF(B62="PARTIDA",MID(D62,1,2),"") -> 02 | AE62: =IF(AND($E62=$E$13,$B62="PARTIDA"),IF($G62="PZ",$AM$2,1),"") -> 125 | AF62: =IF(AND($E62=$E$13,$B62="PARTIDA"),IF($G62="PZ",$AN$2,1),"") -> 250 | AG62: =IF(E62=$E$13,MID($G62,1,3),"") -> PZ | AH62: =IF(E62=$E$13,AA62,"") -> 56250 | AI62: =IF(OR(AI$13="",S62="",$E62=$E$13,$B62<>"partida"),"",S62*$Z62) | AJ62: =IF(OR(AJ$13="",T62="",$E62=$E$13,$B62<>"partida"),"",T62*$Z62) | AK62: =IF(OR(AK$13="",U62="",$E62=$E$13,$B62<>"partida"),"",U62*$Z62) | AL62: =IF(OR(AL$13="",V62="",$E62=$E$13,$B62<>"partida"),"",V62*$Z62) | AM62: =IF(OR(AM$13="",W62="",$E62=$E$13,$B62<>"partida"),"",W62*$Z62) | AN62: =IF(OR(AN$13="",S62="",$E62=$E$13,$B62<>"partida"),"",S62*$Z62) | AO62: =IF(OR(AO$13="",T62="",$E62=$E$13,$B62<>"partida"),"",T62*$Z62) | AP62: =IF(OR(AP$13="",U62="",$E62=$E$13,$B62<>"partida"),"",U62*$Z62) | AQ62: =IF(OR(AQ$13="",V62="",$E62=$E$13,$B62<>"partida"),"",V62*$Z62) | AR62: =IF(OR(AR$13="",W62="",$E62=$E$13,$B62<>"partida"),"",W62*$Z62)
AA63: =IFERROR(IF(OR(B63="",B63="SUBTOTAL"),"",IF(AND(B63="Capítulo",E63=E$12),SUMIF(AD$15:AD$500,D63,AA$15:AA$500),IF(E63=E$13,AE63*Z63,SUM(AI63:AM63)))),"") | AB63: =IFERROR(IF(OR(AK$2=0,B63="",B63="SUBTOTAL"),"",IF(AND(B63="Capítulo",E63=E$12),SUMIF(AD$15:AD$500,D63,AB$15:AB$500),IF(E63=E$13,AF63*Z63,SUM(AI63:AR63)))),"") | AD63: =IF(B63="PARTIDA",MID(D63,1,2),"") | AE63: =IF(AND($E63=$E$13,$B63="PARTIDA"),IF($G63="PZ",$AM$2,1),"") | AF63: =IF(AND($E63=$E$13,$B63="PARTIDA"),IF($G63="PZ",$AN$2,1),"") | AG63: =IF(E63=$E$13,MID($G63,1,3),"") | AH63: =IF(E63=$E$13,AA63,"") | AI63: =IF(OR(AI$13="",S63="",$E63=$E$13,$B63<>"partida"),"",S63*$Z63) | AJ63: =IF(OR(AJ$13="",T63="",$E63=$E$13,$B63<>"partida"),"",T63*$Z63) | AK63: =IF(OR(AK$13="",U63="",$E63=$E$13,$B63<>"partida"),"",U63*$Z63) | AL63: =IF(OR(AL$13="",V63="",$E63=$E$13,$B63<>"partida"),"",V63*$Z63) | AM63: =IF(OR(AM$13="",W63="",$E63=$E$13,$B63<>"partida"),"",W63*$Z63) | AN63: =IF(OR(AN$13="",S63="",$E63=$E$13,$B63<>"partida"),"",S63*$Z63) | AO63: =IF(OR(AO$13="",T63="",$E63=$E$13,$B63<>"partida"),"",T63*$Z63) | AP63: =IF(OR(AP$13="",U63="",$E63=$E$13,$B63<>"partida"),"",U63*$Z63) | AQ63: =IF(OR(AQ$13="",V63="",$E63=$E$13,$B63<>"partida"),"",V63*$Z63) | AR63: =IF(OR(AR$13="",W63="",$E63=$E$13,$B63<>"partida"),"",W63*$Z63)
AA64: =IFERROR(IF(OR(B64="",B64="SUBTOTAL"),"",IF(AND(B64="Capítulo",E64=E$12),SUMIF(AD$15:AD$500,D64,AA$15:AA$500),IF(E64=E$13,AE64*Z64,SUM(AI64:AM64)))),"") | AB64: =IFERROR(IF(OR(AK$2=0,B64="",B64="SUBTOTAL"),"",IF(AND(B64="Capítulo",E64=E$12),SUMIF(AD$15:AD$500,D64,AB$15:AB$500),IF(E64=E$13,AF64*Z64,SUM(AI64:AR64)))),"") | AD64: =IF(B64="PARTIDA",MID(D64,1,2),"") | AE64: =IF(AND($E64=$E$13,$B64="PARTIDA"),IF($G64="PZ",$AM$2,1),"") | AF64: =IF(AND($E64=$E$13,$B64="PARTIDA"),IF($G64="PZ",$AN$2,1),"") | AG64: =IF(E64=$E$13,MID($G64,1,3),"") | AH64: =IF(E64=$E$13,AA64,"") | AI64: =IF(OR(AI$13="",S64="",$E64=$E$13,$B64<>"partida"),"",S64*$Z64) | AJ64: =IF(OR(AJ$13="",T64="",$E64=$E$13,$B64<>"partida"),"",T64*$Z64) | AK64: =IF(OR(AK$13="",U64="",$E64=$E$13,$B64<>"partida"),"",U64*$Z64) | AL64: =IF(OR(AL$13="",V64="",$E64=$E$13,$B64<>"partida"),"",V64*$Z64) | AM64: =IF(OR(AM$13="",W64="",$E64=$E$13,$B64<>"partida"),"",W64*$Z64) | AN64: =IF(OR(AN$13="",S64="",$E64=$E$13,$B64<>"partida"),"",S64*$Z64) | AO64: =IF(OR(AO$13="",T64="",$E64=$E$13,$B64<>"partida"),"",T64*$Z64) | AP64: =IF(OR(AP$13="",U64="",$E64=$E$13,$B64<>"partida"),"",U64*$Z64) | AQ64: =IF(OR(AQ$13="",V64="",$E64=$E$13,$B64<>"partida"),"",V64*$Z64) | AR64: =IF(OR(AR$13="",W64="",$E64=$E$13,$B64<>"partida"),"",W64*$Z64)
AA65: =IFERROR(IF(OR(B65="",B65="SUBTOTAL"),"",IF(AND(B65="Capítulo",E65=E$12),SUMIF(AD$15:AD$500,D65,AA$15:AA$500),IF(E65=E$13,AE65*Z65,SUM(AI65:AM65)))),"") | AB65: =IFERROR(IF(OR(AK$2=0,B65="",B65="SUBTOTAL"),"",IF(AND(B65="Capítulo",E65=E$12),SUMIF(AD$15:AD$500,D65,AB$15:AB$500),IF(E65=E$13,AF65*Z65,SUM(AI65:AR65)))),"") | AD65: =IF(B65="PARTIDA",MID(D65,1,2),"") | AE65: =IF(AND($E65=$E$13,$B65="PARTIDA"),IF($G65="PZ",$AM$2,1),"") | AF65: =IF(AND($E65=$E$13,$B65="PARTIDA"),IF($G65="PZ",$AN$2,1),"") | AG65: =IF(E65=$E$13,MID($G65,1,3),"") | AH65: =IF(E65=$E$13,AA65,"") | AI65: =IF(OR(AI$13="",S65="",$E65=$E$13,$B65<>"partida"),"",S65*$Z65) | AJ65: =IF(OR(AJ$13="",T65="",$E65=$E$13,$B65<>"partida"),"",T65*$Z65) | AK65: =IF(OR(AK$13="",U65="",$E65=$E$13,$B65<>"partida"),"",U65*$Z65) | AL65: =IF(OR(AL$13="",V65="",$E65=$E$13,$B65<>"partida"),"",V65*$Z65) | AM65: =IF(OR(AM$13="",W65="",$E65=$E$13,$B65<>"partida"),"",W65*$Z65) | AN65: =IF(OR(AN$13="",S65="",$E65=$E$13,$B65<>"partida"),"",S65*$Z65) | AO65: =IF(OR(AO$13="",T65="",$E65=$E$13,$B65<>"partida"),"",T65*$Z65) | AP65: =IF(OR(AP$13="",U65="",$E65=$E$13,$B65<>"partida"),"",U65*$Z65) | AQ65: =IF(OR(AQ$13="",V65="",$E65=$E$13,$B65<>"partida"),"",V65*$Z65) | AR65: =IF(OR(AR$13="",W65="",$E65=$E$13,$B65<>"partida"),"",W65*$Z65)
AA66: =IFERROR(IF(OR(B66="",B66="SUBTOTAL"),"",IF(AND(B66="Capítulo",E66=E$12),SUMIF(AD$15:AD$500,D66,AA$15:AA$500),IF(E66=E$13,AE66*Z66,SUM(AI66:AM66)))),"") | AB66: =IFERROR(IF(OR(AK$2=0,B66="",B66="SUBTOTAL"),"",IF(AND(B66="Capítulo",E66=E$12),SUMIF(AD$15:AD$500,D66,AB$15:AB$500),IF(E66=E$13,AF66*Z66,SUM(AI66:AR66)))),"") | AD66: =IF(B66="PARTIDA",MID(D66,1,2),"") | AE66: =IF(AND($E66=$E$13,$B66="PARTIDA"),IF($G66="PZ",$AM$2,1),"") | AF66: =IF(AND($E66=$E$13,$B66="PARTIDA"),IF($G66="PZ",$AN$2,1),"") | AG66: =IF(E66=$E$13,MID($G66,1,3),"") | AH66: =IF(E66=$E$13,AA66,"") | AI66: =IF(OR(AI$13="",S66="",$E66=$E$13,$B66<>"partida"),"",S66*$Z66) | AJ66: =IF(OR(AJ$13="",T66="",$E66=$E$13,$B66<>"partida"),"",T66*$Z66) | AK66: =IF(OR(AK$13="",U66="",$E66=$E$13,$B66<>"partida"),"",U66*$Z66) | AL66: =IF(OR(AL$13="",V66="",$E66=$E$13,$B66<>"partida"),"",V66*$Z66) | AM66: =IF(OR(AM$13="",W66="",$E66=$E$13,$B66<>"partida"),"",W66*$Z66) | AN66: =IF(OR(AN$13="",S66="",$E66=$E$13,$B66<>"partida"),"",S66*$Z66) | AO66: =IF(OR(AO$13="",T66="",$E66=$E$13,$B66<>"partida"),"",T66*$Z66) | AP66: =IF(OR(AP$13="",U66="",$E66=$E$13,$B66<>"partida"),"",U66*$Z66) | AQ66: =IF(OR(AQ$13="",V66="",$E66=$E$13,$B66<>"partida"),"",V66*$Z66) | AR66: =IF(OR(AR$13="",W66="",$E66=$E$13,$B66<>"partida"),"",W66*$Z66)
AA67: =IFERROR(IF(OR(B67="",B67="SUBTOTAL"),"",IF(AND(B67="Capítulo",E67=E$12),SUMIF(AD$15:AD$500,D67,AA$15:AA$500),IF(E67=E$13,AE67*Z67,SUM(AI67:AM67)))),"") | AB67: =IFERROR(IF(OR(AK$2=0,B67="",B67="SUBTOTAL"),"",IF(AND(B67="Capítulo",E67=E$12),SUMIF(AD$15:AD$500,D67,AB$15:AB$500),IF(E67=E$13,AF67*Z67,SUM(AI67:AR67)))),"") | AD67: =IF(B67="PARTIDA",MID(D67,1,2),"") | AE67: =IF(AND($E67=$E$13,$B67="PARTIDA"),IF($G67="PZ",$AM$2,1),"") | AF67: =IF(AND($E67=$E$13,$B67="PARTIDA"),IF($G67="PZ",$AN$2,1),"") | AG67: =IF(E67=$E$13,MID($G67,1,3),"") | AH67: =IF(E67=$E$13,AA67,"") | AI67: =IF(OR(AI$13="",S67="",$E67=$E$13,$B67<>"partida"),"",S67*$Z67) | AJ67: =IF(OR(AJ$13="",T67="",$E67=$E$13,$B67<>"partida"),"",T67*$Z67) | AK67: =IF(OR(AK$13="",U67="",$E67=$E$13,$B67<>"partida"),"",U67*$Z67) | AL67: =IF(OR(AL$13="",V67="",$E67=$E$13,$B67<>"partida"),"",V67*$Z67) | AM67: =IF(OR(AM$13="",W67="",$E67=$E$13,$B67<>"partida"),"",W67*$Z67) | AN67: =IF(OR(AN$13="",S67="",$E67=$E$13,$B67<>"partida"),"",S67*$Z67) | AO67: =IF(OR(AO$13="",T67="",$E67=$E$13,$B67<>"partida"),"",T67*$Z67) | AP67: =IF(OR(AP$13="",U67="",$E67=$E$13,$B67<>"partida"),"",U67*$Z67) | AQ67: =IF(OR(AQ$13="",V67="",$E67=$E$13,$B67<>"partida"),"",V67*$Z67) | AR67: =IF(OR(AR$13="",W67="",$E67=$E$13,$B67<>"partida"),"",W67*$Z67)
AA68: =IFERROR(IF(OR(B68="",B68="SUBTOTAL"),"",IF(AND(B68="Capítulo",E68=E$12),SUMIF(AD$15:AD$500,D68,AA$15:AA$500),IF(E68=E$13,AE68*Z68,SUM(AI68:AM68)))),"") | AB68: =IFERROR(IF(OR(AK$2=0,B68="",B68="SUBTOTAL"),"",IF(AND(B68="Capítulo",E68=E$12),SUMIF(AD$15:AD$500,D68,AB$15:AB$500),IF(E68=E$13,AF68*Z68,SUM(AI68:AR68)))),"") | AD68: =IF(B68="PARTIDA",MID(D68,1,2),"") | AE68: =IF(AND($E68=$E$13,$B68="PARTIDA"),IF($G68="PZ",$AM$2,1),"") | AF68: =IF(AND($E68=$E$13,$B68="PARTIDA"),IF($G68="PZ",$AN$2,1),"") | AG68: =IF(E68=$E$13,MID($G68,1,3),"") | AH68: =IF(E68=$E$13,AA68,"") | AI68: =IF(OR(AI$13="",S68="",$E68=$E$13,$B68<>"partida"),"",S68*$Z68) | AJ68: =IF(OR(AJ$13="",T68="",$E68=$E$13,$B68<>"partida"),"",T68*$Z68) | AK68: =IF(OR(AK$13="",U68="",$E68=$E$13,$B68<>"partida"),"",U68*$Z68) | AL68: =IF(OR(AL$13="",V68="",$E68=$E$13,$B68<>"partida"),"",V68*$Z68) | AM68: =IF(OR(AM$13="",W68="",$E68=$E$13,$B68<>"partida"),"",W68*$Z68) | AN68: =IF(OR(AN$13="",S68="",$E68=$E$13,$B68<>"partida"),"",S68*$Z68) | AO68: =IF(OR(AO$13="",T68="",$E68=$E$13,$B68<>"partida"),"",T68*$Z68) | AP68: =IF(OR(AP$13="",U68="",$E68=$E$13,$B68<>"partida"),"",U68*$Z68) | AQ68: =IF(OR(AQ$13="",V68="",$E68=$E$13,$B68<>"partida"),"",V68*$Z68) | AR68: =IF(OR(AR$13="",W68="",$E68=$E$13,$B68<>"partida"),"",W68*$Z68)
AA69: =IFERROR(IF(OR(B69="",B69="SUBTOTAL"),"",IF(AND(B69="Capítulo",E69=E$12),SUMIF(AD$15:AD$500,D69,AA$15:AA$500),IF(E69=E$13,AE69*Z69,SUM(AI69:AM69)))),"") | AB69: =IFERROR(IF(OR(AK$2=0,B69="",B69="SUBTOTAL"),"",IF(AND(B69="Capítulo",E69=E$12),SUMIF(AD$15:AD$500,D69,AB$15:AB$500),IF(E69=E$13,AF69*Z69,SUM(AI69:AR69)))),"") | AD69: =IF(B69="PARTIDA",MID(D69,1,2),"") | AE69: =IF(AND($E69=$E$13,$B69="PARTIDA"),IF($G69="PZ",$AM$2,1),"") | AF69: =IF(AND($E69=$E$13,$B69="PARTIDA"),IF($G69="PZ",$AN$2,1),"") | AG69: =IF(E69=$E$13,MID($G69,1,3),"") | AH69: =IF(E69=$E$13,AA69,"") | AI69: =IF(OR(AI$13="",S69="",$E69=$E$13,$B69<>"partida"),"",S69*$Z69) | AJ69: =IF(OR(AJ$13="",T69="",$E69=$E$13,$B69<>"partida"),"",T69*$Z69) | AK69: =IF(OR(AK$13="",U69="",$E69=$E$13,$B69<>"partida"),"",U69*$Z69) | AL69: =IF(OR(AL$13="",V69="",$E69=$E$13,$B69<>"partida"),"",V69*$Z69) | AM69: =IF(OR(AM$13="",W69="",$E69=$E$13,$B69<>"partida"),"",W69*$Z69) | AN69: =IF(OR(AN$13="",S69="",$E69=$E$13,$B69<>"partida"),"",S69*$Z69) | AO69: =IF(OR(AO$13="",T69="",$E69=$E$13,$B69<>"partida"),"",T69*$Z69) | AP69: =IF(OR(AP$13="",U69="",$E69=$E$13,$B69<>"partida"),"",U69*$Z69) | AQ69: =IF(OR(AQ$13="",V69="",$E69=$E$13,$B69<>"partida"),"",V69*$Z69) | AR69: =IF(OR(AR$13="",W69="",$E69=$E$13,$B69<>"partida"),"",W69*$Z69)
AA70: =IFERROR(IF(OR(B70="",B70="SUBTOTAL"),"",IF(AND(B70="Capítulo",E70=E$12),SUMIF(AD$15:AD$500,D70,AA$15:AA$500),IF(E70=E$13,AE70*Z70,SUM(AI70:AM70)))),"") | AB70: =IFERROR(IF(OR(AK$2=0,B70="",B70="SUBTOTAL"),"",IF(AND(B70="Capítulo",E70=E$12),SUMIF(AD$15:AD$500,D70,AB$15:AB$500),IF(E70=E$13,AF70*Z70,SUM(AI70:AR70)))),"") | AD70: =IF(B70="PARTIDA",MID(D70,1,2),"") | AE70: =IF(AND($E70=$E$13,$B70="PARTIDA"),IF($G70="PZ",$AM$2,1),"") | AF70: =IF(AND($E70=$E$13,$B70="PARTIDA"),IF($G70="PZ",$AN$2,1),"") | AG70: =IF(E70=$E$13,MID($G70,1,3),"") | AH70: =IF(E70=$E$13,AA70,"") | AI70: =IF(OR(AI$13="",S70="",$E70=$E$13,$B70<>"partida"),"",S70*$Z70) | AJ70: =IF(OR(AJ$13="",T70="",$E70=$E$13,$B70<>"partida"),"",T70*$Z70) | AK70: =IF(OR(AK$13="",U70="",$E70=$E$13,$B70<>"partida"),"",U70*$Z70) | AL70: =IF(OR(AL$13="",V70="",$E70=$E$13,$B70<>"partida"),"",V70*$Z70) | AM70: =IF(OR(AM$13="",W70="",$E70=$E$13,$B70<>"partida"),"",W70*$Z70) | AN70: =IF(OR(AN$13="",S70="",$E70=$E$13,$B70<>"partida"),"",S70*$Z70) | AO70: =IF(OR(AO$13="",T70="",$E70=$E$13,$B70<>"partida"),"",T70*$Z70) | AP70: =IF(OR(AP$13="",U70="",$E70=$E$13,$B70<>"partida"),"",U70*$Z70) | AQ70: =IF(OR(AQ$13="",V70="",$E70=$E$13,$B70<>"partida"),"",V70*$Z70) | AR70: =IF(OR(AR$13="",W70="",$E70=$E$13,$B70<>"partida"),"",W70*$Z70)
AA71: =IFERROR(IF(OR(B71="",B71="SUBTOTAL"),"",IF(AND(B71="Capítulo",E71=E$12),SUMIF(AD$15:AD$500,D71,AA$15:AA$500),IF(E71=E$13,AE71*Z71,SUM(AI71:AM71)))),"") | AB71: =IFERROR(IF(OR(AK$2=0,B71="",B71="SUBTOTAL"),"",IF(AND(B71="Capítulo",E71=E$12),SUMIF(AD$15:AD$500,D71,AB$15:AB$500),IF(E71=E$13,AF71*Z71,SUM(AI71:AR71)))),"") | AD71: =IF(B71="PARTIDA",MID(D71,1,2),"") | AE71: =IF(AND($E71=$E$13,$B71="PARTIDA"),IF($G71="PZ",$AM$2,1),"") | AF71: =IF(AND($E71=$E$13,$B71="PARTIDA"),IF($G71="PZ",$AN$2,1),"") | AG71: =IF(E71=$E$13,MID($G71,1,3),"") | AH71: =IF(E71=$E$13,AA71,"") | AI71: =IF(OR(AI$13="",S71="",$E71=$E$13,$B71<>"partida"),"",S71*$Z71) | AJ71: =IF(OR(AJ$13="",T71="",$E71=$E$13,$B71<>"partida"),"",T71*$Z71) | AK71: =IF(OR(AK$13="",U71="",$E71=$E$13,$B71<>"partida"),"",U71*$Z71) | AL71: =IF(OR(AL$13="",V71="",$E71=$E$13,$B71<>"partida"),"",V71*$Z71) | AM71: =IF(OR(AM$13="",W71="",$E71=$E$13,$B71<>"partida"),"",W71*$Z71) | AN71: =IF(OR(AN$13="",S71="",$E71=$E$13,$B71<>"partida"),"",S71*$Z71) | AO71: =IF(OR(AO$13="",T71="",$E71=$E$13,$B71<>"partida"),"",T71*$Z71) | AP71: =IF(OR(AP$13="",U71="",$E71=$E$13,$B71<>"partida"),"",U71*$Z71) | AQ71: =IF(OR(AQ$13="",V71="",$E71=$E$13,$B71<>"partida"),"",V71*$Z71) | AR71: =IF(OR(AR$13="",W71="",$E71=$E$13,$B71<>"partida"),"",W71*$Z71)
AA72: =IFERROR(IF(OR(B72="",B72="SUBTOTAL"),"",IF(AND(B72="Capítulo",E72=E$12),SUMIF(AD$15:AD$500,D72,AA$15:AA$500),IF(E72=E$13,AE72*Z72,SUM(AI72:AM72)))),"") | AB72: =IFERROR(IF(OR(AK$2=0,B72="",B72="SUBTOTAL"),"",IF(AND(B72="Capítulo",E72=E$12),SUMIF(AD$15:AD$500,D72,AB$15:AB$500),IF(E72=E$13,AF72*Z72,SUM(AI72:AR72)))),"") | AD72: =IF(B72="PARTIDA",MID(D72,1,2),"") | AE72: =IF(AND($E72=$E$13,$B72="PARTIDA"),IF($G72="PZ",$AM$2,1),"") | AF72: =IF(AND($E72=$E$13,$B72="PARTIDA"),IF($G72="PZ",$AN$2,1),"") | AG72: =IF(E72=$E$13,MID($G72,1,3),"") | AH72: =IF(E72=$E$13,AA72,"") | AI72: =IF(OR(AI$13="",S72="",$E72=$E$13,$B72<>"partida"),"",S72*$Z72) | AJ72: =IF(OR(AJ$13="",T72="",$E72=$E$13,$B72<>"partida"),"",T72*$Z72) | AK72: =IF(OR(AK$13="",U72="",$E72=$E$13,$B72<>"partida"),"",U72*$Z72) | AL72: =IF(OR(AL$13="",V72="",$E72=$E$13,$B72<>"partida"),"",V72*$Z72) | AM72: =IF(OR(AM$13="",W72="",$E72=$E$13,$B72<>"partida"),"",W72*$Z72) | AN72: =IF(OR(AN$13="",S72="",$E72=$E$13,$B72<>"partida"),"",S72*$Z72) | AO72: =IF(OR(AO$13="",T72="",$E72=$E$13,$B72<>"partida"),"",T72*$Z72) | AP72: =IF(OR(AP$13="",U72="",$E72=$E$13,$B72<>"partida"),"",U72*$Z72) | AQ72: =IF(OR(AQ$13="",V72="",$E72=$E$13,$B72<>"partida"),"",V72*$Z72) | AR72: =IF(OR(AR$13="",W72="",$E72=$E$13,$B72<>"partida"),"",W72*$Z72)
AA73: =IFERROR(IF(OR(B73="",B73="SUBTOTAL"),"",IF(AND(B73="Capítulo",E73=E$12),SUMIF(AD$15:AD$500,D73,AA$15:AA$500),IF(E73=E$13,AE73*Z73,SUM(AI73:AM73)))),"") | AB73: =IFERROR(IF(OR(AK$2=0,B73="",B73="SUBTOTAL"),"",IF(AND(B73="Capítulo",E73=E$12),SUMIF(AD$15:AD$500,D73,AB$15:AB$500),IF(E73=E$13,AF73*Z73,SUM(AI73:AR73)))),"") | AD73: =IF(B73="PARTIDA",MID(D73,1,2),"") | AE73: =IF(AND($E73=$E$13,$B73="PARTIDA"),IF($G73="PZ",$AM$2,1),"") | AF73: =IF(AND($E73=$E$13,$B73="PARTIDA"),IF($G73="PZ",$AN$2,1),"") | AG73: =IF(E73=$E$13,MID($G73,1,3),"") | AH73: =IF(E73=$E$13,AA73,"") | AI73: =IF(OR(AI$13="",S73="",$E73=$E$13,$B73<>"partida"),"",S73*$Z73) | AJ73: =IF(OR(AJ$13="",T73="",$E73=$E$13,$B73<>"partida"),"",T73*$Z73) | AK73: =IF(OR(AK$13="",U73="",$E73=$E$13,$B73<>"partida"),"",U73*$Z73) | AL73: =IF(OR(AL$13="",V73="",$E73=$E$13,$B73<>"partida"),"",V73*$Z73) | AM73: =IF(OR(AM$13="",W73="",$E73=$E$13,$B73<>"partida"),"",W73*$Z73) | AN73: =IF(OR(AN$13="",S73="",$E73=$E$13,$B73<>"partida"),"",S73*$Z73) | AO73: =IF(OR(AO$13="",T73="",$E73=$E$13,$B73<>"partida"),"",T73*$Z73) | AP73: =IF(OR(AP$13="",U73="",$E73=$E$13,$B73<>"partida"),"",U73*$Z73) | AQ73: =IF(OR(AQ$13="",V73="",$E73=$E$13,$B73<>"partida"),"",V73*$Z73) | AR73: =IF(OR(AR$13="",W73="",$E73=$E$13,$B73<>"partida"),"",W73*$Z73)
AA74: =IFERROR(IF(OR(B74="",B74="SUBTOTAL"),"",IF(AND(B74="Capítulo",E74=E$12),SUMIF(AD$15:AD$500,D74,AA$15:AA$500),IF(E74=E$13,AE74*Z74,SUM(AI74:AM74)))),"") | AB74: =IFERROR(IF(OR(AK$2=0,B74="",B74="SUBTOTAL"),"",IF(AND(B74="Capítulo",E74=E$12),SUMIF(AD$15:AD$500,D74,AB$15:AB$500),IF(E74=E$13,AF74*Z74,SUM(AI74:AR74)))),"") | AD74: =IF(B74="PARTIDA",MID(D74,1,2),"") | AE74: =IF(AND($E74=$E$13,$B74="PARTIDA"),IF($G74="PZ",$AM$2,1),"") | AF74: =IF(AND($E74=$E$13,$B74="PARTIDA"),IF($G74="PZ",$AN$2,1),"") | AG74: =IF(E74=$E$13,MID($G74,1,3),"") | AH74: =IF(E74=$E$13,AA74,"") | AI74: =IF(OR(AI$13="",S74="",$E74=$E$13,$B74<>"partida"),"",S74*$Z74) | AJ74: =IF(OR(AJ$13="",T74="",$E74=$E$13,$B74<>"partida"),"",T74*$Z74) | AK74: =IF(OR(AK$13="",U74="",$E74=$E$13,$B74<>"partida"),"",U74*$Z74) | AL74: =IF(OR(AL$13="",V74="",$E74=$E$13,$B74<>"partida"),"",V74*$Z74) | AM74: =IF(OR(AM$13="",W74="",$E74=$E$13,$B74<>"partida"),"",W74*$Z74) | AN74: =IF(OR(AN$13="",S74="",$E74=$E$13,$B74<>"partida"),"",S74*$Z74) | AO74: =IF(OR(AO$13="",T74="",$E74=$E$13,$B74<>"partida"),"",T74*$Z74) | AP74: =IF(OR(AP$13="",U74="",$E74=$E$13,$B74<>"partida"),"",U74*$Z74) | AQ74: =IF(OR(AQ$13="",V74="",$E74=$E$13,$B74<>"partida"),"",V74*$Z74) | AR74: =IF(OR(AR$13="",W74="",$E74=$E$13,$B74<>"partida"),"",W74*$Z74)
... AA194: =IFERROR(IF(OR(B194="",B194="SUBTOTAL"),"",IF(AND(B194="Capítulo",E194=E$12),SUMIF(AD$15:AD$500,D194,AA$15:AA$500),IF(E194=E$13,AE194*Z194,SUM(AI194:AM194)))),"") | AB194: =IFERROR(IF(OR(AK$2=0,B194="",B194="SUBTOTAL"),"",IF(AND(B194="Capítulo",E194=E$12),SUMIF(AD$15:AD$500,D194,AB$15:AB$500),IF(E194=E$13,AF194*Z194,SUM(AI194:AR194)))),"") | AD194: =IF(B194="PARTIDA",MID(D194,1,2),"") | AE194: =IF(AND($E194=$E$13,$B194="PARTIDA"),IF($G194="PZ",$AM$2,1),"") | AF194: =IF(AND($E194=$E$13,$B194="PARTIDA"),IF($G194="PZ",$AN$2,1),"") | AG194: =IF(E194=$E$13,MID($G194,1,3),"") | AH194: =IF(E194=$E$13,AA194,"") | AI194: =IF(OR(AI$13="",S194="",$E194=$E$13,$B194<>"partida"),"",S194*$Z194) | AJ194: =IF(OR(AJ$13="",T194="",$E194=$E$13,$B194<>"partida"),"",T194*$Z194) | AK194: =IF(OR(AK$13="",U194="",$E194=$E$13,$B194<>"partida"),"",U194*$Z194) | AL194: =IF(OR(AL$13="",V194="",$E194=$E$13,$B194<>"partida"),"",V194*$Z194) | AM194: =IF(OR(AM$13="",W194="",$E194=$E$13,$B194<>"partida"),"",W194*$Z194) | AN194: =IF(OR(AN$13="",S194="",$E194=$E$13,$B194<>"partida"),"",S194*$Z194) | AO194: =IF(OR(AO$13="",T194="",$E194=$E$13,$B194<>"partida"),"",T194*$Z194) | AP194: =IF(OR(AP$13="",U194="",$E194=$E$13,$B194<>"partida"),"",U194*$Z194) | AQ194: =IF(OR(AQ$13="",V194="",$E194=$E$13,$B194<>"partida"),"",V194*$Z194) | AR194: =IF(OR(AR$13="",W194="",$E194=$E$13,$B194<>"partida"),"",W194*$Z194)
F195: =IF(G195="","",VLOOKUP($G195,$AW$2:$AX$12,2,FALSE)) | AA195: =IFERROR(IF(OR(B195="",B195="SUBTOTAL"),"",IF(AND(B195="Capítulo",E195=E$12),SUMIF(AD$15:AD$500,D195,AA$15:AA$500),IF(E195=E$13,AE195*Z195,SUM(AI195:AM195)))),"") | AB195: =IFERROR(IF(OR(AK$2=0,B195="",B195="SUBTOTAL"),"",IF(AND(B195="Capítulo",E195=E$12),SUMIF(AD$15:AD$500,D195,AB$15:AB$500),IF(E195=E$13,AF195*Z195,SUM(AI195:AR195)))),"") | AD195: =IF(B195="PARTIDA",MID(D195,1,2),"") | AE195: =IF(AND($E195=$E$13,$B195="PARTIDA"),IF($G195="PZ",$AM$2,1),"") | AF195: =IF(AND($E195=$E$13,$B195="PARTIDA"),IF($G195="PZ",$AN$2,1),"") | AG195: =IF(E195=$E$13,MID($G195,1,3),"") | AH195: =IF(E195=$E$13,AA195,"") | AI195: =IF(OR(AI$13="",S195="",$E195=$E$13,$B195<>"partida"),"",S195*$Z195) | AJ195: =IF(OR(AJ$13="",T195="",$E195=$E$13,$B195<>"partida"),"",T195*$Z195) | AK195: =IF(OR(AK$13="",U195="",$E195=$E$13,$B195<>"partida"),"",U195*$Z195) | AL195: =IF(OR(AL$13="",V195="",$E195=$E$13,$B195<>"partida"),"",V195*$Z195) | AM195: =IF(OR(AM$13="",W195="",$E195=$E$13,$B195<>"partida"),"",W195*$Z195) | AN195: =IF(OR(AN$13="",S195="",$E195=$E$13,$B195<>"partida"),"",S195*$Z195) | AO195: =IF(OR(AO$13="",T195="",$E195=$E$13,$B195<>"partida"),"",T195*$Z195) | AP195: =IF(OR(AP$13="",U195="",$E195=$E$13,$B195<>"partida"),"",U195*$Z195) | AQ195: =IF(OR(AQ$13="",V195="",$E195=$E$13,$B195<>"partida"),"",V195*$Z195) | AR195: =IF(OR(AR$13="",W195="",$E195=$E$13,$B195<>"partida"),"",W195*$Z195)
F196: =IF(G196="","",VLOOKUP($G196,$AW$2:$AX$12,2,FALSE)) | AA196: =IFERROR(IF(OR(B196="",B196="SUBTOTAL"),"",IF(AND(B196="Capítulo",E196=E$12),SUMIF(AD$15:AD$500,D196,AA$15:AA$500),IF(E196=E$13,AE196*Z196,SUM(AI196:AM196)))),"") | AB196: =IFERROR(IF(OR(AK$2=0,B196="",B196="SUBTOTAL"),"",IF(AND(B196="Capítulo",E196=E$12),SUMIF(AD$15:AD$500,D196,AB$15:AB$500),IF(E196=E$13,AF196*Z196,SUM(AI196:AR196)))),"") | AD196: =IF(B196="PARTIDA",MID(D196,1,2),"") | AE196: =IF(AND($E196=$E$13,$B196="PARTIDA"),IF($G196="PZ",$AM$2,1),"") | AF196: =IF(AND($E196=$E$13,$B196="PARTIDA"),IF($G196="PZ",$AN$2,1),"") | AG196: =IF(E196=$E$13,MID($G196,1,3),"") | AH196: =IF(E196=$E$13,AA196,"") | AI196: =IF(OR(AI$13="",S196="",$E196=$E$13,$B196<>"partida"),"",S196*$Z196) | AJ196: =IF(OR(AJ$13="",T196="",$E196=$E$13,$B196<>"partida"),"",T196*$Z196) | AK196: =IF(OR(AK$13="",U196="",$E196=$E$13,$B196<>"partida"),"",U196*$Z196) | AL196: =IF(OR(AL$13="",V196="",$E196=$E$13,$B196<>"partida"),"",V196*$Z196) | AM196: =IF(OR(AM$13="",W196="",$E196=$E$13,$B196<>"partida"),"",W196*$Z196) | AN196: =IF(OR(AN$13="",S196="",$E196=$E$13,$B196<>"partida"),"",S196*$Z196) | AO196: =IF(OR(AO$13="",T196="",$E196=$E$13,$B196<>"partida"),"",T196*$Z196) | AP196: =IF(OR(AP$13="",U196="",$E196=$E$13,$B196<>"partida"),"",U196*$Z196) | AQ196: =IF(OR(AQ$13="",V196="",$E196=$E$13,$B196<>"partida"),"",V196*$Z196) | AR196: =IF(OR(AR$13="",W196="",$E196=$E$13,$B196<>"partida"),"",W196*$Z196)
F197: =IF(G197="","",VLOOKUP($G197,$AW$2:$AX$12,2,FALSE)) | AA197: =IFERROR(IF(OR(B197="",B197="SUBTOTAL"),"",IF(AND(B197="Capítulo",E197=E$12),SUMIF(AD$15:AD$500,D197,AA$15:AA$500),IF(E197=E$13,AE197*Z197,SUM(AI197:AM197)))),"") | AB197: =IFERROR(IF(OR(AK$2=0,B197="",B197="SUBTOTAL"),"",IF(AND(B197="Capítulo",E197=E$12),SUMIF(AD$15:AD$500,D197,AB$15:AB$500),IF(E197=E$13,AF197*Z197,SUM(AI197:AR197)))),"") | AD197: =IF(B197="PARTIDA",MID(D197,1,2),"") | AE197: =IF(AND($E197=$E$13,$B197="PARTIDA"),IF($G197="PZ",$AM$2,1),"") | AF197: =IF(AND($E197=$E$13,$B197="PARTIDA"),IF($G197="PZ",$AN$2,1),"") | AG197: =IF(E197=$E$13,MID($G197,1,3),"") | AH197: =IF(E197=$E$13,AA197,"") | AI197: =IF(OR(AI$13="",S197="",$E197=$E$13,$B197<>"partida"),"",S197*$Z197) | AJ197: =IF(OR(AJ$13="",T197="",$E197=$E$13,$B197<>"partida"),"",T197*$Z197) | AK197: =IF(OR(AK$13="",U197="",$E197=$E$13,$B197<>"partida"),"",U197*$Z197) | AL197: =IF(OR(AL$13="",V197="",$E197=$E$13,$B197<>"partida"),"",V197*$Z197) | AM197: =IF(OR(AM$13="",W197="",$E197=$E$13,$B197<>"partida"),"",W197*$Z197) | AN197: =IF(OR(AN$13="",S197="",$E197=$E$13,$B197<>"partida"),"",S197*$Z197) | AO197: =IF(OR(AO$13="",T197="",$E197=$E$13,$B197<>"partida"),"",T197*$Z197) | AP197: =IF(OR(AP$13="",U197="",$E197=$E$13,$B197<>"partida"),"",U197*$Z197) | AQ197: =IF(OR(AQ$13="",V197="",$E197=$E$13,$B197<>"partida"),"",V197*$Z197) | AR197: =IF(OR(AR$13="",W197="",$E197=$E$13,$B197<>"partida"),"",W197*$Z197)
F198: =IF(G198="","",VLOOKUP($G198,$AW$2:$AX$12,2,FALSE)) | AA198: =IFERROR(IF(OR(B198="",B198="SUBTOTAL"),"",IF(AND(B198="Capítulo",E198=E$12),SUMIF(AD$15:AD$500,D198,AA$15:AA$500),IF(E198=E$13,AE198*Z198,SUM(AI198:AM198)))),"") | AB198: =IFERROR(IF(OR(AK$2=0,B198="",B198="SUBTOTAL"),"",IF(AND(B198="Capítulo",E198=E$12),SUMIF(AD$15:AD$500,D198,AB$15:AB$500),IF(E198=E$13,AF198*Z198,SUM(AI198:AR198)))),"") | AD198: =IF(B198="PARTIDA",MID(D198,1,2),"") | AE198: =IF(AND($E198=$E$13,$B198="PARTIDA"),IF($G198="PZ",$AM$2,1),"") | AF198: =IF(AND($E198=$E$13,$B198="PARTIDA"),IF($G198="PZ",$AN$2,1),"") | AG198: =IF(E198=$E$13,MID($G198,1,3),"") | AH198: =IF(E198=$E$13,AA198,"") | AI198: =IF(OR(AI$13="",S198="",$E198=$E$13,$B198<>"partida"),"",S198*$Z198) | AJ198: =IF(OR(AJ$13="",T198="",$E198=$E$13,$B198<>"partida"),"",T198*$Z198) | AK198: =IF(OR(AK$13="",U198="",$E198=$E$13,$B198<>"partida"),"",U198*$Z198) | AL198: =IF(OR(AL$13="",V198="",$E198=$E$13,$B198<>"partida"),"",V198*$Z198) | AM198: =IF(OR(AM$13="",W198="",$E198=$E$13,$B198<>"partida"),"",W198*$Z198) | AN198: =IF(OR(AN$13="",S198="",$E198=$E$13,$B198<>"partida"),"",S198*$Z198) | AO198: =IF(OR(AO$13="",T198="",$E198=$E$13,$B198<>"partida"),"",T198*$Z198) | AP198: =IF(OR(AP$13="",U198="",$E198=$E$13,$B198<>"partida"),"",U198*$Z198) | AQ198: =IF(OR(AQ$13="",V198="",$E198=$E$13,$B198<>"partida"),"",V198*$Z198) | AR198: =IF(OR(AR$13="",W198="",$E198=$E$13,$B198<>"partida"),"",W198*$Z198)
F199: =IF(G199="","",VLOOKUP($G199,$AW$2:$AX$12,2,FALSE)) | AA199: =IFERROR(IF(OR(B199="",B199="SUBTOTAL"),"",IF(AND(B199="Capítulo",E199=E$12),SUMIF(AD$15:AD$500,D199,AA$15:AA$500),IF(E199=E$13,AE199*Z199,SUM(AI199:AM199)))),"") | AB199: =IFERROR(IF(OR(AK$2=0,B199="",B199="SUBTOTAL"),"",IF(AND(B199="Capítulo",E199=E$12),SUMIF(AD$15:AD$500,D199,AB$15:AB$500),IF(E199=E$13,AF199*Z199,SUM(AI199:AR199)))),"") | AD199: =IF(B199="PARTIDA",MID(D199,1,2),"") | AE199: =IF(AND($E199=$E$13,$B199="PARTIDA"),IF($G199="PZ",$AM$2,1),"") | AF199: =IF(AND($E199=$E$13,$B199="PARTIDA"),IF($G199="PZ",$AN$2,1),"") | AG199: =IF(E199=$E$13,MID($G199,1,3),"") | AH199: =IF(E199=$E$13,AA199,"") | AI199: =IF(OR(AI$13="",S199="",$E199=$E$13,$B199<>"partida"),"",S199*$Z199) | AJ199: =IF(OR(AJ$13="",T199="",$E199=$E$13,$B199<>"partida"),"",T199*$Z199) | AK199: =IF(OR(AK$13="",U199="",$E199=$E$13,$B199<>"partida"),"",U199*$Z199) | AL199: =IF(OR(AL$13="",V199="",$E199=$E$13,$B199<>"partida"),"",V199*$Z199) | AM199: =IF(OR(AM$13="",W199="",$E199=$E$13,$B199<>"partida"),"",W199*$Z199) | AN199: =IF(OR(AN$13="",S199="",$E199=$E$13,$B199<>"partida"),"",S199*$Z199) | AO199: =IF(OR(AO$13="",T199="",$E199=$E$13,$B199<>"partida"),"",T199*$Z199) | AP199: =IF(OR(AP$13="",U199="",$E199=$E$13,$B199<>"partida"),"",U199*$Z199) | AQ199: =IF(OR(AQ$13="",V199="",$E199=$E$13,$B199<>"partida"),"",V199*$Z199) | AR199: =IF(OR(AR$13="",W199="",$E199=$E$13,$B199<>"partida"),"",W199*$Z199)
F200: =IF(G200="","",VLOOKUP($G200,$AW$2:$AX$12,2,FALSE)) | AA200: =IFERROR(IF(OR(B200="",B200="SUBTOTAL"),"",IF(AND(B200="Capítulo",E200=E$12),SUMIF(AD$15:AD$500,D200,AA$15:AA$500),IF(E200=E$13,AE200*Z200,SUM(AI200:AM200)))),"") | AB200: =IFERROR(IF(OR(AK$2=0,B200="",B200="SUBTOTAL"),"",IF(AND(B200="Capítulo",E200=E$12),SUMIF(AD$15:AD$500,D200,AB$15:AB$500),IF(E200=E$13,AF200*Z200,SUM(AI200:AR200)))),"") | AD200: =IF(B200="PARTIDA",MID(D200,1,2),"") | AE200: =IF(AND($E200=$E$13,$B200="PARTIDA"),IF($G200="PZ",$AM$2,1),"") | AF200: =IF(AND($E200=$E$13,$B200="PARTIDA"),IF($G200="PZ",$AN$2,1),"") | AG200: =IF(E200=$E$13,MID($G200,1,3),"") | AH200: =IF(E200=$E$13,AA200,"") | AI200: =IF(OR(AI$13="",S200="",$E200=$E$13,$B200<>"partida"),"",S200*$Z200) | AJ200: =IF(OR(AJ$13="",T200="",$E200=$E$13,$B200<>"partida"),"",T200*$Z200) | AK200: =IF(OR(AK$13="",U200="",$E200=$E$13,$B200<>"partida"),"",U200*$Z200) | AL200: =IF(OR(AL$13="",V200="",$E200=$E$13,$B200<>"partida"),"",V200*$Z200) | AM200: =IF(OR(AM$13="",W200="",$E200=$E$13,$B200<>"partida"),"",W200*$Z200) | AN200: =IF(OR(AN$13="",S200="",$E200=$E$13,$B200<>"partida"),"",S200*$Z200) | AO200: =IF(OR(AO$13="",T200="",$E200=$E$13,$B200<>"partida"),"",T200*$Z200) | AP200: =IF(OR(AP$13="",U200="",$E200=$E$13,$B200<>"partida"),"",U200*$Z200) | AQ200: =IF(OR(AQ$13="",V200="",$E200=$E$13,$B200<>"partida"),"",V200*$Z200) | AR200: =IF(OR(AR$13="",W200="",$E200=$E$13,$B200<>"partida"),"",W200*$Z200)
F201: =IF(G201="","",VLOOKUP($G201,$AW$2:$AX$12,2,FALSE)) | AA201: =IFERROR(IF(OR(B201="",B201="SUBTOTAL"),"",IF(AND(B201="Capítulo",E201=E$12),SUMIF(AD$15:AD$500,D201,AA$15:AA$500),IF(E201=E$13,AE201*Z201,SUM(AI201:AM201)))),"") | AB201: =IFERROR(IF(OR(AK$2=0,B201="",B201="SUBTOTAL"),"",IF(AND(B201="Capítulo",E201=E$12),SUMIF(AD$15:AD$500,D201,AB$15:AB$500),IF(E201=E$13,AF201*Z201,SUM(AI201:AR201)))),"") | AD201: =IF(B201="PARTIDA",MID(D201,1,2),"") | AE201: =IF(AND($E201=$E$13,$B201="PARTIDA"),IF($G201="PZ",$AM$2,1),"") | AF201: =IF(AND($E201=$E$13,$B201="PARTIDA"),IF($G201="PZ",$AN$2,1),"") | AG201: =IF(E201=$E$13,MID($G201,1,3),"") | AH201: =IF(E201=$E$13,AA201,"") | AI201: =IF(OR(AI$13="",S201="",$E201=$E$13,$B201<>"partida"),"",S201*$Z201) | AJ201: =IF(OR(AJ$13="",T201="",$E201=$E$13,$B201<>"partida"),"",T201*$Z201) | AK201: =IF(OR(AK$13="",U201="",$E201=$E$13,$B201<>"partida"),"",U201*$Z201) | AL201: =IF(OR(AL$13="",V201="",$E201=$E$13,$B201<>"partida"),"",V201*$Z201) | AM201: =IF(OR(AM$13="",W201="",$E201=$E$13,$B201<>"partida"),"",W201*$Z201) | AN201: =IF(OR(AN$13="",S201="",$E201=$E$13,$B201<>"partida"),"",S201*$Z201) | AO201: =IF(OR(AO$13="",T201="",$E201=$E$13,$B201<>"partida"),"",T201*$Z201) | AP201: =IF(OR(AP$13="",U201="",$E201=$E$13,$B201<>"partida"),"",U201*$Z201) | AQ201: =IF(OR(AQ$13="",V201="",$E201=$E$13,$B201<>"partida"),"",V201*$Z201) | AR201: =IF(OR(AR$13="",W201="",$E201=$E$13,$B201<>"partida"),"",W201*$Z201)
F202: =IF(G202="","",VLOOKUP($G202,$AW$2:$AX$12,2,FALSE)) | AA202: =IFERROR(IF(OR(B202="",B202="SUBTOTAL"),"",IF(AND(B202="Capítulo",E202=E$12),SUMIF(AD$15:AD$500,D202,AA$15:AA$500),IF(E202=E$13,AE202*Z202,SUM(AI202:AM202)))),"") | AB202: =IFERROR(IF(OR(AK$2=0,B202="",B202="SUBTOTAL"),"",IF(AND(B202="Capítulo",E202=E$12),SUMIF(AD$15:AD$500,D202,AB$15:AB$500),IF(E202=E$13,AF202*Z202,SUM(AI202:AR202)))),"") | AD202: =IF(B202="PARTIDA",MID(D202,1,2),"") | AE202: =IF(AND($E202=$E$13,$B202="PARTIDA"),IF($G202="PZ",$AM$2,1),"") | AF202: =IF(AND($E202=$E$13,$B202="PARTIDA"),IF($G202="PZ",$AN$2,1),"") | AG202: =IF(E202=$E$13,MID($G202,1,3),"") | AH202: =IF(E202=$E$13,AA202,"") | AI202: =IF(OR(AI$13="",S202="",$E202=$E$13,$B202<>"partida"),"",S202*$Z202) | AJ202: =IF(OR(AJ$13="",T202="",$E202=$E$13,$B202<>"partida"),"",T202*$Z202) | AK202: =IF(OR(AK$13="",U202="",$E202=$E$13,$B202<>"partida"),"",U202*$Z202) | AL202: =IF(OR(AL$13="",V202="",$E202=$E$13,$B202<>"partida"),"",V202*$Z202) | AM202: =IF(OR(AM$13="",W202="",$E202=$E$13,$B202<>"partida"),"",W202*$Z202) | AN202: =IF(OR(AN$13="",S202="",$E202=$E$13,$B202<>"partida"),"",S202*$Z202) | AO202: =IF(OR(AO$13="",T202="",$E202=$E$13,$B202<>"partida"),"",T202*$Z202) | AP202: =IF(OR(AP$13="",U202="",$E202=$E$13,$B202<>"partida"),"",U202*$Z202) | AQ202: =IF(OR(AQ$13="",V202="",$E202=$E$13,$B202<>"partida"),"",V202*$Z202) | AR202: =IF(OR(AR$13="",W202="",$E202=$E$13,$B202<>"partida"),"",W202*$Z202)
F203: =IF(G203="","",VLOOKUP($G203,$AW$2:$AX$12,2,FALSE)) | AA203: =IFERROR(IF(OR(B203="",B203="SUBTOTAL"),"",IF(AND(B203="Capítulo",E203=E$12),SUMIF(AD$15:AD$500,D203,AA$15:AA$500),IF(E203=E$13,AE203*Z203,SUM(AI203:AM203)))),"") | AB203: =IFERROR(IF(OR(AK$2=0,B203="",B203="SUBTOTAL"),"",IF(AND(B203="Capítulo",E203=E$12),SUMIF(AD$15:AD$500,D203,AB$15:AB$500),IF(E203=E$13,AF203*Z203,SUM(AI203:AR203)))),"") | AD203: =IF(B203="PARTIDA",MID(D203,1,2),"") | AE203: =IF(AND($E203=$E$13,$B203="PARTIDA"),IF($G203="PZ",$AM$2,1),"") | AF203: =IF(AND($E203=$E$13,$B203="PARTIDA"),IF($G203="PZ",$AN$2,1),"") | AG203: =IF(E203=$E$13,MID($G203,1,3),"") | AH203: =IF(E203=$E$13,AA203,"") | AI203: =IF(OR(AI$13="",S203="",$E203=$E$13,$B203<>"partida"),"",S203*$Z203) | AJ203: =IF(OR(AJ$13="",T203="",$E203=$E$13,$B203<>"partida"),"",T203*$Z203) | AK203: =IF(OR(AK$13="",U203="",$E203=$E$13,$B203<>"partida"),"",U203*$Z203) | AL203: =IF(OR(AL$13="",V203="",$E203=$E$13,$B203<>"partida"),"",V203*$Z203) | AM203: =IF(OR(AM$13="",W203="",$E203=$E$13,$B203<>"partida"),"",W203*$Z203) | AN203: =IF(OR(AN$13="",S203="",$E203=$E$13,$B203<>"partida"),"",S203*$Z203) | AO203: =IF(OR(AO$13="",T203="",$E203=$E$13,$B203<>"partida"),"",T203*$Z203) | AP203: =IF(OR(AP$13="",U203="",$E203=$E$13,$B203<>"partida"),"",U203*$Z203) | AQ203: =IF(OR(AQ$13="",V203="",$E203=$E$13,$B203<>"partida"),"",V203*$Z203) | AR203: =IF(OR(AR$13="",W203="",$E203=$E$13,$B203<>"partida"),"",W203*$Z203)
F204: =IF(G204="","",VLOOKUP($G204,$AW$2:$AX$12,2,FALSE)) | AA204: =IFERROR(IF(OR(B204="",B204="SUBTOTAL"),"",IF(AND(B204="Capítulo",E204=E$12),SUMIF(AD$15:AD$500,D204,AA$15:AA$500),IF(E204=E$13,AE204*Z204,SUM(AI204:AM204)))),"") | AB204: =IFERROR(IF(OR(AK$2=0,B204="",B204="SUBTOTAL"),"",IF(AND(B204="Capítulo",E204=E$12),SUMIF(AD$15:AD$500,D204,AB$15:AB$500),IF(E204=E$13,AF204*Z204,SUM(AI204:AR204)))),"") | AD204: =IF(B204="PARTIDA",MID(D204,1,2),"") | AE204: =IF(AND($E204=$E$13,$B204="PARTIDA"),IF($G204="PZ",$AM$2,1),"") | AF204: =IF(AND($E204=$E$13,$B204="PARTIDA"),IF($G204="PZ",$AN$2,1),"") | AG204: =IF(E204=$E$13,MID($G204,1,3),"") | AH204: =IF(E204=$E$13,AA204,"") | AI204: =IF(OR(AI$13="",S204="",$E204=$E$13,$B204<>"partida"),"",S204*$Z204) | AJ204: =IF(OR(AJ$13="",T204="",$E204=$E$13,$B204<>"partida"),"",T204*$Z204) | AK204: =IF(OR(AK$13="",U204="",$E204=$E$13,$B204<>"partida"),"",U204*$Z204) | AL204: =IF(OR(AL$13="",V204="",$E204=$E$13,$B204<>"partida"),"",V204*$Z204) | AM204: =IF(OR(AM$13="",W204="",$E204=$E$13,$B204<>"partida"),"",W204*$Z204) | AN204: =IF(OR(AN$13="",S204="",$E204=$E$13,$B204<>"partida"),"",S204*$Z204) | AO204: =IF(OR(AO$13="",T204="",$E204=$E$13,$B204<>"partida"),"",T204*$Z204) | AP204: =IF(OR(AP$13="",U204="",$E204=$E$13,$B204<>"partida"),"",U204*$Z204) | AQ204: =IF(OR(AQ$13="",V204="",$E204=$E$13,$B204<>"partida"),"",V204*$Z204) | AR204: =IF(OR(AR$13="",W204="",$E204=$E$13,$B204<>"partida"),"",W204*$Z204)
F205: =IF(G205="","",VLOOKUP($G205,$AW$2:$AX$12,2,FALSE)) | AA205: =IFERROR(IF(OR(B205="",B205="SUBTOTAL"),"",IF(AND(B205="Capítulo",E205=E$12),SUMIF(AD$15:AD$500,D205,AA$15:AA$500),IF(E205=E$13,AE205*Z205,SUM(AI205:AM205)))),"") | AB205: =IFERROR(IF(OR(AK$2=0,B205="",B205="SUBTOTAL"),"",IF(AND(B205="Capítulo",E205=E$12),SUMIF(AD$15:AD$500,D205,AB$15:AB$500),IF(E205=E$13,AF205*Z205,SUM(AI205:AR205)))),"") | AD205: =IF(B205="PARTIDA",MID(D205,1,2),"") | AE205: =IF(AND($E205=$E$13,$B205="PARTIDA"),IF($G205="PZ",$AM$2,1),"") | AF205: =IF(AND($E205=$E$13,$B205="PARTIDA"),IF($G205="PZ",$AN$2,1),"") | AG205: =IF(E205=$E$13,MID($G205,1,3),"") | AH205: =IF(E205=$E$13,AA205,"") | AI205: =IF(OR(AI$13="",S205="",$E205=$E$13,$B205<>"partida"),"",S205*$Z205) | AJ205: =IF(OR(AJ$13="",T205="",$E205=$E$13,$B205<>"partida"),"",T205*$Z205) | AK205: =IF(OR(AK$13="",U205="",$E205=$E$13,$B205<>"partida"),"",U205*$Z205) | AL205: =IF(OR(AL$13="",V205="",$E205=$E$13,$B205<>"partida"),"",V205*$Z205) | AM205: =IF(OR(AM$13="",W205="",$E205=$E$13,$B205<>"partida"),"",W205*$Z205) | AN205: =IF(OR(AN$13="",S205="",$E205=$E$13,$B205<>"partida"),"",S205*$Z205) | AO205: =IF(OR(AO$13="",T205="",$E205=$E$13,$B205<>"partida"),"",T205*$Z205) | AP205: =IF(OR(AP$13="",U205="",$E205=$E$13,$B205<>"partida"),"",U205*$Z205) | AQ205: =IF(OR(AQ$13="",V205="",$E205=$E$13,$B205<>"partida"),"",V205*$Z205) | AR205: =IF(OR(AR$13="",W205="",$E205=$E$13,$B205<>"partida"),"",W205*$Z205)
F206: =IF(G206="","",VLOOKUP($G206,$AW$2:$AX$12,2,FALSE)) | AA206: =IFERROR(IF(OR(B206="",B206="SUBTOTAL"),"",IF(AND(B206="Capítulo",E206=E$12),SUMIF(AD$15:AD$500,D206,AA$15:AA$500),IF(E206=E$13,AE206*Z206,SUM(AI206:AM206)))),"") | AB206: =IFERROR(IF(OR(AK$2=0,B206="",B206="SUBTOTAL"),"",IF(AND(B206="Capítulo",E206=E$12),SUMIF(AD$15:AD$500,D206,AB$15:AB$500),IF(E206=E$13,AF206*Z206,SUM(AI206:AR206)))),"") | AD206: =IF(B206="PARTIDA",MID(D206,1,2),"") | AE206: =IF(AND($E206=$E$13,$B206="PARTIDA"),IF($G206="PZ",$AM$2,1),"") | AF206: =IF(AND($E206=$E$13,$B206="PARTIDA"),IF($G206="PZ",$AN$2,1),"") | AG206: =IF(E206=$E$13,MID($G206,1,3),"") | AH206: =IF(E206=$E$13,AA206,"") | AI206: =IF(OR(AI$13="",S206="",$E206=$E$13,$B206<>"partida"),"",S206*$Z206) | AJ206: =IF(OR(AJ$13="",T206="",$E206=$E$13,$B206<>"partida"),"",T206*$Z206) | AK206: =IF(OR(AK$13="",U206="",$E206=$E$13,$B206<>"partida"),"",U206*$Z206) | AL206: =IF(OR(AL$13="",V206="",$E206=$E$13,$B206<>"partida"),"",V206*$Z206) | AM206: =IF(OR(AM$13="",W206="",$E206=$E$13,$B206<>"partida"),"",W206*$Z206) | AN206: =IF(OR(AN$13="",S206="",$E206=$E$13,$B206<>"partida"),"",S206*$Z206) | AO206: =IF(OR(AO$13="",T206="",$E206=$E$13,$B206<>"partida"),"",T206*$Z206) | AP206: =IF(OR(AP$13="",U206="",$E206=$E$13,$B206<>"partida"),"",U206*$Z206) | AQ206: =IF(OR(AQ$13="",V206="",$E206=$E$13,$B206<>"partida"),"",V206*$Z206) | AR206: =IF(OR(AR$13="",W206="",$E206=$E$13,$B206<>"partida"),"",W206*$Z206)
... F500: =IF(G500="","",VLOOKUP($G500,$AW$2:$AX$12,2,FALSE)) | AA500: =IFERROR(IF(OR(B500="",B500="SUBTOTAL"),"",IF(AND(B500="Capítulo",E500=E$12),SUMIF(AD$15:AD$500,D500,AA$15:AA$500),IF(E500=E$13,AE500*Z500,SUM(AI500:AM500)))),"") | AB500: =IFERROR(IF(OR(AK$2=0,B500="",B500="SUBTOTAL"),"",IF(AND(B500="Capítulo",E500=E$12),SUMIF(AD$15:AD$500,D500,AB$15:AB$500),IF(E500=E$13,AF500*Z500,SUM(AI500:AR500)))),"") | AD500: =IF(B500="PARTIDA",MID(D500,1,2),"") | AE500: =IF(AND($E500=$E$13,$B500="PARTIDA"),IF($G500="PZ",$AM$2,1),"") | AF500: =IF(AND($E500=$E$13,$B500="PARTIDA"),IF($G500="PZ",$AN$2,1),"") | AG500: =IF(E500=$E$13,MID($G500,1,3),"") | AH500: =IF(E500=$E$13,AA500,"") | AI500: =IF(OR(AI$13="",S500="",$E500=$E$13,$B500<>"partida"),"",S500*$Z500) | AJ500: =IF(OR(AJ$13="",T500="",$E500=$E$13,$B500<>"partida"),"",T500*$Z500) | AK500: =IF(OR(AK$13="",U500="",$E500=$E$13,$B500<>"partida"),"",U500*$Z500) | AL500: =IF(OR(AL$13="",V500="",$E500=$E$13,$B500<>"partida"),"",V500*$Z500) | AM500: =IF(OR(AM$13="",W500="",$E500=$E$13,$B500<>"partida"),"",W500*$Z500) | AN500: =IF(OR(AN$13="",S500="",$E500=$E$13,$B500<>"partida"),"",S500*$Z500) | AO500: =IF(OR(AO$13="",T500="",$E500=$E$13,$B500<>"partida"),"",T500*$Z500) | AP500: =IF(OR(AP$13="",U500="",$E500=$E$13,$B500<>"partida"),"",U500*$Z500) | AQ500: =IF(OR(AQ$13="",V500="",$E500=$E$13,$B500<>"partida"),"",V500*$Z500) | AR500: =IF(OR(AR$13="",W500="",$E500=$E$13,$B500<>"partida"),"",W500*$Z500)
AD501: =IF(B501="PARTIDA",MID(D501,1,2),"") | AF501: =IF(AND($E501=$E$13,$B501="PARTIDA"),IF($G501="PZ",$AN$2,1),"") | AG501: =IF(E501=$E$13,MID($G501,1,3),"") | AH501: =IF(E501=$E$13,AA501,"") | AL501: =IF(OR(AL$13="",V501="",$E501=$E$13,$B501<>"partida"),"",V501*$Z501) | AQ501: =IF(OR(AQ$13="",V501="",$E501=$E$13,$B501<>"partida"),"",V501*$Z501)

Sheet Criterios de Puntuación
C2: CT340-25-087 Lote 4 A.M. MANTENIMIENTO PREVENTIVO Y CORRECTIVO DE INSTALACIONES DE BAJA TENSIÓN, ILUMINACIÓN, FOTOVOLTAICA Y SAI.
F5: =IF($G$21=0,"",$D$21) -> Preventivo | G5: =IF(CP_2=0,"",$D$22) -> Correctivo | L5: Modif. | M5: Valor estimado
G6: =IF(CP_2=0,"","Actuaciones") -> Actuaciones | H6: =IF(CP_2=0,"","Mant. y piezas") -> Mant. y piezas | J6: =IF(CP_2=0,"",IF(Plantilla!$AN$6=0,"","Sum/Rec.")) | K6: =IF(CP_2=0,"","Total") -> Total | L6: =$R$8/100 -> 0
D8: =IF(V21<>"",V21,("")) -> Año 1 | F8: =IF($G$21=0,"",IF(Plantilla!AI12<>"",Plantilla!AI12,Plantilla!AN12)) -> 0 | G8: =IF(AND($D8<>"",G$6<>"",Plantilla!$AL$6<>0),(Plantilla!$AL$6/$M$21),"") | H8: =IF(AND($D8<>"",H$6<>"",Plantilla!$AM$6<>0),(Plantilla!$AM$6)/($M$21),"") -> 28562.5 | J8: =IF(AND($D8<>"",J$6<>""),(Plantilla!$AN$6/$M$21),"") | K8: =IF(AND($D8<>"",K$6<>"",SUM(G8:J8)<>0),SUM(G8:J8),"") -> 28562.5 | L8: =IF(OR($L$6=0,D8=""),"",SUM(F8:J8)*$L$6) | M8: =IF(D8="","",SUM(F8,K8)+IF(L8="",0,L8)) -> 28562.5 | R8: 0
D9: =IF(V22<>"",V22,("")) -> Año 2 | F9: =IF($G$21=0,"",IF(Plantilla!AJ12<>"",Plantilla!AJ12,Plantilla!AO12)) -> 0 | G9: =IF(AND($D9<>"",G$6<>"",Plantilla!$AL$6<>0),(Plantilla!$AL$6/$M$21),"") | H9: =IF(AND($D9<>"",H$6<>"",Plantilla!$AM$6<>0),(Plantilla!$AM$6)/($M$21),"") -> 28562.5 | J9: =IF(AND($D9<>"",J$6<>""),(Plantilla!$AN$6/$M$21),"") | K9: =IF(AND($D9<>"",K$6<>"",SUM(G9:J9)<>0),SUM(G9:J9),"") -> 28562.5 | L9: =IF(OR($L$6=0,D9=""),"",SUM(F9:J9)*$L$6) | M9: =IF(D9="","",SUM(F9,K9)+IF(L9="",0,L9)) -> 28562.5
D10: =IF(V23<>"",V23,("")) -> Prorroga 1 | F10: =IF($G$21=0,"",IF(Plantilla!AK12<>"",Plantilla!AK12,Plantilla!AP12)) -> 0 | G10: =IF(AND($D10<>"",G$6<>"",Plantilla!$AL$6<>0),(Plantilla!$AL$6/$M$21),"") | H10: =IF(AND($D10<>"",H$6<>"",Plantilla!$AM$6<>0),(Plantilla!$AM$6)/($M$21),"") -> 28562.5 | J10: =IF(AND($D10<>"",J$6<>""),(Plantilla!$AN$6/$M$21),"") | K10: =IF(AND($D10<>"",K$6<>"",SUM(G10:J10)<>0),SUM(G10:J10),"") -> 28562.5 | L10: =IF(OR($L$6=0,D10=""),"",SUM(F10:J10)*$L$6) | M10: =IF(D10="","",SUM(F10,K10)+IF(L10="",0,L10)) -> 28562.5
D11: =IF(V24<>"",V24,("")) -> Prorroga 2 | F11: =IF($G$21=0,"",IF(Plantilla!AL12<>"",Plantilla!AL12,Plantilla!AQ12)) -> 0 | G11: =IF(AND($D11<>"",G$6<>"",Plantilla!$AL$6<>0),(Plantilla!$AL$6/$M$21),"") | H11: =IF(AND($D11<>"",H$6<>"",Plantilla!$AM$6<>0),(Plantilla!$AM$6)/($M$21),"") -> 28562.5 | J11: =IF(AND($D11<>"",J$6<>""),(Plantilla!$AN$6/$M$21),"") | K11: =IF(AND($D11<>"",K$6<>"",SUM(G11:J11)<>0),SUM(G11:J11),"") -> 28562.5 | L11: =IF(OR($L$6=0,D11=""),"",SUM(F11:J11)*$L$6) | M11: =IF(D11="","",SUM(F11,K11)+IF(L11="",0,L11)) -> 28562.5
D12: =IF(V25<>"",V25,("")) | F12: =IF($G$21=0,"",IF(Plantilla!AM12<>"",Plantilla!AM12,Plantilla!AR12)) | G12: =IF(AND($D12<>"",G$6<>"",Plantilla!$AL$6<>0),(Plantilla!$AL$6/$M$21),"") | H12: =IF(AND($D12<>"",H$6<>"",Plantilla!$AM$6<>0),(Plantilla!$AM$6)/($M$21),"") | J12: =IF(AND($D12<>"",J$6<>""),(Plantilla!$AN$6/$M$21),"") | K12: =IF(AND($D12<>"",K$6<>"",SUM(G12:J12)<>0),SUM(G12:J12),"") | L12: =IF(OR($L$6=0,D12=""),"",SUM(F12:J12)*$L$6) | M12: =IF(D12="","",SUM(F12,K12)+IF(L12="",0,L12))
F14: =IF($G$21=0,"",SUM(F8:F13)) -> 0 | G14: =IF(OR(G$6="",SUM(G8:G13)=0),"",SUM(G8:G13)) | H14: =IF(OR(H$6="",SUM(H8:I13)=0),"",SUM(H8:I13)) -> 114250 | J14: =IF(J$6="","",SUM(J8:J13)) | K14: =IF(OR(K$6="",SUM(K8:K13)=0),"",SUM(K8:K13)) -> 114250 | L14: =IF($L$6=0,"",SUM(L8:L12)) | M14: =SUM(M8:M12) -> 114250
C17: Criterios de Puntuación Económica | R17: cont. | S17: pror.
D19: Puntuacion máxima | G19: 70 | M19: Año | R19: =IF(M21>1,"s","") -> s
D21: Preventivo | G21: =G19-W21 -> 20 | J21: Duración del contrato | M21: 2 | R21: =IF(MAX($R$20:R20)=$M$21,"",R20+1) -> 1 | S21: =IF(R21="",IF(MAX($S$20:S20)<$M$22,S20+1,""),0) -> 0 | U21: =IF(R21<>"",MID($M$19,1,3)&R21,IF(S21<>"","pro"&S21,"")) -> Año1 | V21: =IF(R21<>"",$M$19&" "&R21,IF(S21<>"","Prorroga "&S21,"")) -> Año 1 | W21: 50
D22: Correctivo | G22: =G19-G21 -> 50 | J22: =IF(M22=0,"","Posibles prórrogas") -> Posibles prórrogas | M22: 2 | R22: =IF(MAX($R$20:R21)=$M$21,"",R21+1) -> 2 | S22: =IF(R22="",IF(MAX($S$20:S21)<$M$22,S21+1,""),0) -> 0 | U22: =IF(R22<>"",MID($M$19,1,3)&R22,IF(S22<>"","pro"&S22,"")) -> Año2 | V22: =IF(R22<>"",$M$19&" "&R22,IF(S22<>"","Prorroga "&S22,"")) -> Año 2
R23: =IF(MAX($R$20:R22)=$M$21,"",R22+1) | S23: =IF(R23="",IF(MAX($S$20:S22)<$M$22,S22+1,""),0) -> 1 | U23: =IF(R23<>"",MID($M$19,1,3)&R23,IF(S23<>"","pro"&S23,"")) -> pro1 | V23: =IF(R23<>"",$M$19&" "&R23,IF(S23<>"","Prorroga "&S23,"")) -> Prorroga 1
D24: Puntuación Total | H24: → | J24: =IF(G22=0,"PT = ❶"&D21,IF($G$21=0,"PT = ❷"&D22,"PT = ❶"&D21&" + ❷"&D22)) -> PT = ❶Preventivo + ❷Correctivo | R24: =IF(MAX($R$20:R23)=$M$21,"",R23+1) | S24: =IF(R24="",IF(MAX($S$20:S23)<$M$22,S23+1,""),0) -> 2 | U24: =IF(R24<>"",MID($M$19,1,3)&R24,IF(S24<>"","pro"&S24,"")) -> pro2 | V24: =IF(R24<>"",$M$19&" "&R24,IF(S24<>"","Prorroga "&S24,"")) -> Prorroga 2
R25: =IF(MAX($R$20:R24)=$M$21,"",R24+1) | S25: =IF(R25="",IF(MAX($S$20:S24)<$M$22,S24+1,""),0) | U25: =IF(R25<>"",MID($M$19,1,3)&R25,IF(S25<>"","pro"&S25,"")) | V25: =IF(R25<>"",$M$19&" "&R25,IF(S25<>"","Prorroga "&S25,""))
R26: =IF(MAX($R$20:R25)=$M$21,"",R25+1) | S26: =IF(R26="",IF(MAX($S$20:S25)<$M$22,S25+1,""),0) | U26: =IF(R26<>"",MID($M$19,1,3)&R26,IF(S26<>"","pro"&S26,"")) | V26: =IF(R26<>"",$M$19&" "&R26,IF(S26<>"","Prorroga "&S26,""))
D27: =IF($G$21=0,"","❶") -> ❶ | E27: ="Criterio de puntuación "&$D$21 -> Criterio de puntuación Preventivo | J27: ="❶ Pp = (1-((B-A)/A))*"&G21 -> ❶ Pp = (1-((B-A)/A))*20
D29: B = Importe de la empresa que se valora. /// A = Importe mínimo mayor de 0.
D32: ❷ | E32: ="Criterio de puntuación "&$D$22 -> Criterio de puntuación Correctivo | J32: ="❷ Pc = (1-((B-A)/A))*"&G22 -> ❷ Pc = (1-((B-A)/A))*50
D34: =IF(G22=0,"","B = Importe correctivo de la empresa que se valora. /// A = Importe correctivo mínimo mayor de 0.") -> B = Importe correctivo de la empresa que se valora. /// A = Importe correctivo mínimo mayor de 0.
D36: 1 | G36: =IF(D36=1,"(Operario Cualificado)","(Peón + Oficial)") -> (Operario Cualificado)
D38: ="Importe Correctivo (Ic) = [("&S44&"(Hm*Nh)"&Q47&")*Na]"&R38 -> Importe Correctivo (Ic) = [((Dm)+(Hm*Nh)+(Me*%E))*Na]+Pz | R38: =IF(M49=0,"","+Pz")&IF(R51=TRUE,"+Sr","") -> +Pz
D39: Hora de Trabajo Medio (HM) = ((C1*HJL) + (C2*HFJ) + (C3*HN) + (C4*HF)) | G39: 0 | L39: ƩC → | M39: =SUM(M40:M43) -> 1 | R39: =SUM(R40:R43) -> 100
D40: =IF($D$36=1,"Hjl = Hora de trabajo en jornada laboral de técnico","Hjl = (Hora de trabajo en jornada laboral Peon + Oficial) / 2") -> Hjl = Hora de trabajo en jornada laboral de técnico | L40: C1 = | M40: =R40/100 -> 0.65 | R40: 65
D41: =IF($D$36=1,"Hfj = Hora de trabajo fuera de jornada laboral de técnico","Hfj = (Hora de trabajo fuera de jornada laboral Peon + Oficial) / 2") -> Hfj = Hora de trabajo fuera de jornada laboral de técnico | L41: C2 = | M41: =R41/100 -> 0.2 | R41: 20
D42: =IF($D$36=1,"Hn = Hora de trabajo horario nocturno de técnico","Hn = (Hora de trabajo horario nocturno Peon + Oficial) / 2") -> Hn = Hora de trabajo horario nocturno de técnico | L42: C3 = | M42: =R42/100 -> 0.1 | R42: 10
D43: =IF(D36=1,"Hf = Hora de trabajo festivo de técnico","Hf = (Hora de trabajo festivo Peon + Oficial) / 2") -> Hf = Hora de trabajo festivo de técnico | L43: C4 = | M43: =R43/100 -> 0.05 | R43: 5
D44: Desplazamiento Medio (Dm) →(Media aritmética desplazamientos) | L44: Dm = | M44: =R44 -> 1 | R44: 1 | S44: =IF(M44<>0,"(Dm)+","") -> (Dm)+
D45: Nh = Numero de horas medias por actuación. | L45: Nh = | M45: =R45 -> 6 | R45: 6
D46: ="Na = Numero de actuaciones previstas durante el contrato "&M21&" "&M19 -> Na = Numero de actuaciones previstas durante el contrato 2 Año | L46: Na = | M46: =R46 -> 125 | R46: 125
D47: %E = Probabilidad de necesidad de medios de elevación por actuación | L47: %E = | M47: =R47/100 -> 0.3 | Q47: =IF(M47<>0,"+(Me*%E)","") -> +(Me*%E) | R47: 30
D48: Me = Medios de elevación
D49: Pz = Coste medio de piezas, consumibles por actuación y suministro de alquiler por día de SAI | L49: Pz= | M49: =SUMIF(Plantilla!G15:G1500,Plantilla!$AM$5,Plantilla!Z15:Z1500) -> 457
A51: Suministros/Recargas | D51: Suministros / Recargas (Sr) | R51: FALSE
D52: Sr=[(R6A*R1)+(S6A*S1)]+[(R9A*R2)+(S9A*S2)]+[(R2C*R3)+(S2C*S3)]+[(R3C*R4)+(S3C*S4)]+[(R5C*R5)+(S5C*S5)]+[(R25A*R6)+(S25A*S6)]
D54: Descripción | J54: Recarga | L54: Suministro
D55: R6A = Extintor 6kg Polvo ABC | G55: S6A = Extintor 6kg Polvo ABC | J55: R1= | K55: 1 | L55: S1= | M55: 10
D56: R9A = Extintor 9kg Polvo ABC | G56: S9A = Extintor 9kg Polvo ABC | J56: R2= | K56: 2 | L56: S2= | M56: 11
D57: R2C = Extintor 2kg CO2 | G57: S2C = Extintor 2kg CO2 | J57: R3= | K57: 3 | L57: S3= | M57: 12
D58: R3C = Extintor 3,5kg CO2 | G58: S3C = Extintor 3,5kg CO2 | J58: R4= | K58: 4 | L58: S4= | M58: 13
D59: R5C = Extintor 5kg CO2 | G59: S5C = Extintor 5kg CO2 | J59: R5= | K59: 5 | L59: S5= | M59: 14
D60: R25A = Extintor 25kg Polvo ABC | G60: S25A = Extintor 25kg Polvo ABC | J60: R6= | K60: 6 | L60: S6= | M60: 15
