Workbook

Sheet DATOS PRINCIPALES
L1: SEVILLA
F2: RESUMEN DE PROYECTO | L2: HUELVA
L3: CÁDIZ
L4: CÓRDOBA
A5: DATOS PRINCIPALES A INTRODUCIR | L5: JAÉN
L6: ALMERÍA
A7: PROYECTO | L7: MÁLAGA
A8: LOCALIDAD | L8: GRANADA
A9: PROVINCIA | D9: (Elige la provincia)
A10: PROYECTISTA
A11: FECHA | C11: =TODAY() -> 45225

Sheet INDICE
F3: RESUMEN DE PROYECTO
B8: PROYECTO: | E8: =+'DATOS PRINCIPALES'!C7 -> 0
B11: LOCALIDAD | E11: =+'DATOS PRINCIPALES'!C8 -> 0
B12: PROVINCIA | E12: =+'DATOS PRINCIPALES'!C9 -> 0
C29: Í N D I C E
C32: 1. | D32: DECLARACIÓN DE OBRA COMPLETA
C33: 2. | D33: PROGRAMA DE TRABAJO POR CAPÍTULOS
C34: 3. | D34: PROPUESTA DE REVISIÓN DE PRECIOS Y CLASIFICACIÓN DEL CONTRATISTA
C35: 4. | D35: DATOS DEL AUTOR/AUTORES DEL PROYECTO
C36: 5.1. | D36: RESUMEN DE PRESUPUESTO
C37: 5.2. | D37: DESGLOSE DEL PRESUPUESTO DE LAS INSTALACIONES POR SUBCAPÍTULOS
C38: 6 | D38: DATOS URBANÍSTICOS: LOCALIDAD
C39: 7. | D39: RESUMEN DE CARACTERÍSTICAS
C40: 8. | D40: ÍNDICES
C41: 9. | D41: PROGRAMAS FUNCIONALES
C42: 10.1. | D42: RESUMEN DE DOTACIONES
C43: 10.2. | D43: RESUMEN DE DOTACIONES DE INSTALACIONES
C44: 11. | D44: SOLUCIONES CONSTRUCTIVAS/CALIDADES
C45: 12. | D45: AFECCIONES Y DOTACIONES DEL SOLAR

Sheet 1-OBRA COMPLETA
F3: RESUMEN DE PROYECTO
B8: 1.- DATOS DEL PROYECTO
B10: PROYECTO | C10: =+'DATOS PRINCIPALES'!C7 -> 0
B12: LOCALIDAD | C12: =+'DATOS PRINCIPALES'!C8 -> 0 | F12: PROVINCIA | G12: =+'DATOS PRINCIPALES'!C9 -> 0
B16: 2.- DECLARACIÓN DE OBRA COMPLETA
B19: Los técnicos autores certifican que el Proyecto constituye una OBRA COMPLETA, entendiéndose por tal la susceptible de ser entregada al uso general o al servicio correspondiente, sin perjuicio de las ulteriores ampliaciones de que posteriormente pueda ser objeto y comprenderán todos y cada uno de los elementos que sean precisos para la utilización de la obra (Artículo 125 del Reglamento General de la Ley de Contratos de las Administraciones Públicas y Artículo 13.3 de la Ley 9/2017, de 8 de noviembre, de Contratos del Sector Público, por la que se transponen al ordenamiento jurídico español las Directivas del Parlamento Europeo y del Consejo 2014/23/UE y 2014/24/UE, de 26 de febrero de 2014.
B27: PROYECTISTA
B32: Fdo.: | C32: =+'DATOS PRINCIPALES'!C10 -> 0 | F32: Fecha: | G32: =+'DATOS PRINCIPALES'!C11 -> 45225
B50: DECLARACIÓN DE OBRA COMPLETA | H50: 1

Sheet 2-PROGRAMA TRABAJOS
Q3: RESUMEN DE PROYECTO
A5: PROYECTO | C5: =+'1-OBRA COMPLETA'!C10 -> 0
E6: LOCALIDAD | G6: =+'1-OBRA COMPLETA'!C12 -> 0 | M6: PROVINCIA | O6: =+'1-OBRA COMPLETA'!G12 -> 0
E8: GRÁFICO (MES/PRESUPUESTO DE EJECUCIÓN MATERIAL)
A9: PROGRAMA DE TRABAJOS | E9: TÍTULO: | Q9: EXPEDIENTE:
A10: POR CAPÍTULOS | E10: LOCALIDAD: | Q10: FECHA:
A11: DIAGRAMA DE BARRAS | D11: MESES | E11: 1 | F11: 2 | G11: 3 | H11: 4 | I11: 5 | J11: 6 | K11: 7 | L11: 8 | M11: 9 | N11: 10 | O11: 11 | P11: 12 | Q11: 13 | R11: 14 | S11: 15 | T11: 16 | U11: 17 | V11: 18
D12: IMPORTE €
A13: 01. DEMOLIC. Y T. PREVIOS
A15: 02. MOVIMIENTO TIERRAS
A17: 03. CIMENTACIÓN
A19: 04. SANEAMIENTO
A21: 05. ESTRUCTURA
A23: 06. ALBAÑILERÍA
A25: 07. CUBIERTAS
A27: 08. INSTALACIONES
A29: 09. AISLAMIENTOS
A31: 10. REVESTIMIENTOS
A33: 11. CARP. Y SEG. Y PROT.
A35: 12. VIDRIERIA
... A47: TOTAL P.E.M. €
A49: P.E.M. € (*) | D49: PARCIAL
D50: ACUMULADO
A52: NOTA.- Las cantidades de euros del P.E.M., (*), se expresarán en miles con dos decimales
Q54: PROYECTISTA
Q55: =+'1-OBRA COMPLETA'!C32 -> 0
Q58: Fecha: | R58: =+'1-OBRA COMPLETA'!G32 -> 45225
B61: PROGRAMA DE DESARROLLO DE LOS TRABAJOS POR CAPÍTULOS | V61: 2

Sheet 3-REV Y CLASIF
G3: RESUMEN DE PROYECTO
B10: 1.- DATOS DEL PROYECTO.
B12: PROYECTO | C12: ='DATOS PRINCIPALES'!C7 -> 0
B14: LOCALIDAD | C14: ='DATOS PRINCIPALES'!C8 -> 0 | F14: PROVINCIA | G14: =INDICE!E12 -> 0
B17: 2.- REVISIÓN DE PRECIOS. (R.D. 1359/2011, DE 7 DE OCTUBRE; B.O.E. de 26-OCTUBRE-2011).
C20: □ | D20: SE PROPONE LA CLÁUSULA DE REVISIÓN DE PRECIOS A INCLUIR EN EL
D21: PLIEGO DE CLÁUSULAS ADMINISTRATIVAS PARTICULARES.
D23: PARA LO CUAL SERÁ DE APLICACIÓN A LA TOTALIDAD DEL PRESUPUESTO LA FORMULA Nº
D24: DE LAS COMPRENDIDAS EN EL CUADRO DE FÓRMULAS-TIPO GENERALES APROBADO POR
D25: REAL DECRETO 1359/2011, DE 7 DE OCTUBRE (B.O.E. de 26.10.11).
D27: FÓRMULA (EXPRESIÓN ALGEBRAICA)
D29: Kt =
C32: □ | D32: NO SE PROPONE LA INCLUSIÓN DE CLÁUSULA DE REVISIÓN DE PRECIOS.
B35: 3.- CLASIFICACIÓN DEL CONTRATISTA Y CATEGORÍA DEL CONTRATO.
B36: ARTÍCULOS 25, 26, 27, 28 Y 29 DEL REGLAMENTO GENERAL DE LA LEY DE CONTRATOS DE LAS ADMINISTRACIONES PÚBLICAS
B37: (REAL DECRETO 1098/2001, DE 12 DE OCTUBRE, B.O.E. 26/10/2001 Y CORRECCIÓN DE ERRORES B.O.E. 19/12/2001).
B39: VALOR ESTIMADO (PRESUPUESTO BASE LICITACIÓN SIN IVA) | F39: ='5.1-PRESUPUESTO'!G40 -> 0 | G39: EUROS
B40: PLAZO DE EJECUCIÓN | G40: MESES
B41: ANUALIDAD MEDIA Im = (VALOR ESTIMADO/ PLAZO DE LA OBRA) X 12 = | G41: =IF(F40<12,F39,F39*12/F40) -> 0 | H41: EUROS
B43: EL CONTRATISTA ADJUDICATARIO DE LAS OBRAS DEBERÁ ESTAR CLASIFICADO EN:
D46: GRUPO
D48: SUBGRUPO
D50: CATEGORÍA
F54: PROYECTISTA
F55: =+'1-OBRA COMPLETA'!C32 -> 0
F59: Fecha: | G59: =+'1-OBRA COMPLETA'!G32 -> 45225
B63: PROPUESTA DE REVISIÓN DE PRECIOS Y CLASIFICACIÓN | I63: 3

Sheet 4-AUTOR
G3: RESUMEN DE PROYECTO
B9: 1.- DATOS DEL PROYECTO
B11: PROYECTO | C11: =+'1-OBRA COMPLETA'!C10 -> 0
B13: LOCALIDAD | C13: =+'1-OBRA COMPLETA'!C12 -> 0 | G13: PROVINCIA | H13: =+'1-OBRA COMPLETA'!G12 -> 0
B15: 2.- DATOS DEL AUTOR/AUTORES DEL PROYECTO
B17: 2.1.- NOMBRE Y TITULACIÓN DE LOS/AS PROYECTISTAS
B19: AUTOR 1 | F19: TÍTULO | H19: COEFICIENTE
B20: AUTOR 2 | F20: TÍTULO | H20: COEFICIENTE
B21: AUTOR 3 | F21: TÍTULO | H21: COEFICIENTE
B23: 2.2.- DOMICILIO PROFESIONAL
B25: CALLE/PLAZA
B26: LOCALIDAD/C.P. | G26: PROVINCIA
B27: TELÉFONO | E27: FAX
B28: CORREO ELECTRÓNICO
B30: 2.3.- DATOS DE COLEGIACIÓN: COLEGIO, Nº COLEGIADO Y N.I.F.
B32: AUTOR 1 | F32: Nº | H32: NIF
B33: AUTOR 2 | F33: Nº | H33: NIF
B34: AUTOR 3 | F34: Nº | H34: NIF
B36: 2.4.- PROPUESTA EQUIPO DIRECTOR
B38: DIRECCIÓN DE OBRA
B40: 1 | F40: TÍTULO | H40: COEFICIENTE | I40: %
B41: 2 | F41: TÍTULO | H41: COEFICIENTE | I41: %
B42: 3 | F42: TÍTULO | H42: COEFICIENTE | I42: %
B44: DIRECCIÓN DE EJECUCIÓN MATERIAL DE OBRA
B46: 1 | F46: TÍTULO | H46: COEFICIENTE | I46: %
B47: 2 | F47: TÍTULO | H47: COEFICIENTE | I47: %
B48: 3 | F48: TÍTULO | H48: COEFICIENTE | I48: %
F54: PROYECTISTA
F55: =+'1-OBRA COMPLETA'!C32 -> 0
F58: Fecha: | G58: =+'1-OBRA COMPLETA'!G32 -> 45225
B62: DATOS DEL AUTOR/AUTORES DEL PROYECTO | I62: 4

Sheet 5.1-PRESUPUESTO
G3: RESUMEN DE PROYECTO
B7: 1.- DATOS DEL PROYECTO
B9: PROYECTO | C9: =+'1-OBRA COMPLETA'!C10 -> 0
B11: LOCALIDAD | C11: =+'1-OBRA COMPLETA'!C12 -> 0 | G11: PROVINCIA | H11: =+'1-OBRA COMPLETA'!G12 -> 0
B13: 2.- RESUMEN DE PRESUPUESTO POR CAPÍTULOS
G15: P.E.M. (EUROS) | H15: %
B16: 01.- | C16: DEMOLICIONES Y TRABAJOS PREVIOS | H16: =(G16/G35) -> #DIV/0!
B17: 02.- | C17: MOVIMIENTO DE TIERRAS | H17: =(G17/G35) -> #DIV/0!
B18: 03.- | C18: CIMENTACIÓN | H18: =(G18/G35) -> #DIV/0!
B19: 04.- | C19: SANEAMIENTO | H19: =(G19/G35) -> #DIV/0!
B20: 05.- | C20: ESTRUCTURA | H20: =(G20/G35) -> #DIV/0!
B21: 06.- | C21: ALBAÑILERIA | H21: =(G21/G35) -> #DIV/0!
B22: 07.- | C22: CUBIERTAS | H22: =(G22/G35) -> #DIV/0!
B23: 08.- | C23: INSTALACIONES (DESGLOSE DE SUBCAPÍTULOS EN HOJA 4.3) | H23: =(G23/G35) -> #DIV/0!
B24: 09.- | C24: AISLAMIENTOS | H24: =(G24/G35) -> #DIV/0!
B25: 10.- | C25: REVESTIMIENTOS | H25: =(G25/G35) -> #DIV/0!
B26: 11.- | C26: CARPINTERÍAS Y ELEM. DE SEGURIDAD Y PROTECCIÓN | H26: =(G26/G35) -> #DIV/0!
B27: 12.- | C27: VIDRIERíA | H27: =(G27/G35) -> #DIV/0!
B28: 13.- | C28: PINTURAS | H28: =(G28/G35) -> #DIV/0!
B29: 14.- | C29: DECORACIÓN Y SEÑALIZACIÓN | H29: =(G29/G35) -> #DIV/0!
B30: 15.- | C30: URBANIZACIÓN INCLUYENDO INST. DE URBANIZACIÓN | H30: =(G30/G35) -> #DIV/0!
B31: 16.- | C31: VARIOS | H31: =(G31/G35) -> #DIV/0!
B32: 17.- | C32: GESTIÓN DE RESIDUOS | H32: =(G32/G35) -> #DIV/0!
B33: 18.- | C33: SEGURIDAD Y SALUD (*) | H33: =(G33/G35) -> #DIV/0!
C35: TOTAL PRESUPUESTO DE EJECUCIÓN MATERIAL | G35: =SUM(G16:G33) -> 0
C37: 13% GASTOS GENERALES | G37: =G35*13/100 -> 0
C38: 6% BENEFICIO INDUSTRIAL | G38: =G35*6/100 -> 0
C40: SUMA | G40: =SUM(G35+G37+G38) -> 0
C42: I.V.A. 21%s/SUMA | G42: =G40*21/100 -> 0
C44: PRESUPUESTO BASE DE LICITACIÓN | G44: =G40+G42 -> 0 | H44: EUROS
C47: DESGLOSE DE COSTES DIRECTOS E INDIRECTOS:
C48: COSTE DIRECTO: €
C49: COSTES INDIRECTOS: €
C51: VALORACIÓN DEL COSTE DE MANO DE OBRA: €
C54: (*) SE CUMPLIMENTARÁ CUANDO EL PROYECTO CONTENGA ESTUDIO DE SEGURIDAD
C55: Y SALUD. SI CONTIENE ESTUDIO BÁSICO DE SEGURIDAD Y SALUD, LA REPERCUSIÓN
C56: ECONÓMICA TAMBIÉN SE PUEDE INCLUIR AUMENTANDO CONVENIENTEMENTE EL % DE
C57: LOS COSTES INDIRECTOS DE LOS PRECIOS UNITARIOS DESCOMPUESTOS DEL PRESUPUESTO.
G61: PROYECTISTA
G62: =+'1-OBRA COMPLETA'!C32 -> 0
...

Sheet 5.2-INSTALACIONES
G3: RESUMEN DE PROYECTO
B7: 1.- DATOS DEL PROYECTO
B9: PROYECTO | C9: =+'1-OBRA COMPLETA'!C10 -> 0
B11: LOCALIDAD | C11: =+'1-OBRA COMPLETA'!C12 -> 0 | F11: PROVINCIA | G11: =+'1-OBRA COMPLETA'!G12 -> 0
B13: 2.- RESUMEN DEL PRESUPUESTO DEL CAPÍTULO 08.- INSTALACIONES
G15: P.E.M. (EUROS) | H15: %
B16: 08.01. | C16: FONTANERÍA | H16: =G16/G42 -> #DIV/0!
B17: 08.02. | C17: ELECTRICIDAD (ALTA Y BAJA) | H17: =G17/G42 -> #DIV/0!
B18: 08.03. | C18: CLIMATIZACIÓN | H18: =G18/G42 -> #DIV/0!
B19: 08.04. | C19: TRANSPORTE MECÁNICO (ASCENSORES, MONTACARGAS, | H19: =G19/G42 -> #DIV/0!
C20: ESCALERAS, NEUMÁTICO, POR GRAVEDAD, ETC.)*
B21: 08.05. | C21: COMUNICACIONES (VOZ DATOS, MEGAFONÍA, ANTENA T.V., | H21: =G21/G42 -> #DIV/0!
C22: INTERCOMUNICACIÓN, LLAMADA A ENFERMERA,
C23: BUSCA PERSONAS, ETC.) *
B24: 08.06. | C24: SEGURIDAD (CONTRAINCENDIOS Y ANTIRROBO) * | H24: =G24/G42 -> #DIV/0!
B25: 08.07. | C25: LIQUIDOS Y GASES COMBUSTIBLES | H25: =G25/G42 -> #DIV/0!
B26: 08.08. | C26: GASES MEDICINALES (OXÍGENO, PROTÓXIDO NITRÓGENO, | H26: =G26/G42 -> #DIV/0!
C27: AIRE, VACIO, ETC.) *
B28: 08.09. | C28: ELIMINACIÓN DE RESIDUOS (CONTENEDORES, CÁMARAS) * | H28: =G28/G42 -> #DIV/0!
B29: 08.10. | C29: SEÑALIZACIÓN (INTERIOR, EXTERIOR, CORPORATIVA)* | H29: =G29/G42 -> #DIV/0!
B30: 08.11. | C30: GESTIÓN TÉCNICA CENTRALIZADA | H30: =G30/G42 -> #DIV/0!
B31: 08.12. | C31: INSTALACIONES ESPECIALES (CONTROL DE ENTRADA, | H31: =G31/G42 -> #DIV/0!
C32: RÓTULOS LUMINOSOS, RELOJES, PARARRAYOS, ETC.)*
B33: 08.13. | C33: INSTALAC. COMPLEMENTARIAS (COCINA, LAVANDERIA, | H33: =G33/G42 -> #DIV/0!
C34: MORTUORIOS, ETC.)*
B35: 08.14. | C35: INSTALAC. COMPLEMENTARIAS MÉDICAS (LABORATORIO, | H35: =G35/G42 -> #DIV/0!
C36: ESTERILIZACIÓN, RADIOLOGÍA, ZONAS QUIRÚRGICAS,
C37: MEDICINA NUCLEAR, ETC.)*
B38: 08.15. | C38: VARIOS * | H38: =G38/G42 -> #DIV/0!
C41: TOTAL PRESUPUESTO DE EJECUCIÓN MATERIAL
C42: DEL CAPÍTULO 08 INSTALACIONES | G42: =SUM(G16:G38) -> 0
C44: 13% GASTOS GENERALES | G44: =G42*13/100 -> 0
C45: 6% BENEFICIO INDUSTRIAL | G45: =G42*6/100 -> 0
C47: SUMA | G47: =G42+G44+G45 -> 0
C49: I.V.A. 21% s/SUMA | G49: =G47*21/100 -> 0
C51: TOTAL PRESUPUESTO BASE DE LICITACIÓN
C52: DEL CAPÍTULO 08 INSTALACIONES | G52: =G47+G49 -> 0 | H52: EUROS
C55: * Indicar en cada caso qué instalaciones abarca el supcapítulo
F57: PROYECTISTA
F58: =+'1-OBRA COMPLETA'!C32 -> 0
...

Sheet 12 - AFECCIONES DEL SOLAR
K3: RESUMEN DE PROYECTO
B12: 1.- DATOS DEL PROYECTO.
B14: PROYECTO | D14: =+'1-OBRA COMPLETA'!C10 -> 0
B16: LOCALIDAD | D16: =+'1-OBRA COMPLETA'!C12 -> 0 | J16: PROVINCIA | L16: =+'1-OBRA COMPLETA'!G12 -> 0
B18: 2.- DATOS DEL SOLAR
B21: DIRECCIÓN COMPLETA
B22: COORDENADAS UTM (Incluir Plano)
B23: SUPERFICIE | I23: m2
B24: ACCESOS URBANIZADOS | G24: SI | H24: (Usar menu desplegable para elegir opción)
B25: DOTACIONES MÍNIMAS SOLAR URBANO | G25: SI
B29: 3.- NORMATIVA SECTORIAL DE APLICACIÓN SOBRE EL SOLAR
L30: AFECTA | M30: INCLUYE EN | P30: SI
L31: NORMATIVA | M31: PROYECTO | P31: NO
B32: PLANEAMIENTO VIGENTE (Requiere de Aprobación de Instrumentos de Planeamiento) | L32: SI | M32: NO
B33: AUTORIZACIÓN AVIACIÓN CIVIL (Helipuertos en Centros Sanitarios) | L33: NO | M33: SI
B34: AUTORIZACIÓN CONSEJERÍA CULTURA (BIC, Restos Arqueológicos, Patrimonio, etc…) | L34: NO | M34: SI
B35: AUTORIZACIÓN MEDIOAMBIENTE (Vía Pecuaria, Espacio Natural Protegido, ect…) | L35: SI | M35: SI
B36: AUTORIZACIÓN CONFEDERACIÓN HIDROGRÁFICA (Dominio público hidrográfico) | L36: SI | M36: SI
B37: AUTORIZACIÓN COSTAS (Dominio público costero y/o marino) | L37: SI | M37: SI
B38: AUTORIZACIÓN DIRECCIÓN GENERAL DE CARRETERAS MITMA (Dominio Público Viario) | L38: SI | M38: SI
B39: AUTORIZACIÓN DIRECCIÓN GENERAL DE INFRAESTRUCTURAS J.A. (Dominio Público Viario) | L39: SI | M39: SI
B40: SERVIDUMBRES DE PASO, DE USO SOBRE EL SOLAR | L40: SI | M40: SI
B41: LINEAS ELECTRICAS QUE TRANSCURREN POR EL SOLAR (Alta, Media o Baja Tensión que hay que trasladar) | L41: SI | M41: SI
B42: CONDUCCIONES DE AGUA POTABLE QUE REQUIEREN TRASLADO | L42: SI | M42: SI
B43: CONDUCCIONES DE AGUAS RESIDUALES QUE REQUIEREN TRASLADO | L43: NO | M43: SI
L44: (Usar menu desplegable para elegir opción)
B50: 4.- OBSERVACIONES.
J83: PROYECTISTA
J84: =+'1-OBRA COMPLETA'!C32 -> 0
I88: Fecha: | J88: =+'1-OBRA COMPLETA'!G32 -> 45225
B93: FICHA DE AFECCIONES SOBRE EL SOLAR | N93: 12
